{"text_format":"1","workbook":"xlsx","n_sheets":2,"sheets":["設定","task"],"not_rendered":{"charts":2,"images":0,"macros":1,"external_links":0,"defined_names":0,"comments":1,"pivot_tables":0},"unopened":[],"bounds":{"document_bytes":16777216,"sheet_cells":100000,"rows_first":2000,"rows_last":500,"rows_between":2000,"halvings":0,"cell_chars":16384,"cell_head_chars":4096},"cells_cut":0,"cells_raw":0,"read":"whole","date_system":"1900"}

{"sheet":"設定","index":0,"n_rows":20,"n_cols":7,"rows_kept":20,"cut":false,"hidden":false,"merged":[]}
["誕生日","1974-01-12",null,null,"4",{"$f":"SUMIFS(task!$G:$G,task!$D:$D,E1,task!$B:$B,task!$B$1)/60","v":0},1]
[null,null,null,null,"5",{"$f":"SUMIFS(task!$G:$G,task!$D:$D,E2,task!$B:$B,task!$B$1)/60","v":0},1]
[null,null,null,null,"6",{"$f":"SUMIFS(task!$G:$G,task!$D:$D,E3,task!$B:$B,task!$B$1)/60","v":1.25},1]
[null,null,null,null,"7",{"$f":"SUMIFS(task!$G:$G,task!$D:$D,E4,task!$B:$B,task!$B$1)/60","v":0.25},1]
[null,null,null,null,"8",{"$f":"SUMIFS(task!$G:$G,task!$D:$D,E5,task!$B:$B,task!$B$1)/60","v":0},1]
[null,null,null,null,"9",{"$f":"SUMIFS(task!$G:$G,task!$D:$D,E6,task!$B:$B,task!$B$1)/60","v":0},1]
[null,null,null,null,"10",{"$f":"SUMIFS(task!$G:$G,task!$D:$D,E7,task!$B:$B,task!$B$1)/60","v":0},1]
[null,null,null,null,"11",{"$f":"SUMIFS(task!$G:$G,task!$D:$D,E8,task!$B:$B,task!$B$1)/60","v":0},1]
[null,null,null,null,"12",{"$f":"SUMIFS(task!$G:$G,task!$D:$D,E9,task!$B:$B,task!$B$1)/60","v":1},1]
[null,null,null,null,"13",{"$f":"SUMIFS(task!$G:$G,task!$D:$D,E10,task!$B:$B,task!$B$1)/60","v":3},1]
[null,null,null,null,"14",{"$f":"SUMIFS(task!$G:$G,task!$D:$D,E11,task!$B:$B,task!$B$1)/60","v":0},1]
[null,null,null,null,"15",{"$f":"SUMIFS(task!$G:$G,task!$D:$D,E12,task!$B:$B,task!$B$1)/60","v":2},1]
[null,null,null,null,"16",{"$f":"SUMIFS(task!$G:$G,task!$D:$D,E13,task!$B:$B,task!$B$1)/60","v":1},1]
[null,null,null,null,"17",{"$f":"SUMIFS(task!$G:$G,task!$D:$D,E14,task!$B:$B,task!$B$1)/60","v":1},1]
[null,null,null,null,"18",{"$f":"SUMIFS(task!$G:$G,task!$D:$D,E15,task!$B:$B,task!$B$1)/60","v":0},1]
[null,null,null,null,"19",{"$f":"SUMIFS(task!$G:$G,task!$D:$D,E16,task!$B:$B,task!$B$1)/60","v":2.5},1]
[null,null,null,null,"20",{"$f":"SUMIFS(task!$G:$G,task!$D:$D,E17,task!$B:$B,task!$B$1)/60","v":0},1]
[null,null,null,null,"21",{"$f":"SUMIFS(task!$G:$G,task!$D:$D,E18,task!$B:$B,task!$B$1)/60","v":0},1]
[null,null,null,null,"22",{"$f":"SUMIFS(task!$G:$G,task!$D:$D,E19,task!$B:$B,task!$B$1)/60","v":0},1]
[null,null,null,null,"23",{"$f":"SUMIFS(task!$G:$G,task!$D:$D,E20,task!$B:$B,task!$B$1)/60","v":0},1]

{"sheet":"task","index":1,"n_rows":985,"n_cols":23,"rows_kept":985,"cut":false,"hidden":false,"merged":[]}
[null,"2017-06-24","生まれてから",{"$f":"TODAY()-設定!B1+1","v":15870},{"$f":"$B$1+1","v":"2017-06-25"},{"$f":"SUMIF($B:$B,$E1,$G:$G)/60","v":3.5},null,null,null,null,null,null,"Ctrl＋：　時刻入力","Ctrl＋i　黄色にする"]
[null,null,45,{"$f":"DATE(YEAR(設定!$B$1)+C2,MONTH(設定!$B$1),DAY(設定!$B$1))-TODAY()","v":567},{"$f":"$B$1+2","v":"2017-06-26"},{"$f":"SUMIF($B:$B,$E2,$G:$G)/60","v":4.166666666666667},null,null,null,null,null,null,"Ctrl＋方向キー　データの端まで移動"]
["現在時刻",{"$f":"NOW()","v":"2017-06-24T14:54:08.490"},60,{"$f":"DATE(YEAR(設定!$B$1)+C3,MONTH(設定!$B$1),DAY(設定!$B$1))-TODAY()","v":6046},{"$f":"$B$1+3","v":"2017-06-27"},{"$f":"SUMIF($B:$B,$E3,$G:$G)/60","v":0},null,null,null,null,null,null,"Ctrl＋S　保存",null,null,null,null,null,null,null,null,"2013-06-23"]
["終了予測",{"$f":"SUMIF(A:A,2,G:G)/60*TIMEVALUE(\"1:00\")+B3","v":"2017-06-25T00:24:08.490"},80,{"$f":"DATE(YEAR(設定!$B$1)+C4,MONTH(設定!$B$1),DAY(設定!$B$1))-TODAY()","v":13351},{"$f":"$B$1+4","v":"2017-06-28"},{"$f":"SUMIF($B:$B,$E4,$G:$G)/60","v":0},null,null,null,null,null,null,"Ctrl＋J　新規タスク追加"]
[null,null,null,null,{"$f":"$B$1+5","v":"2017-06-29"},{"$f":"SUMIF($B:$B,$E5,$G:$G)/60","v":0.25},null,null,null,null,null,null,"Ctrl＋K　タスク削除"]
[null,null,null,null,{"$f":"$B$1+6","v":"2017-06-30"},{"$f":"SUMIF($B:$B,$E6,$G:$G)/60","v":0},null,null,null,null,null,null,"Ctrl＋E　開始時間入力"]
[null,null,null,null,{"$f":"$B$1+7","v":"2017-07-01"},{"$f":"SUMIF($B:$B,$E7,$G:$G)/60","v":0.33333333333333331},null,null,null,null,null,null,"Ctrl＋Q　並べ替え",null,null,null,null,null,null,null,null,null,"2007-07-09"]
[null,null,null,null,null,null,null,null,null,null,null,null,"Ctrl＋B　コピー"]
["記号","月日","r","時間","チェック","タスク","見積（分）","実績（分）","差異","開始","終了",null,"Ctrl＋D　下方向にコピー"]
[{"$f":"IF(AND(B10=$B$1,K10=\"\"),\"２\",IF(AND(B10=$B$1,K10<>\"\"),\"１\",IF(B10>$B$1,\"３\",\"4\")))","v":"１"},"2017-06-24","d",6,"done!","朝食、SNSチェック",60,{"$f":"IF(OR(J10=\"\",K10=\"\"),\"\",(K10-J10)/TIMEVALUE(\"1:00\")*60)","v":90},{"$f":"IF(H10=\"\",\"\",G10-H10)","v":-30},"09:00:00","10:30:00"]
[{"$f":"IF(AND(B11=$B$1,K11=\"\"),\"２\",IF(AND(B11=$B$1,K11<>\"\"),\"１\",IF(B11>$B$1,\"３\",\"4\")))","v":"１"},"2017-06-24","d",7,"done!","タスク作成",15,{"$f":"IF(OR(J11=\"\",K11=\"\"),\"\",(K11-J11)/TIMEVALUE(\"1:00\")*60)","v":5.0000000000000622},{"$f":"IF(H11=\"\",\"\",G11-H11)","v":9.9999999999999378},"10:30:00","10:35:00"]
[{"$f":"IF(AND(B12=$B$1,K12=\"\"),\"２\",IF(AND(B12=$B$1,K12<>\"\"),\"１\",IF(B12>$B$1,\"３\",\"4\")))","v":"１"},"2017-06-24","d",12,"done!","ランチ、SNSチェック",60,{"$f":"IF(OR(J12=\"\",K12=\"\"),\"\",(K12-J12)/TIMEVALUE(\"1:00\")*60)","v":59.999999999999943},{"$f":"IF(H12=\"\",\"\",G12-H12)","v":5.6843418860808015E-14},"13:20:00","14:20:00"]
[{"$f":"IF(AND(B13=$B$1,K13=\"\"),\"２\",IF(AND(B13=$B$1,K13<>\"\"),\"１\",IF(B13>$B$1,\"３\",\"4\")))","v":"１"},"2017-06-24","d",6,"done!","経理処理、交通費記録",15,{"$f":"IF(OR(J13=\"\",K13=\"\"),\"\",(K13-J13)/TIMEVALUE(\"1:00\")*60)","v":4.9999999999999822},{"$f":"IF(H13=\"\",\"\",G13-H13)","v":10.000000000000018},"14:45:00","14:50:00"]
[{"$f":"IF(AND(B14=$B$1,K14=\"\"),\"２\",IF(AND(B14=$B$1,K14<>\"\"),\"１\",IF(B14>$B$1,\"３\",\"4\")))","v":"２"},"2017-06-24",null,13,null,"経営革新支援機関の検討",60,{"$f":"IF(OR(J14=\"\",K14=\"\"),\"\",(K14-J14)/TIMEVALUE(\"1:00\")*60)","v":""},{"$f":"IF(H14=\"\",\"\",G14-H14)","v":""}]
[{"$f":"IF(AND(B15=$B$1,K15=\"\"),\"２\",IF(AND(B15=$B$1,K15<>\"\"),\"１\",IF(B15>$B$1,\"３\",\"4\")))","v":"２"},"2017-06-24",null,13,null,"古江　原価計算（給与実績の確認）",120,{"$f":"IF(OR(J15=\"\",K15=\"\"),\"\",(K15-J15)/TIMEVALUE(\"1:00\")*60)","v":""},{"$f":"IF(H15=\"\",\"\",G15-H15)","v":""}]
[{"$f":"IF(AND(B16=$B$1,K16=\"\"),\"２\",IF(AND(B16=$B$1,K16<>\"\"),\"１\",IF(B16>$B$1,\"３\",\"4\")))","v":"２"},"2017-06-24","d",15,null,"ワニ氏セミナー視聴",120,{"$f":"IF(OR(J16=\"\",K16=\"\"),\"\",(K16-J16)/TIMEVALUE(\"1:00\")*60)","v":""},{"$f":"IF(H16=\"\",\"\",G16-H16)","v":""}]
[{"$f":"IF(AND(B17=$B$1,K17=\"\"),\"２\",IF(AND(B17=$B$1,K17<>\"\"),\"１\",IF(B17>$B$1,\"３\",\"4\")))","v":"２"},"2017-06-24",null,16,null,"dropboxファイル整理",60,{"$f":"IF(OR(J17=\"\",K17=\"\"),\"\",(K17-J17)/TIMEVALUE(\"1:00\")*60)","v":""},{"$f":"IF(H17=\"\",\"\",G17-H17)","v":""}]
[{"$f":"IF(AND(B18=$B$1,K18=\"\"),\"２\",IF(AND(B18=$B$1,K18<>\"\"),\"１\",IF(B18>$B$1,\"３\",\"4\")))","v":"２"},"2017-06-24",null,17,null,"小規模企業共済、確定拠出の検討",60,{"$f":"IF(OR(J18=\"\",K18=\"\"),\"\",(K18-J18)/TIMEVALUE(\"1:00\")*60)","v":""},{"$f":"IF(H18=\"\",\"\",G18-H18)","v":""}]
[{"$f":"IF(AND(B19=$B$1,K19=\"\"),\"２\",IF(AND(B19=$B$1,K19<>\"\"),\"１\",IF(B19>$B$1,\"３\",\"4\")))","v":"２"},"2017-06-24",null,19,null,"ウィルスソフトインストール",60,{"$f":"IF(OR(J19=\"\",K19=\"\"),\"\",(K19-J19)/TIMEVALUE(\"1:00\")*60)","v":""},{"$f":"IF(H19=\"\",\"\",G19-H19)","v":""}]
[{"$f":"IF(AND(B20=$B$1,K20=\"\"),\"２\",IF(AND(B20=$B$1,K20<>\"\"),\"１\",IF(B20>$B$1,\"３\",\"4\")))","v":"２"},"2017-06-24","d",19,null,"読書",30,{"$f":"IF(OR(J20=\"\",K20=\"\"),\"\",(K20-J20)/TIMEVALUE(\"1:00\")*60)","v":""},{"$f":"IF(H20=\"\",\"\",G20-H20)","v":""}]
[{"$f":"IF(AND(B21=$B$1,K21=\"\"),\"２\",IF(AND(B21=$B$1,K21<>\"\"),\"１\",IF(B21>$B$1,\"３\",\"4\")))","v":"２"},"2017-06-24","d",19,null,"夕食、SNSチェック",60,{"$f":"IF(OR(J21=\"\",K21=\"\"),\"\",(K21-J21)/TIMEVALUE(\"1:00\")*60)","v":""},{"$f":"IF(H21=\"\",\"\",G21-H21)","v":""}]
[{"$f":"IF(AND(B22=$B$1,K22=\"\"),\"２\",IF(AND(B22=$B$1,K22<>\"\"),\"１\",IF(B22>$B$1,\"３\",\"4\")))","v":"３"},"2017-06-25",null,23,null,"給与計算授業視聴（退職金）",60,{"$f":"IF(OR(J22=\"\",K22=\"\"),\"\",(K22-J22)/TIMEVALUE(\"1:00\")*60)","v":""},{"$f":"IF(H22=\"\",\"\",G22-H22)","v":""}]
[{"$f":"IF(AND(B23=$B$1,K23=\"\"),\"２\",IF(AND(B23=$B$1,K23<>\"\"),\"１\",IF(B23>$B$1,\"３\",\"4\")))","v":"３"},"2017-06-25","d",6,null,"経理処理、交通費記録",15,{"$f":"IF(OR(J23=\"\",K23=\"\"),\"\",(K23-J23)/TIMEVALUE(\"1:00\")*60)","v":""},{"$f":"IF(H23=\"\",\"\",G23-H23)","v":""}]
[{"$f":"IF(AND(B24=$B$1,K24=\"\"),\"２\",IF(AND(B24=$B$1,K24<>\"\"),\"１\",IF(B24>$B$1,\"３\",\"4\")))","v":"３"},"2017-06-25","d",6,null,"朝食、SNSチェック",60,{"$f":"IF(OR(J24=\"\",K24=\"\"),\"\",(K24-J24)/TIMEVALUE(\"1:00\")*60)","v":""},{"$f":"IF(H24=\"\",\"\",G24-H24)","v":""}]
[{"$f":"IF(AND(B25=$B$1,K25=\"\"),\"２\",IF(AND(B25=$B$1,K25<>\"\"),\"１\",IF(B25>$B$1,\"３\",\"4\")))","v":"３"},"2017-06-25","d",7,null,"タスク作成",15,{"$f":"IF(OR(J25=\"\",K25=\"\"),\"\",(K25-J25)/TIMEVALUE(\"1:00\")*60)","v":""},{"$f":"IF(H25=\"\",\"\",G25-H25)","v":""}]
[{"$f":"IF(AND(B26=$B$1,K26=\"\"),\"２\",IF(AND(B26=$B$1,K26<>\"\"),\"１\",IF(B26>$B$1,\"３\",\"4\")))","v":"３"},"2017-06-25","d",12,null,"ランチ、SNSチェック",60,{"$f":"IF(OR(J26=\"\",K26=\"\"),\"\",(K26-J26)/TIMEVALUE(\"1:00\")*60)","v":""},{"$f":"IF(H26=\"\",\"\",G26-H26)","v":""}]
[{"$f":"IF(AND(B27=$B$1,K27=\"\"),\"２\",IF(AND(B27=$B$1,K27<>\"\"),\"１\",IF(B27>$B$1,\"３\",\"4\")))","v":"３"},"2017-06-26","m",9,null,"6/26家賃振り込み（STコンサル）",10,{"$f":"IF(OR(J27=\"\",K27=\"\"),\"\",(K27-J27)/TIMEVALUE(\"1:00\")*60)","v":""},{"$f":"IF(H27=\"\",\"\",G27-H27)","v":""}]
[{"$f":"IF(AND(B28=$B$1,K28=\"\"),\"２\",IF(AND(B28=$B$1,K28<>\"\"),\"１\",IF(B28>$B$1,\"３\",\"4\")))","v":"３"},"2017-06-26","h",9,null,"gmail、yahooメールチェック（朝）",20,{"$f":"IF(OR(J28=\"\",K28=\"\"),\"\",(K28-J28)/TIMEVALUE(\"1:00\")*60)","v":""},{"$f":"IF(H28=\"\",\"\",G28-H28)","v":""}]
[{"$f":"IF(AND(B29=$B$1,K29=\"\"),\"２\",IF(AND(B29=$B$1,K29<>\"\"),\"１\",IF(B29>$B$1,\"３\",\"4\")))","v":"３"},"2017-06-26","h",10,null,"STCメールチェック対応午前",20,{"$f":"IF(OR(J29=\"\",K29=\"\"),\"\",(K29-J29)/TIMEVALUE(\"1:00\")*60)","v":""},{"$f":"IF(H29=\"\",\"\",G29-H29)","v":""}]
[{"$f":"IF(AND(B30=$B$1,K30=\"\"),\"２\",IF(AND(B30=$B$1,K30<>\"\"),\"１\",IF(B30>$B$1,\"３\",\"4\")))","v":"３"},"2017-06-26","h",11,null,"gmail、yahooメールチェック（午前）",10,{"$f":"IF(OR(J30=\"\",K30=\"\"),\"\",(K30-J30)/TIMEVALUE(\"1:00\")*60)","v":""},{"$f":"IF(H30=\"\",\"\",G30-H30)","v":""}]
[{"$f":"IF(AND(B31=$B$1,K31=\"\"),\"２\",IF(AND(B31=$B$1,K31<>\"\"),\"１\",IF(B31>$B$1,\"３\",\"4\")))","v":"３"},"2017-06-26","h",14,null,"gmail、yahooメールチェック（午後）",10,{"$f":"IF(OR(J31=\"\",K31=\"\"),\"\",(K31-J31)/TIMEVALUE(\"1:00\")*60)","v":""},{"$f":"IF(H31=\"\",\"\",G31-H31)","v":""}]
[{"$f":"IF(AND(B32=$B$1,K32=\"\"),\"２\",IF(AND(B32=$B$1,K32<>\"\"),\"１\",IF(B32>$B$1,\"３\",\"4\")))","v":"３"},"2017-06-26","h",14,null,"STCメールチェック対応午後",20,{"$f":"IF(OR(J32=\"\",K32=\"\"),\"\",(K32-J32)/TIMEVALUE(\"1:00\")*60)","v":""},{"$f":"IF(H32=\"\",\"\",G32-H32)","v":""}]
[{"$f":"IF(AND(B33=$B$1,K33=\"\"),\"２\",IF(AND(B33=$B$1,K33<>\"\"),\"１\",IF(B33>$B$1,\"３\",\"4\")))","v":"３"},"2017-06-26","h",17,null,"gmail、yahooメールチェック（夕方）",10,{"$f":"IF(OR(J33=\"\",K33=\"\"),\"\",(K33-J33)/TIMEVALUE(\"1:00\")*60)","v":""},{"$f":"IF(H33=\"\",\"\",G33-H33)","v":""}]
[{"$f":"IF(AND(B34=$B$1,K34=\"\"),\"２\",IF(AND(B34=$B$1,K34<>\"\"),\"１\",IF(B34>$B$1,\"３\",\"4\")))","v":"３"},"2017-06-26","h",17,null,"STCメールチェック対応ラスト",20,{"$f":"IF(OR(J34=\"\",K34=\"\"),\"\",(K34-J34)/TIMEVALUE(\"1:00\")*60)","v":""},{"$f":"IF(H34=\"\",\"\",G34-H34)","v":""}]
[{"$f":"IF(AND(B35=$B$1,K35=\"\"),\"２\",IF(AND(B35=$B$1,K35<>\"\"),\"１\",IF(B35>$B$1,\"３\",\"4\")))","v":"３"},"2017-06-26","h",20,null,"gmail、yahooメールチェック（夜）",10,{"$f":"IF(OR(J35=\"\",K35=\"\"),\"\",(K35-J35)/TIMEVALUE(\"1:00\")*60)","v":""},{"$f":"IF(H35=\"\",\"\",G35-H35)","v":""}]
[{"$f":"IF(AND(B36=$B$1,K36=\"\"),\"２\",IF(AND(B36=$B$1,K36<>\"\"),\"１\",IF(B36>$B$1,\"３\",\"4\")))","v":"３"},"2017-06-26","h",21,null,"ブログ更新",120,{"$f":"IF(OR(J36=\"\",K36=\"\"),\"\",(K36-J36)/TIMEVALUE(\"1:00\")*60)","v":""},{"$f":"IF(H36=\"\",\"\",G36-H36)","v":""}]
[{"$f":"IF(AND(B37=$B$1,K37=\"\"),\"２\",IF(AND(B37=$B$1,K37<>\"\"),\"１\",IF(B37>$B$1,\"３\",\"4\")))","v":"３"},"2017-06-29","m",9,null,"STコンサルから給与振込",15,{"$f":"IF(OR(J37=\"\",K37=\"\"),\"\",(K37-J37)/TIMEVALUE(\"1:00\")*60)","v":""},{"$f":"IF(H37=\"\",\"\",G37-H37)","v":""}]
[{"$f":"IF(AND(B38=$B$1,K38=\"\"),\"２\",IF(AND(B38=$B$1,K38<>\"\"),\"１\",IF(B38>$B$1,\"３\",\"4\")))","v":"３"},"2017-07-01","m",13,null,"STC請求書作成、送付",20,{"$f":"IF(OR(J38=\"\",K38=\"\"),\"\",(K38-J38)/TIMEVALUE(\"1:00\")*60)","v":""},{"$f":"IF(H38=\"\",\"\",G38-H38)","v":""}]
[{"$f":"IF(AND(B39=$B$1,K39=\"\"),\"２\",IF(AND(B39=$B$1,K39<>\"\"),\"１\",IF(B39>$B$1,\"３\",\"4\")))","v":"３"},"2017-07-14","m",9,null,"子会社請求書作成、送付",40,{"$f":"IF(OR(J39=\"\",K39=\"\"),\"\",(K39-J39)/TIMEVALUE(\"1:00\")*60)","v":""},{"$f":"IF(H39=\"\",\"\",G39-H39)","v":""}]
[{"$f":"IF(AND(B40=$B$1,K40=\"\"),\"２\",IF(AND(B40=$B$1,K40<>\"\"),\"１\",IF(B40>$B$1,\"３\",\"4\")))","v":"4"},"2017-04-05","d",6,"done!","朝食、SNSチェック",60,{"$f":"IF(OR(J40=\"\",K40=\"\"),\"\",(K40-J40)/TIMEVALUE(\"1:00\")*60)","v":29.999999999999972},{"$f":"IF(H40=\"\",\"\",G40-H40)","v":30.000000000000028},"06:15:00","06:45:00"]
[{"$f":"IF(AND(B41=$B$1,K41=\"\"),\"２\",IF(AND(B41=$B$1,K41<>\"\"),\"１\",IF(B41>$B$1,\"３\",\"4\")))","v":"4"},"2017-04-05",null,6,"done!","STC移動",90,{"$f":"IF(OR(J41=\"\",K41=\"\"),\"\",(K41-J41)/TIMEVALUE(\"1:00\")*60)","v":90},{"$f":"IF(H41=\"\",\"\",G41-H41)","v":0},"06:45:00","08:15:00"]
[{"$f":"IF(AND(B42=$B$1,K42=\"\"),\"２\",IF(AND(B42=$B$1,K42<>\"\"),\"１\",IF(B42>$B$1,\"３\",\"4\")))","v":"4"},"2017-04-05",null,6,"done!","高野さん打ち合わせ",30,{"$f":"IF(OR(J42=\"\",K42=\"\"),\"\",(K42-J42)/TIMEVALUE(\"1:00\")*60)","v":21.000000000000007},{"$f":"IF(H42=\"\",\"\",G42-H42)","v":8.9999999999999929},"08:15:00","08:36:00"]
[{"$f":"IF(AND(B43=$B$1,K43=\"\"),\"２\",IF(AND(B43=$B$1,K43<>\"\"),\"１\",IF(B43>$B$1,\"３\",\"4\")))","v":"4"},"2017-04-05","d",8,"done!","タスク作成、メール整理（gmail、yahoo）",30,{"$f":"IF(OR(J43=\"\",K43=\"\"),\"\",(K43-J43)/TIMEVALUE(\"1:00\")*60)","v":18.999999999999932},{"$f":"IF(H43=\"\",\"\",G43-H43)","v":11.000000000000068},"08:36:00","08:55:00"]
[{"$f":"IF(AND(B44=$B$1,K44=\"\"),\"２\",IF(AND(B44=$B$1,K44<>\"\"),\"１\",IF(B44>$B$1,\"３\",\"4\")))","v":"4"},"2017-04-05",null,9,"done!","見積実効税率の計算、承認",60,{"$f":"IF(OR(J44=\"\",K44=\"\"),\"\",(K44-J44)/TIMEVALUE(\"1:00\")*60)","v":30.000000000000053},{"$f":"IF(H44=\"\",\"\",G44-H44)","v":29.999999999999947},"08:55:00","09:25:00"]
[{"$f":"IF(AND(B45=$B$1,K45=\"\"),\"２\",IF(AND(B45=$B$1,K45<>\"\"),\"１\",IF(B45>$B$1,\"３\",\"4\")))","v":"4"},"2017-04-05","h",11,"done!","gmail、yahooメールチェック（午前）",10,{"$f":"IF(OR(J45=\"\",K45=\"\"),\"\",(K45-J45)/TIMEVALUE(\"1:00\")*60)","v":4.9999999999999822},{"$f":"IF(H45=\"\",\"\",G45-H45)","v":5.0000000000000178},"09:25:00","09:30:00"]
[{"$f":"IF(AND(B46=$B$1,K46=\"\"),\"２\",IF(AND(B46=$B$1,K46<>\"\"),\"１\",IF(B46>$B$1,\"３\",\"4\")))","v":"4"},"2017-04-05",null,10,"done!","回覧物確認（午前）",20,{"$f":"IF(OR(J46=\"\",K46=\"\"),\"\",(K46-J46)/TIMEVALUE(\"1:00\")*60)","v":60.000000000000028},{"$f":"IF(H46=\"\",\"\",G46-H46)","v":-40.000000000000028},"09:30:00","10:30:00"]
[{"$f":"IF(AND(B47=$B$1,K47=\"\"),\"２\",IF(AND(B47=$B$1,K47<>\"\"),\"１\",IF(B47>$B$1,\"３\",\"4\")))","v":"4"},"2017-04-05",null,10,"done!","ルフト連結RP作成(午前)",60,{"$f":"IF(OR(J47=\"\",K47=\"\"),\"\",(K47-J47)/TIMEVALUE(\"1:00\")*60)","v":60.000000000000028},{"$f":"IF(H47=\"\",\"\",G47-H47)","v":-2.8421709430404007E-14},"11:00:00","12:00:00"]
[{"$f":"IF(AND(B48=$B$1,K48=\"\"),\"２\",IF(AND(B48=$B$1,K48<>\"\"),\"１\",IF(B48>$B$1,\"３\",\"4\")))","v":"4"},"2017-04-05","d",12,"done!","ランチ、SNSチェック",60,{"$f":"IF(OR(J48=\"\",K48=\"\"),\"\",(K48-J48)/TIMEVALUE(\"1:00\")*60)","v":45},{"$f":"IF(H48=\"\",\"\",G48-H48)","v":15},"12:00:00","12:45:00"]
[{"$f":"IF(AND(B49=$B$1,K49=\"\"),\"２\",IF(AND(B49=$B$1,K49<>\"\"),\"１\",IF(B49>$B$1,\"３\",\"4\")))","v":"4"},"2017-04-05",null,13,"done!","日本ルフトへ移動",30,{"$f":"IF(OR(J49=\"\",K49=\"\"),\"\",(K49-J49)/TIMEVALUE(\"1:00\")*60)","v":30.000000000000053},{"$f":"IF(H49=\"\",\"\",G49-H49)","v":-5.3290705182007514E-14},"13:00:00","13:30:00"]
[{"$f":"IF(AND(B50=$B$1,K50=\"\"),\"２\",IF(AND(B50=$B$1,K50<>\"\"),\"１\",IF(B50>$B$1,\"３\",\"4\")))","v":"4"},"2017-04-05",null,13,"done!","日本ルフト打ち合わせ",120,{"$f":"IF(OR(J50=\"\",K50=\"\"),\"\",(K50-J50)/TIMEVALUE(\"1:00\")*60)","v":210.00000000000006},{"$f":"IF(H50=\"\",\"\",G50-H50)","v":-90.000000000000057},"13:30:00","17:00:00"]
[{"$f":"IF(AND(B51=$B$1,K51=\"\"),\"２\",IF(AND(B51=$B$1,K51<>\"\"),\"１\",IF(B51>$B$1,\"３\",\"4\")))","v":"4"},"2017-04-05",null,16,"done!","日本ルフトから移動",30,{"$f":"IF(OR(J51=\"\",K51=\"\"),\"\",(K51-J51)/TIMEVALUE(\"1:00\")*60)","v":29.999999999999893},{"$f":"IF(H51=\"\",\"\",G51-H51)","v":1.0658141036401503E-13},"17:00:00","17:30:00"]
[{"$f":"IF(AND(B52=$B$1,K52=\"\"),\"２\",IF(AND(B52=$B$1,K52<>\"\"),\"１\",IF(B52>$B$1,\"３\",\"4\")))","v":"4"},"2017-04-05","h",14,"done!","gmail、yahooメールチェック（午後）",10,{"$f":"IF(OR(J52=\"\",K52=\"\"),\"\",(K52-J52)/TIMEVALUE(\"1:00\")*60)","v":10.000000000000124},{"$f":"IF(H52=\"\",\"\",G52-H52)","v":-1.2434497875801753E-13},"17:30:00","17:40:00"]
[{"$f":"IF(AND(B53=$B$1,K53=\"\"),\"２\",IF(AND(B53=$B$1,K53<>\"\"),\"１\",IF(B53>$B$1,\"３\",\"4\")))","v":"4"},"2017-04-05",null,17,"done!","STC　PC整理",30,{"$f":"IF(OR(J53=\"\",K53=\"\"),\"\",(K53-J53)/TIMEVALUE(\"1:00\")*60)","v":9.9999999999999645},{"$f":"IF(H53=\"\",\"\",G53-H53)","v":20.000000000000036},"18:30:00","18:40:00"]
[{"$f":"IF(AND(B54=$B$1,K54=\"\"),\"２\",IF(AND(B54=$B$1,K54<>\"\"),\"１\",IF(B54>$B$1,\"３\",\"4\")))","v":"4"},"2017-04-05",null,11,"done!","STC消費税チェック",90,{"$f":"IF(OR(J54=\"\",K54=\"\"),\"\",(K54-J54)/TIMEVALUE(\"1:00\")*60)","v":12.999999999999954},{"$f":"IF(H54=\"\",\"\",G54-H54)","v":77.000000000000043},"18:40:00","18:53:00"]
[{"$f":"IF(AND(B55=$B$1,K55=\"\"),\"２\",IF(AND(B55=$B$1,K55<>\"\"),\"１\",IF(B55>$B$1,\"３\",\"4\")))","v":"4"},"2017-04-05","h",17,"done!","gmail、yahooメールチェック（夕方）",10,{"$f":"IF(OR(J55=\"\",K55=\"\"),\"\",(K55-J55)/TIMEVALUE(\"1:00\")*60)","v":6.9999999999999751},{"$f":"IF(H55=\"\",\"\",G55-H55)","v":3.0000000000000249},"18:53:00","19:00:00"]
[{"$f":"IF(AND(B56=$B$1,K56=\"\"),\"２\",IF(AND(B56=$B$1,K56<>\"\"),\"１\",IF(B56>$B$1,\"３\",\"4\")))","v":"4"},"2017-04-05",null,19,"done!","STCから帰宅",90,{"$f":"IF(OR(J56=\"\",K56=\"\"),\"\",(K56-J56)/TIMEVALUE(\"1:00\")*60)","v":120.00000000000006},{"$f":"IF(H56=\"\",\"\",G56-H56)","v":-30.000000000000057},"19:30:00","21:30:00"]
[{"$f":"IF(AND(B57=$B$1,K57=\"\"),\"２\",IF(AND(B57=$B$1,K57<>\"\"),\"１\",IF(B57>$B$1,\"３\",\"4\")))","v":"4"},"2017-04-05","h",19,"done!","gmail、yahooメールチェック（夜）",10,{"$f":"IF(OR(J57=\"\",K57=\"\"),\"\",(K57-J57)/TIMEVALUE(\"1:00\")*60)","v":14.999999999999947},{"$f":"IF(H57=\"\",\"\",G57-H57)","v":-4.9999999999999467},"21:30:00","21:45:00"]
[{"$f":"IF(AND(B58=$B$1,K58=\"\"),\"２\",IF(AND(B58=$B$1,K58<>\"\"),\"１\",IF(B58>$B$1,\"３\",\"4\")))","v":"4"},"2017-04-05","d",19,"done!","夕食、SNSチェック",60,{"$f":"IF(OR(J58=\"\",K58=\"\"),\"\",(K58-J58)/TIMEVALUE(\"1:00\")*60)","v":45},{"$f":"IF(H58=\"\",\"\",G58-H58)","v":15},"21:45:00","22:30:00"]
[{"$f":"IF(AND(B59=$B$1,K59=\"\"),\"２\",IF(AND(B59=$B$1,K59<>\"\"),\"１\",IF(B59>$B$1,\"３\",\"4\")))","v":"4"},"2017-04-05","h",21,"done!","ブログ更新",90,{"$f":"IF(OR(J59=\"\",K59=\"\"),\"\",(K59-J59)/TIMEVALUE(\"1:00\")*60)","v":90},{"$f":"IF(H59=\"\",\"\",G59-H59)","v":0},"22:30:00",1]
[{"$f":"IF(AND(B60=$B$1,K60=\"\"),\"２\",IF(AND(B60=$B$1,K60<>\"\"),\"１\",IF(B60>$B$1,\"３\",\"4\")))","v":"4"},"2017-04-06","d",6,"done!","朝食、SNSチェック",60,{"$f":"IF(OR(J60=\"\",K60=\"\"),\"\",(K60-J60)/TIMEVALUE(\"1:00\")*60)","v":70.000000000000071},{"$f":"IF(H60=\"\",\"\",G60-H60)","v":-10.000000000000071},"07:10:00","08:20:00"]
[{"$f":"IF(AND(B61=$B$1,K61=\"\"),\"２\",IF(AND(B61=$B$1,K61<>\"\"),\"１\",IF(B61>$B$1,\"３\",\"4\")))","v":"4"},"2017-04-06","d",8,"done!","タスク作成",15,{"$f":"IF(OR(J61=\"\",K61=\"\"),\"\",(K61-J61)/TIMEVALUE(\"1:00\")*60)","v":19.999999999999929},{"$f":"IF(H61=\"\",\"\",G61-H61)","v":-4.9999999999999289},"08:20:00","08:40:00"]
[{"$f":"IF(AND(B62=$B$1,K62=\"\"),\"２\",IF(AND(B62=$B$1,K62<>\"\"),\"１\",IF(B62>$B$1,\"３\",\"4\")))","v":"4"},"2017-04-06","h",8,"done!","gmail、yahooメールチェック（朝）",10,{"$f":"IF(OR(J62=\"\",K62=\"\"),\"\",(K62-J62)/TIMEVALUE(\"1:00\")*60)","v":6.0000000000000586},{"$f":"IF(H62=\"\",\"\",G62-H62)","v":3.9999999999999414},"08:40:00","08:46:00"]
[{"$f":"IF(AND(B63=$B$1,K63=\"\"),\"２\",IF(AND(B63=$B$1,K63<>\"\"),\"１\",IF(B63>$B$1,\"３\",\"4\")))","v":"4"},"2017-04-06","h",10,"done!","STCメールチェック対応午前",20,{"$f":"IF(OR(J63=\"\",K63=\"\"),\"\",(K63-J63)/TIMEVALUE(\"1:00\")*60)","v":9.9999999999999645},{"$f":"IF(H63=\"\",\"\",G63-H63)","v":10.000000000000036},"09:20:00","09:30:00"]
[{"$f":"IF(AND(B64=$B$1,K64=\"\"),\"２\",IF(AND(B64=$B$1,K64<>\"\"),\"１\",IF(B64>$B$1,\"３\",\"4\")))","v":"4"},"2017-04-06",null,13,"done!","東京バーディ連絡",5,{"$f":"IF(OR(J64=\"\",K64=\"\"),\"\",(K64-J64)/TIMEVALUE(\"1:00\")*60)","v":4.9999999999999023},{"$f":"IF(H64=\"\",\"\",G64-H64)","v":9.7699626167013776E-14},"09:35:00","09:40:00"]
[{"$f":"IF(AND(B65=$B$1,K65=\"\"),\"２\",IF(AND(B65=$B$1,K65<>\"\"),\"１\",IF(B65>$B$1,\"３\",\"4\")))","v":"4"},"2017-04-06",null,9,"done!","トレーニングへ移動、SNS",60,{"$f":"IF(OR(J65=\"\",K65=\"\"),\"\",(K65-J65)/TIMEVALUE(\"1:00\")*60)","v":58.99999999999995},{"$f":"IF(H65=\"\",\"\",G65-H65)","v":1.0000000000000497},"08:46:00","09:45:00"]
[{"$f":"IF(AND(B66=$B$1,K66=\"\"),\"２\",IF(AND(B66=$B$1,K66<>\"\"),\"１\",IF(B66>$B$1,\"３\",\"4\")))","v":"4"},"2017-04-06",null,10,"done!","トレーニング",75,{"$f":"IF(OR(J66=\"\",K66=\"\"),\"\",(K66-J66)/TIMEVALUE(\"1:00\")*60)","v":65.000000000000014},{"$f":"IF(H66=\"\",\"\",G66-H66)","v":9.9999999999999858},"09:45:00","10:50:00"]
[{"$f":"IF(AND(B67=$B$1,K67=\"\"),\"２\",IF(AND(B67=$B$1,K67<>\"\"),\"１\",IF(B67>$B$1,\"３\",\"4\")))","v":"4"},"2017-04-06",null,11,"done!","トレーニングから帰宅",60,{"$f":"IF(OR(J67=\"\",K67=\"\"),\"\",(K67-J67)/TIMEVALUE(\"1:00\")*60)","v":64.999999999999929},{"$f":"IF(H67=\"\",\"\",G67-H67)","v":-4.9999999999999289},"10:50:00","11:55:00"]
[{"$f":"IF(AND(B68=$B$1,K68=\"\"),\"２\",IF(AND(B68=$B$1,K68<>\"\"),\"１\",IF(B68>$B$1,\"３\",\"4\")))","v":"4"},"2017-04-06","h",11,"done!","gmail、yahooメールチェック（午前）",10,{"$f":"IF(OR(J68=\"\",K68=\"\"),\"\",(K68-J68)/TIMEVALUE(\"1:00\")*60)","v":33.000000000000121},{"$f":"IF(H68=\"\",\"\",G68-H68)","v":-23.000000000000121},"11:55:00","12:28:00"]
[{"$f":"IF(AND(B69=$B$1,K69=\"\"),\"２\",IF(AND(B69=$B$1,K69<>\"\"),\"１\",IF(B69>$B$1,\"３\",\"4\")))","v":"4"},"2017-04-06","d",12,"done!","ランチ、SNSチェック",60,{"$f":"IF(OR(J69=\"\",K69=\"\"),\"\",(K69-J69)/TIMEVALUE(\"1:00\")*60)","v":86.999999999999858},{"$f":"IF(H69=\"\",\"\",G69-H69)","v":-26.999999999999858},"12:28:00","13:55:00"]
[{"$f":"IF(AND(B70=$B$1,K70=\"\"),\"２\",IF(AND(B70=$B$1,K70<>\"\"),\"１\",IF(B70>$B$1,\"３\",\"4\")))","v":"4"},"2017-04-06","h",14,"done!","gmail、yahooメールチェック（午後）",10,{"$f":"IF(OR(J70=\"\",K70=\"\"),\"\",(K70-J70)/TIMEVALUE(\"1:00\")*60)","v":1.0000000000001563},{"$f":"IF(H70=\"\",\"\",G70-H70)","v":8.9999999999998437},"13:55:00","13:56:00"]
[{"$f":"IF(AND(B71=$B$1,K71=\"\"),\"２\",IF(AND(B71=$B$1,K71<>\"\"),\"１\",IF(B71>$B$1,\"３\",\"4\")))","v":"4"},"2017-04-06","h",14,"done!","STCメールチェック対応午後",20,{"$f":"IF(OR(J71=\"\",K71=\"\"),\"\",(K71-J71)/TIMEVALUE(\"1:00\")*60)","v":2.9999999999998295},{"$f":"IF(H71=\"\",\"\",G71-H71)","v":17.000000000000171},"13:56:00","13:59:00"]
[{"$f":"IF(AND(B72=$B$1,K72=\"\"),\"２\",IF(AND(B72=$B$1,K72<>\"\"),\"１\",IF(B72>$B$1,\"３\",\"4\")))","v":"4"},"2017-04-06","d",10,"done!","給与計算授業視聴",120,{"$f":"IF(OR(J72=\"\",K72=\"\"),\"\",(K72-J72)/TIMEVALUE(\"1:00\")*60)","v":86.000000000000014},{"$f":"IF(H72=\"\",\"\",G72-H72)","v":33.999999999999986},"13:59:00","15:25:00"]
[{"$f":"IF(AND(B73=$B$1,K73=\"\"),\"２\",IF(AND(B73=$B$1,K73<>\"\"),\"１\",IF(B73>$B$1,\"３\",\"4\")))","v":"4"},"2017-04-06","d",18,"done!","交通費記録",5,{"$f":"IF(OR(J73=\"\",K73=\"\"),\"\",(K73-J73)/TIMEVALUE(\"1:00\")*60)","v":3.9999999999999858},{"$f":"IF(H73=\"\",\"\",G73-H73)","v":1.0000000000000142},"15:25:00","15:29:00"]
[{"$f":"IF(AND(B74=$B$1,K74=\"\"),\"２\",IF(AND(B74=$B$1,K74<>\"\"),\"１\",IF(B74>$B$1,\"３\",\"4\")))","v":"4"},"2017-04-06","h",17,"done!","STCメールチェック対応ラスト",20,{"$f":"IF(OR(J74=\"\",K74=\"\"),\"\",(K74-J74)/TIMEVALUE(\"1:00\")*60)","v":15.000000000000107},{"$f":"IF(H74=\"\",\"\",G74-H74)","v":4.9999999999998934},"16:45:00","17:00:00"]
[{"$f":"IF(AND(B75=$B$1,K75=\"\"),\"２\",IF(AND(B75=$B$1,K75<>\"\"),\"１\",IF(B75>$B$1,\"３\",\"4\")))","v":"4"},"2017-04-06","h",17,"done!","gmail、yahooメールチェック（夕方）",10,{"$f":"IF(OR(J75=\"\",K75=\"\"),\"\",(K75-J75)/TIMEVALUE(\"1:00\")*60)","v":9.9999999999999645},{"$f":"IF(H75=\"\",\"\",G75-H75)","v":3.5527136788005009E-14},"17:00:00","17:10:00"]
[{"$f":"IF(AND(B76=$B$1,K76=\"\"),\"２\",IF(AND(B76=$B$1,K76<>\"\"),\"１\",IF(B76>$B$1,\"３\",\"4\")))","v":"4"},"2017-04-06","d",19,"done!","夕食、SNSチェック",60,{"$f":"IF(OR(J76=\"\",K76=\"\"),\"\",(K76-J76)/TIMEVALUE(\"1:00\")*60)","v":99.999999999999801},{"$f":"IF(H76=\"\",\"\",G76-H76)","v":-39.999999999999801},"19:10:00","20:50:00"]
[{"$f":"IF(AND(B77=$B$1,K77=\"\"),\"２\",IF(AND(B77=$B$1,K77<>\"\"),\"１\",IF(B77>$B$1,\"３\",\"4\")))","v":"4"},"2017-04-06","h",19,"done!","gmail、yahooメールチェック（夜）",10,{"$f":"IF(OR(J77=\"\",K77=\"\"),\"\",(K77-J77)/TIMEVALUE(\"1:00\")*60)","v":10.000000000000124},{"$f":"IF(H77=\"\",\"\",G77-H77)","v":-1.2434497875801753E-13},"20:50:00","21:00:00"]
[{"$f":"IF(AND(B78=$B$1,K78=\"\"),\"２\",IF(AND(B78=$B$1,K78<>\"\"),\"１\",IF(B78>$B$1,\"３\",\"4\")))","v":"4"},"2017-04-06","h",21,"done!","ブログ更新",90,{"$f":"IF(OR(J78=\"\",K78=\"\"),\"\",(K78-J78)/TIMEVALUE(\"1:00\")*60)","v":100.00000000000013},{"$f":"IF(H78=\"\",\"\",G78-H78)","v":-10.000000000000128},"21:00:00","22:40:00"]
[{"$f":"IF(AND(B79=$B$1,K79=\"\"),\"２\",IF(AND(B79=$B$1,K79<>\"\"),\"１\",IF(B79>$B$1,\"３\",\"4\")))","v":"4"},"2017-04-07","h",8,"done!","gmail、yahooメールチェック（朝）",10,{"$f":"IF(OR(J79=\"\",K79=\"\"),\"\",(K79-J79)/TIMEVALUE(\"1:00\")*60)","v":11.999999999999957},{"$f":"IF(H79=\"\",\"\",G79-H79)","v":-1.9999999999999574},"07:10:00","07:22:00"]
[{"$f":"IF(AND(B80=$B$1,K80=\"\"),\"２\",IF(AND(B80=$B$1,K80<>\"\"),\"１\",IF(B80>$B$1,\"３\",\"4\")))","v":"4"},"2017-04-07","d",6,"done!","朝食、SNSチェック",60,{"$f":"IF(OR(J80=\"\",K80=\"\"),\"\",(K80-J80)/TIMEVALUE(\"1:00\")*60)","v":43.000000000000085},{"$f":"IF(H80=\"\",\"\",G80-H80)","v":16.999999999999915},"07:22:00","08:05:00"]
[{"$f":"IF(AND(B81=$B$1,K81=\"\"),\"２\",IF(AND(B81=$B$1,K81<>\"\"),\"１\",IF(B81>$B$1,\"３\",\"4\")))","v":"4"},"2017-04-07","d",8,"done!","タスク作成",15,{"$f":"IF(OR(J81=\"\",K81=\"\"),\"\",(K81-J81)/TIMEVALUE(\"1:00\")*60)","v":17.000000000000021},{"$f":"IF(H81=\"\",\"\",G81-H81)","v":-2.0000000000000213},"08:05:00","08:22:00"]
[{"$f":"IF(AND(B82=$B$1,K82=\"\"),\"２\",IF(AND(B82=$B$1,K82<>\"\"),\"１\",IF(B82>$B$1,\"３\",\"4\")))","v":"4"},"2017-04-07","h",10,"done!","STCメールチェック対応午前",20,{"$f":"IF(OR(J82=\"\",K82=\"\"),\"\",(K82-J82)/TIMEVALUE(\"1:00\")*60)","v":9.9999999999999645},{"$f":"IF(H82=\"\",\"\",G82-H82)","v":10.000000000000036},"10:30:00","10:40:00"]
[{"$f":"IF(AND(B83=$B$1,K83=\"\"),\"２\",IF(AND(B83=$B$1,K83<>\"\"),\"１\",IF(B83>$B$1,\"３\",\"4\")))","v":"4"},"2017-04-07",null,9,"done!","三洋テクノス訪問（給与計算関係）",210,{"$f":"IF(OR(J83=\"\",K83=\"\"),\"\",(K83-J83)/TIMEVALUE(\"1:00\")*60)","v":189.99999999999997},{"$f":"IF(H83=\"\",\"\",G83-H83)","v":20.000000000000028},"09:00:00","12:10:00"]
[{"$f":"IF(AND(B84=$B$1,K84=\"\"),\"２\",IF(AND(B84=$B$1,K84<>\"\"),\"１\",IF(B84>$B$1,\"３\",\"4\")))","v":"4"},"2017-04-07","h",11,"done!","gmail、yahooメールチェック（午前）",10,{"$f":"IF(OR(J84=\"\",K84=\"\"),\"\",(K84-J84)/TIMEVALUE(\"1:00\")*60)","v":14.999999999999947},{"$f":"IF(H84=\"\",\"\",G84-H84)","v":-4.9999999999999467},"12:10:00","12:25:00"]
[{"$f":"IF(AND(B85=$B$1,K85=\"\"),\"２\",IF(AND(B85=$B$1,K85<>\"\"),\"１\",IF(B85>$B$1,\"３\",\"4\")))","v":"4"},"2017-04-07","d",12,"done!","ランチ、SNSチェック",60,{"$f":"IF(OR(J85=\"\",K85=\"\"),\"\",(K85-J85)/TIMEVALUE(\"1:00\")*60)","v":50.000000000000142},{"$f":"IF(H85=\"\",\"\",G85-H85)","v":9.9999999999998579},"12:25:00","13:15:00"]
[{"$f":"IF(AND(B86=$B$1,K86=\"\"),\"２\",IF(AND(B86=$B$1,K86<>\"\"),\"１\",IF(B86>$B$1,\"３\",\"4\")))","v":"4"},"2017-04-07","h",14,"done!","gmail、yahooメールチェック（午後）",10,{"$f":"IF(OR(J86=\"\",K86=\"\"),\"\",(K86-J86)/TIMEVALUE(\"1:00\")*60)","v":9.9999999999999645},{"$f":"IF(H86=\"\",\"\",G86-H86)","v":3.5527136788005009E-14},"15:15:00","15:25:00"]
[{"$f":"IF(AND(B87=$B$1,K87=\"\"),\"２\",IF(AND(B87=$B$1,K87<>\"\"),\"１\",IF(B87>$B$1,\"３\",\"4\")))","v":"4"},"2017-04-07","h",14,"done!","STCメールチェック対応午後",20,{"$f":"IF(OR(J87=\"\",K87=\"\"),\"\",(K87-J87)/TIMEVALUE(\"1:00\")*60)","v":3.0000000000001492},{"$f":"IF(H87=\"\",\"\",G87-H87)","v":16.999999999999851},"15:25:00","15:28:00"]
[{"$f":"IF(AND(B88=$B$1,K88=\"\"),\"２\",IF(AND(B88=$B$1,K88<>\"\"),\"１\",IF(B88>$B$1,\"３\",\"4\")))","v":"4"},"2017-04-07",null,14,"done!","税務調査対策のDVD視聴",120,{"$f":"IF(OR(J88=\"\",K88=\"\"),\"\",(K88-J88)/TIMEVALUE(\"1:00\")*60)","v":210.00000000000006},{"$f":"IF(H88=\"\",\"\",G88-H88)","v":-90.000000000000057},"13:30:00","17:00:00"]
[{"$f":"IF(AND(B89=$B$1,K89=\"\"),\"２\",IF(AND(B89=$B$1,K89<>\"\"),\"１\",IF(B89>$B$1,\"３\",\"4\")))","v":"4"},"2017-04-07","h",17,"done!","gmail、yahooメールチェック（夕方）",10,{"$f":"IF(OR(J89=\"\",K89=\"\"),\"\",(K89-J89)/TIMEVALUE(\"1:00\")*60)","v":4.9999999999998224},{"$f":"IF(H89=\"\",\"\",G89-H89)","v":5.0000000000001776},"17:00:00","17:05:00"]
[{"$f":"IF(AND(B90=$B$1,K90=\"\"),\"２\",IF(AND(B90=$B$1,K90<>\"\"),\"１\",IF(B90>$B$1,\"３\",\"4\")))","v":"4"},"2017-04-07","h",17,"done!","STCメールチェック対応ラスト",20,{"$f":"IF(OR(J90=\"\",K90=\"\"),\"\",(K90-J90)/TIMEVALUE(\"1:00\")*60)","v":10.000000000000124},{"$f":"IF(H90=\"\",\"\",G90-H90)","v":9.9999999999998757},"17:05:00","17:15:00"]
[{"$f":"IF(AND(B91=$B$1,K91=\"\"),\"２\",IF(AND(B91=$B$1,K91<>\"\"),\"１\",IF(B91>$B$1,\"３\",\"4\")))","v":"4"},"2017-04-07",null,17,"done!","STC電話（在庫表の到着状況確認）",5,{"$f":"IF(OR(J91=\"\",K91=\"\"),\"\",(K91-J91)/TIMEVALUE(\"1:00\")*60)","v":10.000000000000124},{"$f":"IF(H91=\"\",\"\",G91-H91)","v":-5.0000000000001243},"17:15:00","17:25:00"]
[{"$f":"IF(AND(B92=$B$1,K92=\"\"),\"２\",IF(AND(B92=$B$1,K92<>\"\"),\"１\",IF(B92>$B$1,\"３\",\"4\")))","v":"4"},"2017-04-07","d",19,"done!","夕食、SNSチェック",60,{"$f":"IF(OR(J92=\"\",K92=\"\"),\"\",(K92-J92)/TIMEVALUE(\"1:00\")*60)","v":45},{"$f":"IF(H92=\"\",\"\",G92-H92)","v":15},"20:00:00","20:45:00"]
[{"$f":"IF(AND(B93=$B$1,K93=\"\"),\"２\",IF(AND(B93=$B$1,K93<>\"\"),\"１\",IF(B93>$B$1,\"３\",\"4\")))","v":"4"},"2017-04-07","h",21,"done!","ブログ更新",90,{"$f":"IF(OR(J93=\"\",K93=\"\"),\"\",(K93-J93)/TIMEVALUE(\"1:00\")*60)","v":109.99999999999993},{"$f":"IF(H93=\"\",\"\",G93-H93)","v":-19.999999999999929},"20:45:00","22:35:00"]
[{"$f":"IF(AND(B94=$B$1,K94=\"\"),\"２\",IF(AND(B94=$B$1,K94<>\"\"),\"１\",IF(B94>$B$1,\"３\",\"4\")))","v":"4"},"2017-04-07","h",19,"done!","gmail、yahooメールチェック（夜）",10,{"$f":"IF(OR(J94=\"\",K94=\"\"),\"\",(K94-J94)/TIMEVALUE(\"1:00\")*60)","v":9.0000000000001279},{"$f":"IF(H94=\"\",\"\",G94-H94)","v":0.9999999999998721},"22:35:00","22:44:00"]
[{"$f":"IF(AND(B95=$B$1,K95=\"\"),\"２\",IF(AND(B95=$B$1,K95<>\"\"),\"１\",IF(B95>$B$1,\"３\",\"4\")))","v":"4"},"2017-04-10","d",6,"done!","朝食、SNSチェック",60,{"$f":"IF(OR(J95=\"\",K95=\"\"),\"\",(K95-J95)/TIMEVALUE(\"1:00\")*60)","v":69.999999999999986},{"$f":"IF(H95=\"\",\"\",G95-H95)","v":-9.9999999999999858},"06:40:00","07:50:00"]
[{"$f":"IF(AND(B96=$B$1,K96=\"\"),\"２\",IF(AND(B96=$B$1,K96<>\"\"),\"１\",IF(B96>$B$1,\"３\",\"4\")))","v":"4"},"2017-04-10","h",8,"done!","gmail、yahooメールチェック（朝）",10,{"$f":"IF(OR(J96=\"\",K96=\"\"),\"\",(K96-J96)/TIMEVALUE(\"1:00\")*60)","v":9.9999999999999645},{"$f":"IF(H96=\"\",\"\",G96-H96)","v":3.5527136788005009E-14},"07:50:00","08:00:00"]
[{"$f":"IF(AND(B97=$B$1,K97=\"\"),\"２\",IF(AND(B97=$B$1,K97<>\"\"),\"１\",IF(B97>$B$1,\"３\",\"4\")))","v":"4"},"2017-04-10","d",8,"done!","タスク作成",15,{"$f":"IF(OR(J97=\"\",K97=\"\"),\"\",(K97-J97)/TIMEVALUE(\"1:00\")*60)","v":20.000000000000089},{"$f":"IF(H97=\"\",\"\",G97-H97)","v":-5.0000000000000888},"08:00:00","08:20:00"]
[{"$f":"IF(AND(B98=$B$1,K98=\"\"),\"２\",IF(AND(B98=$B$1,K98<>\"\"),\"１\",IF(B98>$B$1,\"３\",\"4\")))","v":"4"},"2017-04-10",null,9,"done!","三洋テクノス給与計算の修正（雇用保険）",30,{"$f":"IF(OR(J98=\"\",K98=\"\"),\"\",(K98-J98)/TIMEVALUE(\"1:00\")*60)","v":19.999999999999929},{"$f":"IF(H98=\"\",\"\",G98-H98)","v":10.000000000000071},"09:05:00","09:25:00"]
[{"$f":"IF(AND(B99=$B$1,K99=\"\"),\"２\",IF(AND(B99=$B$1,K99<>\"\"),\"１\",IF(B99>$B$1,\"３\",\"4\")))","v":"4"},"2017-04-10","h",10,"done!","STCメールチェック対応午前",20,{"$f":"IF(OR(J99=\"\",K99=\"\"),\"\",(K99-J99)/TIMEVALUE(\"1:00\")*60)","v":4.9999999999999822},{"$f":"IF(H99=\"\",\"\",G99-H99)","v":15.000000000000018},"09:25:00","09:30:00"]
[{"$f":"IF(AND(B100=$B$1,K100=\"\"),\"２\",IF(AND(B100=$B$1,K100<>\"\"),\"１\",IF(B100>$B$1,\"３\",\"4\")))","v":"4"},"2017-04-10","h",11,"done!","gmail、yahooメールチェック（午前）",10,{"$f":"IF(OR(J100=\"\",K100=\"\"),\"\",(K100-J100)/TIMEVALUE(\"1:00\")*60)","v":9.9999999999999645},{"$f":"IF(H100=\"\",\"\",G100-H100)","v":3.5527136788005009E-14},"09:50:00","10:00:00"]
[{"$f":"IF(AND(B101=$B$1,K101=\"\"),\"２\",IF(AND(B101=$B$1,K101<>\"\"),\"１\",IF(B101>$B$1,\"３\",\"4\")))","v":"4"},"2017-04-10","d",12,"done!","ランチ、SNSチェック",60,{"$f":"IF(OR(J101=\"\",K101=\"\"),\"\",(K101-J101)/TIMEVALUE(\"1:00\")*60)","v":45},{"$f":"IF(H101=\"\",\"\",G101-H101)","v":15},"12:30:00","13:15:00"]
[{"$f":"IF(AND(B102=$B$1,K102=\"\"),\"２\",IF(AND(B102=$B$1,K102<>\"\"),\"１\",IF(B102>$B$1,\"３\",\"4\")))","v":"4"},"2017-04-10","h",14,"done!","gmail、yahooメールチェック（午後）",10,{"$f":"IF(OR(J102=\"\",K102=\"\"),\"\",(K102-J102)/TIMEVALUE(\"1:00\")*60)","v":9.9999999999999645},{"$f":"IF(H102=\"\",\"\",G102-H102)","v":3.5527136788005009E-14},"14:00:00","14:10:00"]
[{"$f":"IF(AND(B103=$B$1,K103=\"\"),\"２\",IF(AND(B103=$B$1,K103<>\"\"),\"１\",IF(B103>$B$1,\"３\",\"4\")))","v":"4"},"2017-04-10","h",14,"done!","STCメールチェック対応午後",20,{"$f":"IF(OR(J103=\"\",K103=\"\"),\"\",(K103-J103)/TIMEVALUE(\"1:00\")*60)","v":4.9999999999999822},{"$f":"IF(H103=\"\",\"\",G103-H103)","v":15.000000000000018},"14:10:00","14:15:00"]
[{"$f":"IF(AND(B104=$B$1,K104=\"\"),\"２\",IF(AND(B104=$B$1,K104<>\"\"),\"１\",IF(B104>$B$1,\"３\",\"4\")))","v":"4"},"2017-04-10",null,10,"done!","三洋テクノス税務調査",420,{"$f":"IF(OR(J104=\"\",K104=\"\"),\"\",(K104-J104)/TIMEVALUE(\"1:00\")*60)","v":390},{"$f":"IF(H104=\"\",\"\",G104-H104)","v":30},"10:00:00","16:30:00"]
[{"$f":"IF(AND(B105=$B$1,K105=\"\"),\"２\",IF(AND(B105=$B$1,K105<>\"\"),\"１\",IF(B105>$B$1,\"３\",\"4\")))","v":"4"},"2017-04-10","h",17,"done!","gmail、yahooメールチェック（夕方）",10,{"$f":"IF(OR(J105=\"\",K105=\"\"),\"\",(K105-J105)/TIMEVALUE(\"1:00\")*60)","v":10.000000000000124},{"$f":"IF(H105=\"\",\"\",G105-H105)","v":-1.2434497875801753E-13},"16:30:00","16:40:00"]
[{"$f":"IF(AND(B106=$B$1,K106=\"\"),\"２\",IF(AND(B106=$B$1,K106<>\"\"),\"１\",IF(B106>$B$1,\"３\",\"4\")))","v":"4"},"2017-04-10","h",17,"done!","STCメールチェック対応ラスト",20,{"$f":"IF(OR(J106=\"\",K106=\"\"),\"\",(K106-J106)/TIMEVALUE(\"1:00\")*60)","v":0.99999999999983658},{"$f":"IF(H106=\"\",\"\",G106-H106)","v":19.000000000000163},"18:10:00","18:11:00"]
[{"$f":"IF(AND(B107=$B$1,K107=\"\"),\"２\",IF(AND(B107=$B$1,K107<>\"\"),\"１\",IF(B107>$B$1,\"３\",\"4\")))","v":"4"},"2017-04-10",null,17,"done!","STC移動",90,{"$f":"IF(OR(J107=\"\",K107=\"\"),\"\",(K107-J107)/TIMEVALUE(\"1:00\")*60)","v":59.999999999999943},{"$f":"IF(H107=\"\",\"\",G107-H107)","v":30.000000000000057},"18:00:00","19:00:00"]
[{"$f":"IF(AND(B108=$B$1,K108=\"\"),\"２\",IF(AND(B108=$B$1,K108<>\"\"),\"１\",IF(B108>$B$1,\"３\",\"4\")))","v":"4"},"2017-04-10","d",19,"done!","夕食、SNSチェック",60,{"$f":"IF(OR(J108=\"\",K108=\"\"),\"\",(K108-J108)/TIMEVALUE(\"1:00\")*60)","v":10.000000000000124},{"$f":"IF(H108=\"\",\"\",G108-H108)","v":49.999999999999872},"20:50:00","21:00:00"]
[{"$f":"IF(AND(B109=$B$1,K109=\"\"),\"２\",IF(AND(B109=$B$1,K109<>\"\"),\"１\",IF(B109>$B$1,\"３\",\"4\")))","v":"4"},"2017-04-10",null,18,"done!","STC在庫表チェック",180,{"$f":"IF(OR(J109=\"\",K109=\"\"),\"\",(K109-J109)/TIMEVALUE(\"1:00\")*60)","v":180},{"$f":"IF(H109=\"\",\"\",G109-H109)","v":0},"19:00:00","22:00:00"]
[{"$f":"IF(AND(B110=$B$1,K110=\"\"),\"２\",IF(AND(B110=$B$1,K110<>\"\"),\"１\",IF(B110>$B$1,\"３\",\"4\")))","v":"4"},"2017-04-10",null,21,"done!","STCから帰宅",90,{"$f":"IF(OR(J110=\"\",K110=\"\"),\"\",(K110-J110)/TIMEVALUE(\"1:00\")*60)","v":60.000000000000107},{"$f":"IF(H110=\"\",\"\",G110-H110)","v":29.999999999999893},"22:00:00","23:00:00"]
[{"$f":"IF(AND(B111=$B$1,K111=\"\"),\"２\",IF(AND(B111=$B$1,K111<>\"\"),\"１\",IF(B111>$B$1,\"３\",\"4\")))","v":"4"},"2017-04-10","h",21,"done!","ブログ更新",90,{"$f":"IF(OR(J111=\"\",K111=\"\"),\"\",(K111-J111)/TIMEVALUE(\"1:00\")*60)","v":89.999999999999844},{"$f":"IF(H111=\"\",\"\",G111-H111)","v":1.5631940186722204E-13},"23:00:00",1.0208333333333333]
[{"$f":"IF(AND(B112=$B$1,K112=\"\"),\"２\",IF(AND(B112=$B$1,K112<>\"\"),\"１\",IF(B112>$B$1,\"３\",\"4\")))","v":"4"},"2017-04-11","d",8,"done!","タスク作成",15,{"$f":"IF(OR(J112=\"\",K112=\"\"),\"\",(K112-J112)/TIMEVALUE(\"1:00\")*60)","v":10.000000000000044},{"$f":"IF(H112=\"\",\"\",G112-H112)","v":4.9999999999999556},"06:45:00","06:55:00"]
[{"$f":"IF(AND(B113=$B$1,K113=\"\"),\"２\",IF(AND(B113=$B$1,K113<>\"\"),\"１\",IF(B113>$B$1,\"３\",\"4\")))","v":"4"},"2017-04-11","d",6,"done!","朝食、SNSチェック",60,{"$f":"IF(OR(J113=\"\",K113=\"\"),\"\",(K113-J113)/TIMEVALUE(\"1:00\")*60)","v":54.999999999999964},{"$f":"IF(H113=\"\",\"\",G113-H113)","v":5.0000000000000355},"06:55:00","07:50:00"]
[{"$f":"IF(AND(B114=$B$1,K114=\"\"),\"２\",IF(AND(B114=$B$1,K114<>\"\"),\"１\",IF(B114>$B$1,\"３\",\"4\")))","v":"4"},"2017-04-11","h",8,"done!","gmail、yahooメールチェック（朝）",10,{"$f":"IF(OR(J114=\"\",K114=\"\"),\"\",(K114-J114)/TIMEVALUE(\"1:00\")*60)","v":9.9999999999999645},{"$f":"IF(H114=\"\",\"\",G114-H114)","v":3.5527136788005009E-14},"07:50:00","08:00:00"]
[{"$f":"IF(AND(B115=$B$1,K115=\"\"),\"２\",IF(AND(B115=$B$1,K115<>\"\"),\"１\",IF(B115>$B$1,\"３\",\"4\")))","v":"4"},"2017-04-11","h",11,"done!","gmail、yahooメールチェック（午前）",10,{"$f":"IF(OR(J115=\"\",K115=\"\"),\"\",(K115-J115)/TIMEVALUE(\"1:00\")*60)","v":4.9999999999999822},{"$f":"IF(H115=\"\",\"\",G115-H115)","v":5.0000000000000178},"10:55:00","11:00:00"]
[{"$f":"IF(AND(B116=$B$1,K116=\"\"),\"２\",IF(AND(B116=$B$1,K116<>\"\"),\"１\",IF(B116>$B$1,\"３\",\"4\")))","v":"4"},"2017-04-11","h",10,"done!","STCメールチェック対応午前",20,{"$f":"IF(OR(J116=\"\",K116=\"\"),\"\",(K116-J116)/TIMEVALUE(\"1:00\")*60)","v":9.9999999999999645},{"$f":"IF(H116=\"\",\"\",G116-H116)","v":10.000000000000036},"11:00:00","11:10:00"]
[{"$f":"IF(AND(B117=$B$1,K117=\"\"),\"２\",IF(AND(B117=$B$1,K117<>\"\"),\"１\",IF(B117>$B$1,\"３\",\"4\")))","v":"4"},"2017-04-11",null,9,"done!","三洋テクノス税務調査",300,{"$f":"IF(OR(J117=\"\",K117=\"\"),\"\",(K117-J117)/TIMEVALUE(\"1:00\")*60)","v":335.00000000000006},{"$f":"IF(H117=\"\",\"\",G117-H117)","v":-35.000000000000057},"08:45:00","14:20:00"]
[{"$f":"IF(AND(B118=$B$1,K118=\"\"),\"２\",IF(AND(B118=$B$1,K118<>\"\"),\"１\",IF(B118>$B$1,\"３\",\"4\")))","v":"4"},"2017-04-11","d",12,"done!","ランチ、SNSチェック",60,{"$f":"IF(OR(J118=\"\",K118=\"\"),\"\",(K118-J118)/TIMEVALUE(\"1:00\")*60)","v":25.000000000000071},{"$f":"IF(H118=\"\",\"\",G118-H118)","v":34.999999999999929},"14:20:00","14:45:00"]
[{"$f":"IF(AND(B119=$B$1,K119=\"\"),\"２\",IF(AND(B119=$B$1,K119<>\"\"),\"１\",IF(B119>$B$1,\"３\",\"4\")))","v":"4"},"2017-04-11","h",14,"done!","STCメールチェック対応午後",20,{"$f":"IF(OR(J119=\"\",K119=\"\"),\"\",(K119-J119)/TIMEVALUE(\"1:00\")*60)","v":19.999999999999929},{"$f":"IF(H119=\"\",\"\",G119-H119)","v":7.1054273576010019E-14},"14:45:00","15:05:00"]
[{"$f":"IF(AND(B120=$B$1,K120=\"\"),\"２\",IF(AND(B120=$B$1,K120<>\"\"),\"１\",IF(B120>$B$1,\"３\",\"4\")))","v":"4"},"2017-04-11","h",14,"done!","gmail、yahooメールチェック（午後）",10,{"$f":"IF(OR(J120=\"\",K120=\"\"),\"\",(K120-J120)/TIMEVALUE(\"1:00\")*60)","v":4.9999999999999822},{"$f":"IF(H120=\"\",\"\",G120-H120)","v":5.0000000000000178},"15:05:00","15:10:00"]
[{"$f":"IF(AND(B121=$B$1,K121=\"\"),\"２\",IF(AND(B121=$B$1,K121<>\"\"),\"１\",IF(B121>$B$1,\"３\",\"4\")))","v":"4"},"2017-04-11","h",17,"done!","gmail、yahooメールチェック（夕方）",10,{"$f":"IF(OR(J121=\"\",K121=\"\"),\"\",(K121-J121)/TIMEVALUE(\"1:00\")*60)","v":9.9999999999999645},{"$f":"IF(H121=\"\",\"\",G121-H121)","v":3.5527136788005009E-14},"17:00:00","17:10:00"]
[{"$f":"IF(AND(B122=$B$1,K122=\"\"),\"２\",IF(AND(B122=$B$1,K122<>\"\"),\"１\",IF(B122>$B$1,\"３\",\"4\")))","v":"4"},"2017-04-11","h",17,"done!","STCメールチェック対応ラスト",20,{"$f":"IF(OR(J122=\"\",K122=\"\"),\"\",(K122-J122)/TIMEVALUE(\"1:00\")*60)","v":4.9999999999999822},{"$f":"IF(H122=\"\",\"\",G122-H122)","v":15.000000000000018},"17:10:00","17:15:00"]
[{"$f":"IF(AND(B123=$B$1,K123=\"\"),\"２\",IF(AND(B123=$B$1,K123<>\"\"),\"１\",IF(B123>$B$1,\"３\",\"4\")))","v":"4"},"2017-04-11","h",19,"done!","gmail、yahooメールチェック（夜）",10,{"$f":"IF(OR(J123=\"\",K123=\"\"),\"\",(K123-J123)/TIMEVALUE(\"1:00\")*60)","v":4.9999999999998224},{"$f":"IF(H123=\"\",\"\",G123-H123)","v":5.0000000000001776},"19:40:00","19:45:00"]
[{"$f":"IF(AND(B124=$B$1,K124=\"\"),\"２\",IF(AND(B124=$B$1,K124<>\"\"),\"１\",IF(B124>$B$1,\"３\",\"4\")))","v":"4"},"2017-04-11",null,19,"done!","トレーニングへ移動、SNS",60,{"$f":"IF(OR(J124=\"\",K124=\"\"),\"\",(K124-J124)/TIMEVALUE(\"1:00\")*60)","v":54.999999999999964},{"$f":"IF(H124=\"\",\"\",G124-H124)","v":5.0000000000000355},"18:50:00","19:45:00"]
[{"$f":"IF(AND(B125=$B$1,K125=\"\"),\"２\",IF(AND(B125=$B$1,K125<>\"\"),\"１\",IF(B125>$B$1,\"３\",\"4\")))","v":"4"},"2017-04-11",null,20,"done!","トレーニング",75,{"$f":"IF(OR(J125=\"\",K125=\"\"),\"\",(K125-J125)/TIMEVALUE(\"1:00\")*60)","v":64.999999999999929},{"$f":"IF(H125=\"\",\"\",G125-H125)","v":10.000000000000071},"19:45:00","20:50:00"]
[{"$f":"IF(AND(B126=$B$1,K126=\"\"),\"２\",IF(AND(B126=$B$1,K126<>\"\"),\"１\",IF(B126>$B$1,\"３\",\"4\")))","v":"4"},"2017-04-11",null,21,"done!","トレーニングから帰宅",60,{"$f":"IF(OR(J126=\"\",K126=\"\"),\"\",(K126-J126)/TIMEVALUE(\"1:00\")*60)","v":50.000000000000142},{"$f":"IF(H126=\"\",\"\",G126-H126)","v":9.9999999999998579},"20:50:00","21:40:00"]
[{"$f":"IF(AND(B127=$B$1,K127=\"\"),\"２\",IF(AND(B127=$B$1,K127<>\"\"),\"１\",IF(B127>$B$1,\"３\",\"4\")))","v":"4"},"2017-04-11","d",19,"done!","夕食、SNSチェック",60,{"$f":"IF(OR(J127=\"\",K127=\"\"),\"\",(K127-J127)/TIMEVALUE(\"1:00\")*60)","v":30.000000000000053},{"$f":"IF(H127=\"\",\"\",G127-H127)","v":29.999999999999947},"21:40:00","22:10:00"]
[{"$f":"IF(AND(B128=$B$1,K128=\"\"),\"２\",IF(AND(B128=$B$1,K128<>\"\"),\"１\",IF(B128>$B$1,\"３\",\"4\")))","v":"4"},"2017-04-11","h",21,"done!","ブログ更新",90,{"$f":"IF(OR(J128=\"\",K128=\"\"),\"\",(K128-J128)/TIMEVALUE(\"1:00\")*60)","v":99.999999999999801},{"$f":"IF(H128=\"\",\"\",G128-H128)","v":-9.999999999999801},"22:10:00","23:50:00"]
[{"$f":"IF(AND(B129=$B$1,K129=\"\"),\"２\",IF(AND(B129=$B$1,K129<>\"\"),\"１\",IF(B129>$B$1,\"３\",\"4\")))","v":"4"},"2017-04-12","d",6,"done!","朝食、SNSチェック",60,{"$f":"IF(OR(J129=\"\",K129=\"\"),\"\",(K129-J129)/TIMEVALUE(\"1:00\")*60)","v":34.999999999999957},{"$f":"IF(H129=\"\",\"\",G129-H129)","v":25.000000000000043},"06:10:00","06:45:00"]
[{"$f":"IF(AND(B130=$B$1,K130=\"\"),\"２\",IF(AND(B130=$B$1,K130<>\"\"),\"１\",IF(B130>$B$1,\"３\",\"4\")))","v":"4"},"2017-04-12",null,7,"done!","STC移動",90,{"$f":"IF(OR(J130=\"\",K130=\"\"),\"\",(K130-J130)/TIMEVALUE(\"1:00\")*60)","v":84.999999999999943},{"$f":"IF(H130=\"\",\"\",G130-H130)","v":5.0000000000000568},"06:45:00","08:10:00"]
[{"$f":"IF(AND(B131=$B$1,K131=\"\"),\"２\",IF(AND(B131=$B$1,K131<>\"\"),\"１\",IF(B131>$B$1,\"３\",\"4\")))","v":"4"},"2017-04-12","h",8,"done!","gmail、yahooメールチェック（朝）",10,{"$f":"IF(OR(J131=\"\",K131=\"\"),\"\",(K131-J131)/TIMEVALUE(\"1:00\")*60)","v":1.9999999999999929},{"$f":"IF(H131=\"\",\"\",G131-H131)","v":8.0000000000000071},"08:10:00","08:12:00"]
[{"$f":"IF(AND(B132=$B$1,K132=\"\"),\"２\",IF(AND(B132=$B$1,K132<>\"\"),\"１\",IF(B132>$B$1,\"３\",\"4\")))","v":"4"},"2017-04-12",null,8,"done!","ルフトメール返信",5,{"$f":"IF(OR(J132=\"\",K132=\"\"),\"\",(K132-J132)/TIMEVALUE(\"1:00\")*60)","v":3.0000000000000693},{"$f":"IF(H132=\"\",\"\",G132-H132)","v":1.9999999999999307},"08:12:00","08:15:00"]
[{"$f":"IF(AND(B133=$B$1,K133=\"\"),\"２\",IF(AND(B133=$B$1,K133<>\"\"),\"１\",IF(B133>$B$1,\"３\",\"4\")))","v":"4"},"2017-04-12","d",8,"done!","タスク作成",15,{"$f":"IF(OR(J133=\"\",K133=\"\"),\"\",(K133-J133)/TIMEVALUE(\"1:00\")*60)","v":20.000000000000007},{"$f":"IF(H133=\"\",\"\",G133-H133)","v":-5.0000000000000071},"08:15:00","08:35:00"]
[{"$f":"IF(AND(B134=$B$1,K134=\"\"),\"２\",IF(AND(B134=$B$1,K134<>\"\"),\"１\",IF(B134>$B$1,\"３\",\"4\")))","v":"4"},"2017-04-12",null,8,"done!","立替金明細確認、依頼",45,{"$f":"IF(OR(J134=\"\",K134=\"\"),\"\",(K134-J134)/TIMEVALUE(\"1:00\")*60)","v":46.999999999999993},{"$f":"IF(H134=\"\",\"\",G134-H134)","v":-1.9999999999999929},"08:35:00","09:22:00"]
[{"$f":"IF(AND(B135=$B$1,K135=\"\"),\"２\",IF(AND(B135=$B$1,K135<>\"\"),\"１\",IF(B135>$B$1,\"３\",\"4\")))","v":"4"},"2017-04-12",null,9,"done!","伝票確認（貸倒引当金）",15,{"$f":"IF(OR(J135=\"\",K135=\"\"),\"\",(K135-J135)/TIMEVALUE(\"1:00\")*60)","v":11.000000000000041},{"$f":"IF(H135=\"\",\"\",G135-H135)","v":3.9999999999999591},"09:22:00","09:33:00"]
[{"$f":"IF(AND(B136=$B$1,K136=\"\"),\"２\",IF(AND(B136=$B$1,K136<>\"\"),\"１\",IF(B136>$B$1,\"３\",\"4\")))","v":"4"},"2017-04-12",null,13,"done!","在庫評価資料（産業資材）",10,{"$f":"IF(OR(J136=\"\",K136=\"\"),\"\",(K136-J136)/TIMEVALUE(\"1:00\")*60)","v":9.9999999999999645},{"$f":"IF(H136=\"\",\"\",G136-H136)","v":3.5527136788005009E-14},"10:00:00","10:10:00"]
[{"$f":"IF(AND(B137=$B$1,K137=\"\"),\"２\",IF(AND(B137=$B$1,K137<>\"\"),\"１\",IF(B137>$B$1,\"３\",\"4\")))","v":"4"},"2017-04-12",null,13,"done!","在庫表への資料添付",15,{"$f":"IF(OR(J137=\"\",K137=\"\"),\"\",(K137-J137)/TIMEVALUE(\"1:00\")*60)","v":10.000000000000044},{"$f":"IF(H137=\"\",\"\",G137-H137)","v":4.9999999999999556},"10:10:00","10:20:00"]
[{"$f":"IF(AND(B138=$B$1,K138=\"\"),\"２\",IF(AND(B138=$B$1,K138<>\"\"),\"１\",IF(B138>$B$1,\"３\",\"4\")))","v":"4"},"2017-04-12",null,9,"done!","消費税相殺",60,{"$f":"IF(OR(J138=\"\",K138=\"\"),\"\",(K138-J138)/TIMEVALUE(\"1:00\")*60)","v":146.99999999999994},{"$f":"IF(H138=\"\",\"\",G138-H138)","v":-86.999999999999943},"09:33:00","12:00:00"]
[{"$f":"IF(AND(B139=$B$1,K139=\"\"),\"２\",IF(AND(B139=$B$1,K139<>\"\"),\"１\",IF(B139>$B$1,\"３\",\"4\")))","v":"4"},"2017-04-12","d",12,"done!","ランチ、SNSチェック",60,{"$f":"IF(OR(J139=\"\",K139=\"\"),\"\",(K139-J139)/TIMEVALUE(\"1:00\")*60)","v":40.000000000000014},{"$f":"IF(H139=\"\",\"\",G139-H139)","v":19.999999999999986},"12:05:00","12:45:00"]
[{"$f":"IF(AND(B140=$B$1,K140=\"\"),\"２\",IF(AND(B140=$B$1,K140<>\"\"),\"１\",IF(B140>$B$1,\"３\",\"4\")))","v":"4"},"2017-04-12","h",11,"done!","gmail、yahooメールチェック（午前）",10,{"$f":"IF(OR(J140=\"\",K140=\"\"),\"\",(K140-J140)/TIMEVALUE(\"1:00\")*60)","v":9.9999999999999645},{"$f":"IF(H140=\"\",\"\",G140-H140)","v":3.5527136788005009E-14},"12:45:00","12:55:00"]
[{"$f":"IF(AND(B141=$B$1,K141=\"\"),\"２\",IF(AND(B141=$B$1,K141<>\"\"),\"１\",IF(B141>$B$1,\"３\",\"4\")))","v":"4"},"2017-04-12",null,11,"done!","法人税計算",30,{"$f":"IF(OR(J141=\"\",K141=\"\"),\"\",(K141-J141)/TIMEVALUE(\"1:00\")*60)","v":10.000000000000124},{"$f":"IF(H141=\"\",\"\",G141-H141)","v":19.999999999999876},"12:55:00","13:05:00"]
[{"$f":"IF(AND(B142=$B$1,K142=\"\"),\"２\",IF(AND(B142=$B$1,K142<>\"\"),\"１\",IF(B142>$B$1,\"３\",\"4\")))","v":"4"},"2017-04-12",null,13,"done!","回覧物確認午後",15,{"$f":"IF(OR(J142=\"\",K142=\"\"),\"\",(K142-J142)/TIMEVALUE(\"1:00\")*60)","v":24.999999999999911},{"$f":"IF(H142=\"\",\"\",G142-H142)","v":-9.9999999999999112},"13:05:00","13:30:00"]
[{"$f":"IF(AND(B143=$B$1,K143=\"\"),\"２\",IF(AND(B143=$B$1,K143<>\"\"),\"１\",IF(B143>$B$1,\"３\",\"4\")))","v":"4"},"2017-04-12","h",14,"done!","gmail、yahooメールチェック（午後）",10,{"$f":"IF(OR(J143=\"\",K143=\"\"),\"\",(K143-J143)/TIMEVALUE(\"1:00\")*60)","v":9.9999999999999645},{"$f":"IF(H143=\"\",\"\",G143-H143)","v":3.5527136788005009E-14},"13:30:00","13:40:00"]
[{"$f":"IF(AND(B144=$B$1,K144=\"\"),\"２\",IF(AND(B144=$B$1,K144<>\"\"),\"１\",IF(B144>$B$1,\"３\",\"4\")))","v":"4"},"2017-04-12",null,14,"done!","ルフト連結RP作成",90,{"$f":"IF(OR(J144=\"\",K144=\"\"),\"\",(K144-J144)/TIMEVALUE(\"1:00\")*60)","v":180},{"$f":"IF(H144=\"\",\"\",G144-H144)","v":-90},"15:00:00","18:00:00"]
[{"$f":"IF(AND(B145=$B$1,K145=\"\"),\"２\",IF(AND(B145=$B$1,K145<>\"\"),\"１\",IF(B145>$B$1,\"３\",\"4\")))","v":"4"},"2017-04-12","d",19,"done!","夕食、SNSチェック",60,{"$f":"IF(OR(J145=\"\",K145=\"\"),\"\",(K145-J145)/TIMEVALUE(\"1:00\")*60)","v":29.999999999999893},{"$f":"IF(H145=\"\",\"\",G145-H145)","v":30.000000000000107},"20:20:00","20:50:00"]
[{"$f":"IF(AND(B146=$B$1,K146=\"\"),\"２\",IF(AND(B146=$B$1,K146<>\"\"),\"１\",IF(B146>$B$1,\"３\",\"4\")))","v":"4"},"2017-04-12",null,19,"done!","STCから帰宅",90,{"$f":"IF(OR(J146=\"\",K146=\"\"),\"\",(K146-J146)/TIMEVALUE(\"1:00\")*60)","v":90},{"$f":"IF(H146=\"\",\"\",G146-H146)","v":0},"20:50:00","22:20:00"]
[{"$f":"IF(AND(B147=$B$1,K147=\"\"),\"２\",IF(AND(B147=$B$1,K147<>\"\"),\"１\",IF(B147>$B$1,\"３\",\"4\")))","v":"4"},"2017-04-12","h",21,"done!","ブログ更新",90,{"$f":"IF(OR(J147=\"\",K147=\"\"),\"\",(K147-J147)/TIMEVALUE(\"1:00\")*60)","v":70.000000000000071},{"$f":"IF(H147=\"\",\"\",G147-H147)","v":19.999999999999929},"22:20:00","23:30:00"]
[{"$f":"IF(AND(B148=$B$1,K148=\"\"),\"２\",IF(AND(B148=$B$1,K148<>\"\"),\"１\",IF(B148>$B$1,\"３\",\"4\")))","v":"4"},"2017-04-13","d",6,"done!","朝食、SNSチェック",60,{"$f":"IF(OR(J148=\"\",K148=\"\"),\"\",(K148-J148)/TIMEVALUE(\"1:00\")*60)","v":20.000000000000007},{"$f":"IF(H148=\"\",\"\",G148-H148)","v":39.999999999999993},"07:25:00","07:45:00"]
[{"$f":"IF(AND(B149=$B$1,K149=\"\"),\"２\",IF(AND(B149=$B$1,K149<>\"\"),\"１\",IF(B149>$B$1,\"３\",\"4\")))","v":"4"},"2017-04-13","h",8,"done!","gmail、yahooメールチェック（朝）",10,{"$f":"IF(OR(J149=\"\",K149=\"\"),\"\",(K149-J149)/TIMEVALUE(\"1:00\")*60)","v":14.999999999999947},{"$f":"IF(H149=\"\",\"\",G149-H149)","v":-4.9999999999999467},"07:45:00","08:00:00"]
[{"$f":"IF(AND(B150=$B$1,K150=\"\"),\"２\",IF(AND(B150=$B$1,K150<>\"\"),\"１\",IF(B150>$B$1,\"３\",\"4\")))","v":"4"},"2017-04-13","d",8,"done!","タスク作成",15,{"$f":"IF(OR(J150=\"\",K150=\"\"),\"\",(K150-J150)/TIMEVALUE(\"1:00\")*60)","v":15.000000000000027},{"$f":"IF(H150=\"\",\"\",G150-H150)","v":-2.6645352591003757E-14},"08:00:00","08:15:00"]
[{"$f":"IF(AND(B151=$B$1,K151=\"\"),\"２\",IF(AND(B151=$B$1,K151<>\"\"),\"１\",IF(B151>$B$1,\"３\",\"4\")))","v":"4"},"2017-04-13","h",10,"done!","STCメールチェック対応午前",20,{"$f":"IF(OR(J151=\"\",K151=\"\"),\"\",(K151-J151)/TIMEVALUE(\"1:00\")*60)","v":15.000000000000027},{"$f":"IF(H151=\"\",\"\",G151-H151)","v":4.9999999999999734},"09:35:00","09:50:00"]
[{"$f":"IF(AND(B152=$B$1,K152=\"\"),\"２\",IF(AND(B152=$B$1,K152<>\"\"),\"１\",IF(B152>$B$1,\"３\",\"4\")))","v":"4"},"2017-04-13",null,10,"done!","トレーニングへ移動、SNS",60,{"$f":"IF(OR(J152=\"\",K152=\"\"),\"\",(K152-J152)/TIMEVALUE(\"1:00\")*60)","v":59.999999999999943},{"$f":"IF(H152=\"\",\"\",G152-H152)","v":5.6843418860808015E-14},"10:00:00","11:00:00"]
[{"$f":"IF(AND(B153=$B$1,K153=\"\"),\"２\",IF(AND(B153=$B$1,K153<>\"\"),\"１\",IF(B153>$B$1,\"３\",\"4\")))","v":"4"},"2017-04-13",null,11,"done!","トレーニング",75,{"$f":"IF(OR(J153=\"\",K153=\"\"),\"\",(K153-J153)/TIMEVALUE(\"1:00\")*60)","v":69.999999999999986},{"$f":"IF(H153=\"\",\"\",G153-H153)","v":5.0000000000000142},"11:00:00","12:10:00"]
[{"$f":"IF(AND(B154=$B$1,K154=\"\"),\"２\",IF(AND(B154=$B$1,K154<>\"\"),\"１\",IF(B154>$B$1,\"３\",\"4\")))","v":"4"},"2017-04-13","h",11,"done!","gmail、yahooメールチェック（午前）",10,{"$f":"IF(OR(J154=\"\",K154=\"\"),\"\",(K154-J154)/TIMEVALUE(\"1:00\")*60)","v":14.999999999999947},{"$f":"IF(H154=\"\",\"\",G154-H154)","v":-4.9999999999999467},"12:00:00","12:15:00"]
[{"$f":"IF(AND(B155=$B$1,K155=\"\"),\"２\",IF(AND(B155=$B$1,K155<>\"\"),\"１\",IF(B155>$B$1,\"３\",\"4\")))","v":"4"},"2017-04-13",null,12,"done!","トレーニングから帰宅",60,{"$f":"IF(OR(J155=\"\",K155=\"\"),\"\",(K155-J155)/TIMEVALUE(\"1:00\")*60)","v":40.000000000000014},{"$f":"IF(H155=\"\",\"\",G155-H155)","v":19.999999999999986},"12:10:00","12:50:00"]
[{"$f":"IF(AND(B156=$B$1,K156=\"\"),\"２\",IF(AND(B156=$B$1,K156<>\"\"),\"１\",IF(B156>$B$1,\"３\",\"4\")))","v":"4"},"2017-04-13","d",12,"done!","ランチ、SNSチェック",60,{"$f":"IF(OR(J156=\"\",K156=\"\"),\"\",(K156-J156)/TIMEVALUE(\"1:00\")*60)","v":30.000000000000053},{"$f":"IF(H156=\"\",\"\",G156-H156)","v":29.999999999999947},"12:50:00","13:20:00"]
[{"$f":"IF(AND(B157=$B$1,K157=\"\"),\"２\",IF(AND(B157=$B$1,K157<>\"\"),\"１\",IF(B157>$B$1,\"３\",\"4\")))","v":"4"},"2017-04-13","h",14,"done!","gmail、yahooメールチェック（午後）",10,{"$f":"IF(OR(J157=\"\",K157=\"\"),\"\",(K157-J157)/TIMEVALUE(\"1:00\")*60)","v":9.9999999999999645},{"$f":"IF(H157=\"\",\"\",G157-H157)","v":3.5527136788005009E-14},"14:00:00","14:10:00"]
[{"$f":"IF(AND(B158=$B$1,K158=\"\"),\"２\",IF(AND(B158=$B$1,K158<>\"\"),\"１\",IF(B158>$B$1,\"３\",\"4\")))","v":"4"},"2017-04-13","h",14,"done!","STCメールチェック対応午後",20,{"$f":"IF(OR(J158=\"\",K158=\"\"),\"\",(K158-J158)/TIMEVALUE(\"1:00\")*60)","v":4.9999999999999822},{"$f":"IF(H158=\"\",\"\",G158-H158)","v":15.000000000000018},"16:00:00","16:05:00"]
[{"$f":"IF(AND(B159=$B$1,K159=\"\"),\"２\",IF(AND(B159=$B$1,K159<>\"\"),\"１\",IF(B159>$B$1,\"３\",\"4\")))","v":"4"},"2017-04-13",null,8,"done!","Mac研究（印鑑）",60,{"$f":"IF(OR(J159=\"\",K159=\"\"),\"\",(K159-J159)/TIMEVALUE(\"1:00\")*60)","v":179.99999999999983},{"$f":"IF(H159=\"\",\"\",G159-H159)","v":-119.99999999999983},"13:20:00","16:20:00"]
[{"$f":"IF(AND(B160=$B$1,K160=\"\"),\"２\",IF(AND(B160=$B$1,K160<>\"\"),\"１\",IF(B160>$B$1,\"３\",\"4\")))","v":"4"},"2017-04-13","h",17,"done!","gmail、yahooメールチェック（夕方）",10,{"$f":"IF(OR(J160=\"\",K160=\"\"),\"\",(K160-J160)/TIMEVALUE(\"1:00\")*60)","v":9.9999999999999645},{"$f":"IF(H160=\"\",\"\",G160-H160)","v":3.5527136788005009E-14},"17:00:00","17:10:00"]
[{"$f":"IF(AND(B161=$B$1,K161=\"\"),\"２\",IF(AND(B161=$B$1,K161<>\"\"),\"１\",IF(B161>$B$1,\"３\",\"4\")))","v":"4"},"2017-04-13","h",17,"done!","STCメールチェック対応ラスト",20,{"$f":"IF(OR(J161=\"\",K161=\"\"),\"\",(K161-J161)/TIMEVALUE(\"1:00\")*60)","v":19.999999999999929},{"$f":"IF(H161=\"\",\"\",G161-H161)","v":7.1054273576010019E-14},"17:10:00","17:30:00"]
[{"$f":"IF(AND(B162=$B$1,K162=\"\"),\"２\",IF(AND(B162=$B$1,K162<>\"\"),\"１\",IF(B162>$B$1,\"３\",\"4\")))","v":"4"},"2017-04-13","h",19,"done!","gmail、yahooメールチェック（夜）",10,{"$f":"IF(OR(J162=\"\",K162=\"\"),\"\",(K162-J162)/TIMEVALUE(\"1:00\")*60)","v":4.9999999999999822},{"$f":"IF(H162=\"\",\"\",G162-H162)","v":5.0000000000000178},"19:00:00","19:05:00"]
[{"$f":"IF(AND(B163=$B$1,K163=\"\"),\"２\",IF(AND(B163=$B$1,K163<>\"\"),\"１\",IF(B163>$B$1,\"３\",\"4\")))","v":"4"},"2017-04-13","d",19,"done!","夕食、SNSチェック",60,{"$f":"IF(OR(J163=\"\",K163=\"\"),\"\",(K163-J163)/TIMEVALUE(\"1:00\")*60)","v":59.999999999999943},{"$f":"IF(H163=\"\",\"\",G163-H163)","v":5.6843418860808015E-14},"20:00:00","21:00:00"]
[{"$f":"IF(AND(B164=$B$1,K164=\"\"),\"２\",IF(AND(B164=$B$1,K164<>\"\"),\"１\",IF(B164>$B$1,\"３\",\"4\")))","v":"4"},"2017-04-13","h",21,"done!","ブログ更新",90,{"$f":"IF(OR(J164=\"\",K164=\"\"),\"\",(K164-J164)/TIMEVALUE(\"1:00\")*60)","v":149.99999999999994},{"$f":"IF(H164=\"\",\"\",G164-H164)","v":-59.999999999999943},"22:00:00",1.0208333333333333]
[{"$f":"IF(AND(B165=$B$1,K165=\"\"),\"２\",IF(AND(B165=$B$1,K165<>\"\"),\"１\",IF(B165>$B$1,\"３\",\"4\")))","v":"4"},"2017-04-14","d",6,"done!","朝食、SNSチェック",60,{"$f":"IF(OR(J165=\"\",K165=\"\"),\"\",(K165-J165)/TIMEVALUE(\"1:00\")*60)","v":59.999999999999943},{"$f":"IF(H165=\"\",\"\",G165-H165)","v":5.6843418860808015E-14},"08:20:00","09:20:00"]
[{"$f":"IF(AND(B166=$B$1,K166=\"\"),\"２\",IF(AND(B166=$B$1,K166<>\"\"),\"１\",IF(B166>$B$1,\"３\",\"4\")))","v":"4"},"2017-04-14","d",8,"done!","タスク作成",15,{"$f":"IF(OR(J166=\"\",K166=\"\"),\"\",(K166-J166)/TIMEVALUE(\"1:00\")*60)","v":9.9999999999999645},{"$f":"IF(H166=\"\",\"\",G166-H166)","v":5.0000000000000355},"09:20:00","09:30:00"]
[{"$f":"IF(AND(B167=$B$1,K167=\"\"),\"２\",IF(AND(B167=$B$1,K167<>\"\"),\"１\",IF(B167>$B$1,\"３\",\"4\")))","v":"4"},"2017-04-14","h",8,"done!","gmail、yahooメールチェック（朝）",10,{"$f":"IF(OR(J167=\"\",K167=\"\"),\"\",(K167-J167)/TIMEVALUE(\"1:00\")*60)","v":15.000000000000027},{"$f":"IF(H167=\"\",\"\",G167-H167)","v":-5.0000000000000266},"09:30:00","09:45:00"]
[{"$f":"IF(AND(B168=$B$1,K168=\"\"),\"２\",IF(AND(B168=$B$1,K168<>\"\"),\"１\",IF(B168>$B$1,\"３\",\"4\")))","v":"4"},"2017-04-14",null,10,"done!","請求書送付（ソート、ルフト、テクノス）",30,{"$f":"IF(OR(J168=\"\",K168=\"\"),\"\",(K168-J168)/TIMEVALUE(\"1:00\")*60)","v":24.999999999999993},{"$f":"IF(H168=\"\",\"\",G168-H168)","v":5.0000000000000071},"09:45:00","10:10:00"]
[{"$f":"IF(AND(B169=$B$1,K169=\"\"),\"２\",IF(AND(B169=$B$1,K169<>\"\"),\"１\",IF(B169>$B$1,\"３\",\"4\")))","v":"4"},"2017-04-14","h",10,"done!","STCメールチェック対応午前",20,{"$f":"IF(OR(J169=\"\",K169=\"\"),\"\",(K169-J169)/TIMEVALUE(\"1:00\")*60)","v":0.99999999999999645},{"$f":"IF(H169=\"\",\"\",G169-H169)","v":19.000000000000004},"10:10:00","10:11:00"]
[{"$f":"IF(AND(B170=$B$1,K170=\"\"),\"２\",IF(AND(B170=$B$1,K170<>\"\"),\"１\",IF(B170>$B$1,\"３\",\"4\")))","v":"4"},"2017-04-14","h",11,"done!","gmail、yahooメールチェック（午前）",10,{"$f":"IF(OR(J170=\"\",K170=\"\"),\"\",(K170-J170)/TIMEVALUE(\"1:00\")*60)","v":20.000000000000007},{"$f":"IF(H170=\"\",\"\",G170-H170)","v":-10.000000000000007},"10:30:00","10:50:00"]
[{"$f":"IF(AND(B171=$B$1,K171=\"\"),\"２\",IF(AND(B171=$B$1,K171<>\"\"),\"１\",IF(B171>$B$1,\"３\",\"4\")))","v":"4"},"2017-04-14","d",12,"done!","ランチ、SNSチェック",60,{"$f":"IF(OR(J171=\"\",K171=\"\"),\"\",(K171-J171)/TIMEVALUE(\"1:00\")*60)","v":24.999999999999911},{"$f":"IF(H171=\"\",\"\",G171-H171)","v":35.000000000000085},"11:20:00","11:45:00"]
[{"$f":"IF(AND(B172=$B$1,K172=\"\"),\"２\",IF(AND(B172=$B$1,K172<>\"\"),\"１\",IF(B172>$B$1,\"３\",\"4\")))","v":"4"},"2017-04-14",null,12,"done!","STCへ移動",90,{"$f":"IF(OR(J172=\"\",K172=\"\"),\"\",(K172-J172)/TIMEVALUE(\"1:00\")*60)","v":74.999999999999972},{"$f":"IF(H172=\"\",\"\",G172-H172)","v":15.000000000000028},"11:45:00","13:00:00"]
[{"$f":"IF(AND(B173=$B$1,K173=\"\"),\"２\",IF(AND(B173=$B$1,K173<>\"\"),\"１\",IF(B173>$B$1,\"３\",\"4\")))","v":"4"},"2017-04-14",null,13,"done!","STS連結RP確認",90,{"$f":"IF(OR(J173=\"\",K173=\"\"),\"\",(K173-J173)/TIMEVALUE(\"1:00\")*60)","v":60.000000000000107},{"$f":"IF(H173=\"\",\"\",G173-H173)","v":29.999999999999893},"13:00:00","14:00:00"]
[{"$f":"IF(AND(B174=$B$1,K174=\"\"),\"２\",IF(AND(B174=$B$1,K174<>\"\"),\"１\",IF(B174>$B$1,\"３\",\"4\")))","v":"4"},"2017-04-14",null,13,"done!","ルフト連結RP作成",90,{"$f":"IF(OR(J174=\"\",K174=\"\"),\"\",(K174-J174)/TIMEVALUE(\"1:00\")*60)","v":119.99999999999989},{"$f":"IF(H174=\"\",\"\",G174-H174)","v":-29.999999999999886},"14:00:00","16:00:00"]
[{"$f":"IF(AND(B175=$B$1,K175=\"\"),\"２\",IF(AND(B175=$B$1,K175<>\"\"),\"１\",IF(B175>$B$1,\"３\",\"4\")))","v":"4"},"2017-04-14",null,17,"done!","STCから品川へ移動",45,{"$f":"IF(OR(J175=\"\",K175=\"\"),\"\",(K175-J175)/TIMEVALUE(\"1:00\")*60)","v":49.999999999999822},{"$f":"IF(H175=\"\",\"\",G175-H175)","v":-4.9999999999998224},"17:00:00","17:50:00"]
[{"$f":"IF(AND(B176=$B$1,K176=\"\"),\"２\",IF(AND(B176=$B$1,K176<>\"\"),\"１\",IF(B176>$B$1,\"３\",\"4\")))","v":"4"},"2017-04-14",null,18,"done!","管理会計セミナー",120,{"$f":"IF(OR(J176=\"\",K176=\"\"),\"\",(K176-J176)/TIMEVALUE(\"1:00\")*60)","v":140.00000000000014},{"$f":"IF(H176=\"\",\"\",G176-H176)","v":-20.000000000000142},"17:50:00","20:10:00"]
[{"$f":"IF(AND(B177=$B$1,K177=\"\"),\"２\",IF(AND(B177=$B$1,K177<>\"\"),\"１\",IF(B177>$B$1,\"３\",\"4\")))","v":"4"},"2017-04-14",null,20,"done!","品川から帰宅",90,{"$f":"IF(OR(J177=\"\",K177=\"\"),\"\",(K177-J177)/TIMEVALUE(\"1:00\")*60)","v":75.000000000000057},{"$f":"IF(H177=\"\",\"\",G177-H177)","v":14.999999999999943},"20:10:00","21:25:00"]
[{"$f":"IF(AND(B178=$B$1,K178=\"\"),\"２\",IF(AND(B178=$B$1,K178<>\"\"),\"１\",IF(B178>$B$1,\"３\",\"4\")))","v":"4"},"2017-04-14","d",19,"done!","夕食、SNSチェック",60,{"$f":"IF(OR(J178=\"\",K178=\"\"),\"\",(K178-J178)/TIMEVALUE(\"1:00\")*60)","v":64.999999999999929},{"$f":"IF(H178=\"\",\"\",G178-H178)","v":-4.9999999999999289},"21:25:00","22:30:00"]
[{"$f":"IF(AND(B179=$B$1,K179=\"\"),\"２\",IF(AND(B179=$B$1,K179<>\"\"),\"１\",IF(B179>$B$1,\"３\",\"4\")))","v":"4"},"2017-04-14","h",21,"done!","ブログ更新",90,{"$f":"IF(OR(J179=\"\",K179=\"\"),\"\",(K179-J179)/TIMEVALUE(\"1:00\")*60)","v":90},{"$f":"IF(H179=\"\",\"\",G179-H179)","v":0},"22:30:00",1]
[{"$f":"IF(AND(B180=$B$1,K180=\"\"),\"２\",IF(AND(B180=$B$1,K180<>\"\"),\"１\",IF(B180>$B$1,\"３\",\"4\")))","v":"4"},"2017-04-17","d",6,"done!","朝食、SNSチェック",60,{"$f":"IF(OR(J180=\"\",K180=\"\"),\"\",(K180-J180)/TIMEVALUE(\"1:00\")*60)","v":29.999999999999972},{"$f":"IF(H180=\"\",\"\",G180-H180)","v":30.000000000000028},"06:15:00","06:45:00"]
[{"$f":"IF(AND(B181=$B$1,K181=\"\"),\"２\",IF(AND(B181=$B$1,K181<>\"\"),\"１\",IF(B181>$B$1,\"３\",\"4\")))","v":"4"},"2017-04-17",null,7,"done!","STCへ移動",90,{"$f":"IF(OR(J181=\"\",K181=\"\"),\"\",(K181-J181)/TIMEVALUE(\"1:00\")*60)","v":90},{"$f":"IF(H181=\"\",\"\",G181-H181)","v":0},"06:45:00","08:15:00"]
[{"$f":"IF(AND(B182=$B$1,K182=\"\"),\"２\",IF(AND(B182=$B$1,K182<>\"\"),\"１\",IF(B182>$B$1,\"３\",\"4\")))","v":"4"},"2017-04-17","d",8,"done!","タスク作成",15,{"$f":"IF(OR(J182=\"\",K182=\"\"),\"\",(K182-J182)/TIMEVALUE(\"1:00\")*60)","v":9.9999999999999645},{"$f":"IF(H182=\"\",\"\",G182-H182)","v":5.0000000000000355},"08:15:00","08:25:00"]
[{"$f":"IF(AND(B183=$B$1,K183=\"\"),\"２\",IF(AND(B183=$B$1,K183<>\"\"),\"１\",IF(B183>$B$1,\"３\",\"4\")))","v":"4"},"2017-04-17","h",8,"done!","gmail、yahooメールチェック（朝）",10,{"$f":"IF(OR(J183=\"\",K183=\"\"),\"\",(K183-J183)/TIMEVALUE(\"1:00\")*60)","v":10.000000000000044},{"$f":"IF(H183=\"\",\"\",G183-H183)","v":-4.4408920985006262E-14},"08:25:00","08:35:00"]
[{"$f":"IF(AND(B184=$B$1,K184=\"\"),\"２\",IF(AND(B184=$B$1,K184<>\"\"),\"１\",IF(B184>$B$1,\"３\",\"4\")))","v":"4"},"2017-04-17",null,9,"done!","STS連結RP確認",90,{"$f":"IF(OR(J184=\"\",K184=\"\"),\"\",(K184-J184)/TIMEVALUE(\"1:00\")*60)","v":99.999999999999972},{"$f":"IF(H184=\"\",\"\",G184-H184)","v":-9.9999999999999716},"08:35:00","10:15:00"]
[{"$f":"IF(AND(B185=$B$1,K185=\"\"),\"２\",IF(AND(B185=$B$1,K185<>\"\"),\"１\",IF(B185>$B$1,\"３\",\"4\")))","v":"4"},"2017-04-17","h",11,"done!","gmail、yahooメールチェック（午前）",10,{"$f":"IF(OR(J185=\"\",K185=\"\"),\"\",(K185-J185)/TIMEVALUE(\"1:00\")*60)","v":5.0000000000000622},{"$f":"IF(H185=\"\",\"\",G185-H185)","v":4.9999999999999378},"10:15:00","10:20:00"]
[{"$f":"IF(AND(B186=$B$1,K186=\"\"),\"２\",IF(AND(B186=$B$1,K186<>\"\"),\"１\",IF(B186>$B$1,\"３\",\"4\")))","v":"4"},"2017-04-17",null,11,"done!","ルフト連結RP確認",90,{"$f":"IF(OR(J186=\"\",K186=\"\"),\"\",(K186-J186)/TIMEVALUE(\"1:00\")*60)","v":99.999999999999972},{"$f":"IF(H186=\"\",\"\",G186-H186)","v":-9.9999999999999716},"10:20:00","12:00:00"]
[{"$f":"IF(AND(B187=$B$1,K187=\"\"),\"２\",IF(AND(B187=$B$1,K187<>\"\"),\"１\",IF(B187>$B$1,\"３\",\"4\")))","v":"4"},"2017-04-17","d",12,"done!","ランチ、SNSチェック",60,{"$f":"IF(OR(J187=\"\",K187=\"\"),\"\",(K187-J187)/TIMEVALUE(\"1:00\")*60)","v":45},{"$f":"IF(H187=\"\",\"\",G187-H187)","v":15},"12:00:00","12:45:00"]
[{"$f":"IF(AND(B188=$B$1,K188=\"\"),\"２\",IF(AND(B188=$B$1,K188<>\"\"),\"１\",IF(B188>$B$1,\"３\",\"4\")))","v":"4"},"2017-04-17",null,16,"done!","ケム連結RP確認",45,{"$f":"IF(OR(J188=\"\",K188=\"\"),\"\",(K188-J188)/TIMEVALUE(\"1:00\")*60)","v":42.000000000000014},{"$f":"IF(H188=\"\",\"\",G188-H188)","v":2.9999999999999858},"13:30:00","14:12:00"]
[{"$f":"IF(AND(B189=$B$1,K189=\"\"),\"２\",IF(AND(B189=$B$1,K189<>\"\"),\"１\",IF(B189>$B$1,\"３\",\"4\")))","v":"4"},"2017-04-17",null,14,"done!","CF法人税",40,{"$f":"IF(OR(J189=\"\",K189=\"\"),\"\",(K189-J189)/TIMEVALUE(\"1:00\")*60)","v":38.000000000000028},{"$f":"IF(H189=\"\",\"\",G189-H189)","v":1.9999999999999716},"14:12:00","14:50:00"]
[{"$f":"IF(AND(B190=$B$1,K190=\"\"),\"２\",IF(AND(B190=$B$1,K190<>\"\"),\"１\",IF(B190>$B$1,\"３\",\"4\")))","v":"4"},"2017-04-17",null,15,"done!","回覧物確認",30,{"$f":"IF(OR(J190=\"\",K190=\"\"),\"\",(K190-J190)/TIMEVALUE(\"1:00\")*60)","v":34.999999999999872},{"$f":"IF(H190=\"\",\"\",G190-H190)","v":-4.9999999999998721},"14:50:00","15:25:00"]
[{"$f":"IF(AND(B191=$B$1,K191=\"\"),\"２\",IF(AND(B191=$B$1,K191<>\"\"),\"１\",IF(B191>$B$1,\"３\",\"4\")))","v":"4"},"2017-04-17","h",14,"done!","gmail、yahooメールチェック（午後）",10,{"$f":"IF(OR(J191=\"\",K191=\"\"),\"\",(K191-J191)/TIMEVALUE(\"1:00\")*60)","v":5.0000000000001421},{"$f":"IF(H191=\"\",\"\",G191-H191)","v":4.9999999999998579},"15:25:00","15:30:00"]
[{"$f":"IF(AND(B192=$B$1,K192=\"\"),\"２\",IF(AND(B192=$B$1,K192<>\"\"),\"１\",IF(B192>$B$1,\"３\",\"4\")))","v":"4"},"2017-04-17",null,13,"done!","弥生セミナー情報確認",30,{"$f":"IF(OR(J192=\"\",K192=\"\"),\"\",(K192-J192)/TIMEVALUE(\"1:00\")*60)","v":35.000000000000036},{"$f":"IF(H192=\"\",\"\",G192-H192)","v":-5.0000000000000355},"16:00:00","16:35:00"]
[{"$f":"IF(AND(B193=$B$1,K193=\"\"),\"２\",IF(AND(B193=$B$1,K193<>\"\"),\"１\",IF(B193>$B$1,\"３\",\"4\")))","v":"4"},"2017-04-17","h",17,"done!","gmail、yahooメールチェック（夕方）",10,{"$f":"IF(OR(J193=\"\",K193=\"\"),\"\",(K193-J193)/TIMEVALUE(\"1:00\")*60)","v":1.9999999999999929},{"$f":"IF(H193=\"\",\"\",G193-H193)","v":8.0000000000000071},"16:33:00","16:35:00"]
[{"$f":"IF(AND(B194=$B$1,K194=\"\"),\"２\",IF(AND(B194=$B$1,K194<>\"\"),\"１\",IF(B194>$B$1,\"３\",\"4\")))","v":"4"},"2017-04-17","h",19,"done!","gmail、yahooメールチェック（夜）",10,{"$f":"IF(OR(J194=\"\",K194=\"\"),\"\",(K194-J194)/TIMEVALUE(\"1:00\")*60)","v":10.000000000000124},{"$f":"IF(H194=\"\",\"\",G194-H194)","v":-1.2434497875801753E-13},"19:00:00","19:10:00"]
[{"$f":"IF(AND(B195=$B$1,K195=\"\"),\"２\",IF(AND(B195=$B$1,K195<>\"\"),\"１\",IF(B195>$B$1,\"３\",\"4\")))","v":"4"},"2017-04-17",null,19,"done!","塚本さん飲み（往復移動込）",300,{"$f":"IF(OR(J195=\"\",K195=\"\"),\"\",(K195-J195)/TIMEVALUE(\"1:00\")*60)","v":270},{"$f":"IF(H195=\"\",\"\",G195-H195)","v":30},"18:00:00","22:30:00"]
[{"$f":"IF(AND(B196=$B$1,K196=\"\"),\"２\",IF(AND(B196=$B$1,K196<>\"\"),\"１\",IF(B196>$B$1,\"３\",\"4\")))","v":"4"},"2017-04-17","h",21,"done!","ブログ更新",90,{"$f":"IF(OR(J196=\"\",K196=\"\"),\"\",(K196-J196)/TIMEVALUE(\"1:00\")*60)","v":240.00000000000011},{"$f":"IF(H196=\"\",\"\",G196-H196)","v":-150.00000000000011},"22:30:00",1.1041666666666667]
[{"$f":"IF(AND(B197=$B$1,K197=\"\"),\"２\",IF(AND(B197=$B$1,K197<>\"\"),\"１\",IF(B197>$B$1,\"３\",\"4\")))","v":"4"},"2017-04-18",null,7,"done!","紗彩送り",25,{"$f":"IF(OR(J197=\"\",K197=\"\"),\"\",(K197-J197)/TIMEVALUE(\"1:00\")*60)","v":24.999999999999993},{"$f":"IF(H197=\"\",\"\",G197-H197)","v":7.1054273576010019E-15},"07:10:00","07:35:00"]
[{"$f":"IF(AND(B198=$B$1,K198=\"\"),\"２\",IF(AND(B198=$B$1,K198<>\"\"),\"１\",IF(B198>$B$1,\"３\",\"4\")))","v":"4"},"2017-04-18","d",6,"done!","朝食、SNSチェック",60,{"$f":"IF(OR(J198=\"\",K198=\"\"),\"\",(K198-J198)/TIMEVALUE(\"1:00\")*60)","v":84.999999999999943},{"$f":"IF(H198=\"\",\"\",G198-H198)","v":-24.999999999999943},"06:45:00","08:10:00"]
[{"$f":"IF(AND(B199=$B$1,K199=\"\"),\"２\",IF(AND(B199=$B$1,K199<>\"\"),\"１\",IF(B199>$B$1,\"３\",\"4\")))","v":"4"},"2017-04-18","d",8,"done!","タスク作成",15,{"$f":"IF(OR(J199=\"\",K199=\"\"),\"\",(K199-J199)/TIMEVALUE(\"1:00\")*60)","v":20.000000000000089},{"$f":"IF(H199=\"\",\"\",G199-H199)","v":-5.0000000000000888},"08:10:00","08:30:00"]
[{"$f":"IF(AND(B200=$B$1,K200=\"\"),\"２\",IF(AND(B200=$B$1,K200<>\"\"),\"１\",IF(B200>$B$1,\"３\",\"4\")))","v":"4"},"2017-04-18","h",8,"done!","gmail、yahooメールチェック（朝）",10,{"$f":"IF(OR(J200=\"\",K200=\"\"),\"\",(K200-J200)/TIMEVALUE(\"1:00\")*60)","v":29.999999999999972},{"$f":"IF(H200=\"\",\"\",G200-H200)","v":-19.999999999999972},"08:30:00","09:00:00"]
[{"$f":"IF(AND(B201=$B$1,K201=\"\"),\"２\",IF(AND(B201=$B$1,K201<>\"\"),\"１\",IF(B201>$B$1,\"３\",\"4\")))","v":"4"},"2017-04-18","h",10,"done!","STCメールチェック対応午前",20,{"$f":"IF(OR(J201=\"\",K201=\"\"),\"\",(K201-J201)/TIMEVALUE(\"1:00\")*60)","v":15.000000000000027},{"$f":"IF(H201=\"\",\"\",G201-H201)","v":4.9999999999999734},"09:00:00","09:15:00"]
[{"$f":"IF(AND(B202=$B$1,K202=\"\"),\"２\",IF(AND(B202=$B$1,K202<>\"\"),\"１\",IF(B202>$B$1,\"３\",\"4\")))","v":"4"},"2017-04-18","h",11,"done!","gmail、yahooメールチェック（午前）",10,{"$f":"IF(OR(J202=\"\",K202=\"\"),\"\",(K202-J202)/TIMEVALUE(\"1:00\")*60)","v":15.000000000000027},{"$f":"IF(H202=\"\",\"\",G202-H202)","v":-5.0000000000000266},"10:30:00","10:45:00"]
[{"$f":"IF(AND(B203=$B$1,K203=\"\"),\"２\",IF(AND(B203=$B$1,K203<>\"\"),\"１\",IF(B203>$B$1,\"３\",\"4\")))","v":"4"},"2017-04-18",null,11,"done!","トレーニングへ移動、SNS",60,{"$f":"IF(OR(J203=\"\",K203=\"\"),\"\",(K203-J203)/TIMEVALUE(\"1:00\")*60)","v":59.999999999999943},{"$f":"IF(H203=\"\",\"\",G203-H203)","v":5.6843418860808015E-14},"10:45:00","11:45:00"]
[{"$f":"IF(AND(B204=$B$1,K204=\"\"),\"２\",IF(AND(B204=$B$1,K204<>\"\"),\"１\",IF(B204>$B$1,\"３\",\"4\")))","v":"4"},"2017-04-18",null,12,"done!","トレーニング",75,{"$f":"IF(OR(J204=\"\",K204=\"\"),\"\",(K204-J204)/TIMEVALUE(\"1:00\")*60)","v":69.999999999999986},{"$f":"IF(H204=\"\",\"\",G204-H204)","v":5.0000000000000142},"11:45:00","12:55:00"]
[{"$f":"IF(AND(B205=$B$1,K205=\"\"),\"２\",IF(AND(B205=$B$1,K205<>\"\"),\"１\",IF(B205>$B$1,\"３\",\"4\")))","v":"4"},"2017-04-18",null,13,"done!","トレーニングから帰宅",60,{"$f":"IF(OR(J205=\"\",K205=\"\"),\"\",(K205-J205)/TIMEVALUE(\"1:00\")*60)","v":35.000000000000036},{"$f":"IF(H205=\"\",\"\",G205-H205)","v":24.999999999999964},"12:55:00","13:30:00"]
[{"$f":"IF(AND(B206=$B$1,K206=\"\"),\"２\",IF(AND(B206=$B$1,K206<>\"\"),\"１\",IF(B206>$B$1,\"３\",\"4\")))","v":"4"},"2017-04-18","d",12,"done!","ランチ、SNSチェック",60,{"$f":"IF(OR(J206=\"\",K206=\"\"),\"\",(K206-J206)/TIMEVALUE(\"1:00\")*60)","v":59.999999999999943},{"$f":"IF(H206=\"\",\"\",G206-H206)","v":5.6843418860808015E-14},"13:30:00","14:30:00"]
[{"$f":"IF(AND(B207=$B$1,K207=\"\"),\"２\",IF(AND(B207=$B$1,K207<>\"\"),\"１\",IF(B207>$B$1,\"３\",\"4\")))","v":"4"},"2017-04-18","h",14,"done!","gmail、yahooメールチェック（午後）",10,{"$f":"IF(OR(J207=\"\",K207=\"\"),\"\",(K207-J207)/TIMEVALUE(\"1:00\")*60)","v":9.9999999999999645},{"$f":"IF(H207=\"\",\"\",G207-H207)","v":3.5527136788005009E-14},"14:30:00","14:40:00"]
[{"$f":"IF(AND(B208=$B$1,K208=\"\"),\"２\",IF(AND(B208=$B$1,K208<>\"\"),\"１\",IF(B208>$B$1,\"３\",\"4\")))","v":"4"},"2017-04-18","h",14,"done!","STCメールチェック対応午後",20,{"$f":"IF(OR(J208=\"\",K208=\"\"),\"\",(K208-J208)/TIMEVALUE(\"1:00\")*60)","v":5.0000000000001421},{"$f":"IF(H208=\"\",\"\",G208-H208)","v":14.999999999999858},"14:40:00","14:45:00"]
[{"$f":"IF(AND(B209=$B$1,K209=\"\"),\"２\",IF(AND(B209=$B$1,K209<>\"\"),\"１\",IF(B209>$B$1,\"３\",\"4\")))","v":"4"},"2017-04-18","h",17,"done!","gmail、yahooメールチェック（夕方）",10,{"$f":"IF(OR(J209=\"\",K209=\"\"),\"\",(K209-J209)/TIMEVALUE(\"1:00\")*60)","v":15.000000000000107},{"$f":"IF(H209=\"\",\"\",G209-H209)","v":-5.0000000000001066},"17:30:00","17:45:00"]
[{"$f":"IF(AND(B210=$B$1,K210=\"\"),\"２\",IF(AND(B210=$B$1,K210<>\"\"),\"１\",IF(B210>$B$1,\"３\",\"4\")))","v":"4"},"2017-04-18","h",17,"done!","STCメールチェック対応ラスト",20,{"$f":"IF(OR(J210=\"\",K210=\"\"),\"\",(K210-J210)/TIMEVALUE(\"1:00\")*60)","v":9.9999999999999645},{"$f":"IF(H210=\"\",\"\",G210-H210)","v":10.000000000000036},"17:45:00","17:55:00"]
[{"$f":"IF(AND(B211=$B$1,K211=\"\"),\"２\",IF(AND(B211=$B$1,K211<>\"\"),\"１\",IF(B211>$B$1,\"３\",\"4\")))","v":"4"},"2017-04-18","h",19,"done!","gmail、yahooメールチェック（夜）",10,{"$f":"IF(OR(J211=\"\",K211=\"\"),\"\",(K211-J211)/TIMEVALUE(\"1:00\")*60)","v":14.999999999999947},{"$f":"IF(H211=\"\",\"\",G211-H211)","v":-4.9999999999999467},"19:30:00","19:45:00"]
[{"$f":"IF(AND(B212=$B$1,K212=\"\"),\"２\",IF(AND(B212=$B$1,K212<>\"\"),\"１\",IF(B212>$B$1,\"３\",\"4\")))","v":"4"},"2017-04-18","d",19,"done!","夕食、SNSチェック",60,{"$f":"IF(OR(J212=\"\",K212=\"\"),\"\",(K212-J212)/TIMEVALUE(\"1:00\")*60)","v":105.00000000000011},{"$f":"IF(H212=\"\",\"\",G212-H212)","v":-45.000000000000114},"19:45:00","21:30:00"]
[{"$f":"IF(AND(B213=$B$1,K213=\"\"),\"２\",IF(AND(B213=$B$1,K213<>\"\"),\"１\",IF(B213>$B$1,\"３\",\"4\")))","v":"4"},"2017-04-18","h",21,"done!","ブログ更新",90,{"$f":"IF(OR(J213=\"\",K213=\"\"),\"\",(K213-J213)/TIMEVALUE(\"1:00\")*60)","v":120.00000000000006},{"$f":"IF(H213=\"\",\"\",G213-H213)","v":-30.000000000000057},"22:00:00",1]
[{"$f":"IF(AND(B214=$B$1,K214=\"\"),\"２\",IF(AND(B214=$B$1,K214<>\"\"),\"１\",IF(B214>$B$1,\"３\",\"4\")))","v":"4"},"2017-04-19","d",6,"done!","朝食、SNSチェック",60,{"$f":"IF(OR(J214=\"\",K214=\"\"),\"\",(K214-J214)/TIMEVALUE(\"1:00\")*60)","v":34.999999999999957},{"$f":"IF(H214=\"\",\"\",G214-H214)","v":25.000000000000043},"06:10:00","06:45:00"]
[{"$f":"IF(AND(B215=$B$1,K215=\"\"),\"２\",IF(AND(B215=$B$1,K215<>\"\"),\"１\",IF(B215>$B$1,\"３\",\"4\")))","v":"4"},"2017-04-19",null,7,"done!","STCへ移動",90,{"$f":"IF(OR(J215=\"\",K215=\"\"),\"\",(K215-J215)/TIMEVALUE(\"1:00\")*60)","v":84.999999999999943},{"$f":"IF(H215=\"\",\"\",G215-H215)","v":5.0000000000000568},"06:45:00","08:10:00"]
[{"$f":"IF(AND(B216=$B$1,K216=\"\"),\"２\",IF(AND(B216=$B$1,K216<>\"\"),\"１\",IF(B216>$B$1,\"３\",\"4\")))","v":"4"},"2017-04-19","d",8,"done!","タスク作成",15,{"$f":"IF(OR(J216=\"\",K216=\"\"),\"\",(K216-J216)/TIMEVALUE(\"1:00\")*60)","v":7.0000000000000551},{"$f":"IF(H216=\"\",\"\",G216-H216)","v":7.9999999999999449},"08:10:00","08:17:00"]
[{"$f":"IF(AND(B217=$B$1,K217=\"\"),\"２\",IF(AND(B217=$B$1,K217<>\"\"),\"１\",IF(B217>$B$1,\"３\",\"4\")))","v":"4"},"2017-04-19","h",8,"done!","gmail、yahooメールチェック（朝）",10,{"$f":"IF(OR(J217=\"\",K217=\"\"),\"\",(K217-J217)/TIMEVALUE(\"1:00\")*60)","v":3.9999999999999858},{"$f":"IF(H217=\"\",\"\",G217-H217)","v":6.0000000000000142},"08:17:00","08:21:00"]
[{"$f":"IF(AND(B218=$B$1,K218=\"\"),\"２\",IF(AND(B218=$B$1,K218<>\"\"),\"１\",IF(B218>$B$1,\"３\",\"4\")))","v":"4"},"2017-04-19",null,8,"done!","回覧物確認",15,{"$f":"IF(OR(J218=\"\",K218=\"\"),\"\",(K218-J218)/TIMEVALUE(\"1:00\")*60)","v":3.9999999999999858},{"$f":"IF(H218=\"\",\"\",G218-H218)","v":11.000000000000014},"08:21:00","08:25:00"]
[{"$f":"IF(AND(B219=$B$1,K219=\"\"),\"２\",IF(AND(B219=$B$1,K219<>\"\"),\"１\",IF(B219>$B$1,\"３\",\"4\")))","v":"4"},"2017-04-19",null,8,"done!","セグメント確認",30,{"$f":"IF(OR(J219=\"\",K219=\"\"),\"\",(K219-J219)/TIMEVALUE(\"1:00\")*60)","v":35.000000000000036},{"$f":"IF(H219=\"\",\"\",G219-H219)","v":-5.0000000000000355},"08:25:00","09:00:00"]
[{"$f":"IF(AND(B220=$B$1,K220=\"\"),\"２\",IF(AND(B220=$B$1,K220<>\"\"),\"１\",IF(B220>$B$1,\"３\",\"4\")))","v":"4"},"2017-04-19",null,9,"done!","監査対応（各種依頼）",60,{"$f":"IF(OR(J220=\"\",K220=\"\"),\"\",(K220-J220)/TIMEVALUE(\"1:00\")*60)","v":50.000000000000064},{"$f":"IF(H220=\"\",\"\",G220-H220)","v":9.9999999999999361},"09:00:00","09:50:00"]
[{"$f":"IF(AND(B221=$B$1,K221=\"\"),\"２\",IF(AND(B221=$B$1,K221<>\"\"),\"１\",IF(B221>$B$1,\"３\",\"4\")))","v":"4"},"2017-04-19",null,10,"done!","実効税率検討（2Q,4Q）",90,{"$f":"IF(OR(J221=\"\",K221=\"\"),\"\",(K221-J221)/TIMEVALUE(\"1:00\")*60)","v":94.999999999999901},{"$f":"IF(H221=\"\",\"\",G221-H221)","v":-4.9999999999999005},"09:50:00","11:25:00"]
[{"$f":"IF(AND(B222=$B$1,K222=\"\"),\"２\",IF(AND(B222=$B$1,K222<>\"\"),\"１\",IF(B222>$B$1,\"３\",\"4\")))","v":"4"},"2017-04-19","h",11,"done!","gmail、yahooメールチェック（午前）",10,{"$f":"IF(OR(J222=\"\",K222=\"\"),\"\",(K222-J222)/TIMEVALUE(\"1:00\")*60)","v":10.000000000000044},{"$f":"IF(H222=\"\",\"\",G222-H222)","v":-4.4408920985006262E-14},"11:25:00","11:35:00"]
[{"$f":"IF(AND(B223=$B$1,K223=\"\"),\"２\",IF(AND(B223=$B$1,K223<>\"\"),\"１\",IF(B223>$B$1,\"３\",\"4\")))","v":"4"},"2017-04-19","d",12,"done!","ランチ、SNSチェック",60,{"$f":"IF(OR(J223=\"\",K223=\"\"),\"\",(K223-J223)/TIMEVALUE(\"1:00\")*60)","v":50.000000000000064},{"$f":"IF(H223=\"\",\"\",G223-H223)","v":9.9999999999999361},"11:55:00","12:45:00"]
[{"$f":"IF(AND(B224=$B$1,K224=\"\"),\"２\",IF(AND(B224=$B$1,K224<>\"\"),\"１\",IF(B224>$B$1,\"３\",\"4\")))","v":"4"},"2017-04-19",null,13,"done!","大谷さん依頼事項確認",60,{"$f":"IF(OR(J224=\"\",K224=\"\"),\"\",(K224-J224)/TIMEVALUE(\"1:00\")*60)","v":24.999999999999911},{"$f":"IF(H224=\"\",\"\",G224-H224)","v":35.000000000000085},"12:45:00","13:10:00"]
[{"$f":"IF(AND(B225=$B$1,K225=\"\"),\"２\",IF(AND(B225=$B$1,K225<>\"\"),\"１\",IF(B225>$B$1,\"３\",\"4\")))","v":"4"},"2017-04-19",null,11,"done!","STS往査メモ、税率の打ち合わせ",20,{"$f":"IF(OR(J225=\"\",K225=\"\"),\"\",(K225-J225)/TIMEVALUE(\"1:00\")*60)","v":25.000000000000071},{"$f":"IF(H225=\"\",\"\",G225-H225)","v":-5.0000000000000711},"13:10:00","13:35:00"]
[{"$f":"IF(AND(B226=$B$1,K226=\"\"),\"２\",IF(AND(B226=$B$1,K226<>\"\"),\"１\",IF(B226>$B$1,\"３\",\"4\")))","v":"4"},"2017-04-19","h",14,"done!","gmail、yahooメールチェック（午後）",10,{"$f":"IF(OR(J226=\"\",K226=\"\"),\"\",(K226-J226)/TIMEVALUE(\"1:00\")*60)","v":9.9999999999999645},{"$f":"IF(H226=\"\",\"\",G226-H226)","v":3.5527136788005009E-14},"14:15:00","14:25:00"]
[{"$f":"IF(AND(B227=$B$1,K227=\"\"),\"２\",IF(AND(B227=$B$1,K227<>\"\"),\"１\",IF(B227>$B$1,\"３\",\"4\")))","v":"4"},"2017-04-19",null,15,"done!","ソート会計システム　消費税コード確認",60,{"$f":"IF(OR(J227=\"\",K227=\"\"),\"\",(K227-J227)/TIMEVALUE(\"1:00\")*60)","v":75.000000000000057},{"$f":"IF(H227=\"\",\"\",G227-H227)","v":-15.000000000000057},"14:25:00","15:40:00"]
[{"$f":"IF(AND(B228=$B$1,K228=\"\"),\"２\",IF(AND(B228=$B$1,K228<>\"\"),\"１\",IF(B228>$B$1,\"３\",\"4\")))","v":"4"},"2017-04-19","h",17,"done!","gmail、yahooメールチェック（夕方）",10,{"$f":"IF(OR(J228=\"\",K228=\"\"),\"\",(K228-J228)/TIMEVALUE(\"1:00\")*60)","v":10.000000000000124},{"$f":"IF(H228=\"\",\"\",G228-H228)","v":-1.2434497875801753E-13},"17:30:00","17:40:00"]
[{"$f":"IF(AND(B229=$B$1,K229=\"\"),\"２\",IF(AND(B229=$B$1,K229<>\"\"),\"１\",IF(B229>$B$1,\"３\",\"4\")))","v":"4"},"2017-04-19",null,18,"done!","STCから帰宅",90,{"$f":"IF(OR(J229=\"\",K229=\"\"),\"\",(K229-J229)/TIMEVALUE(\"1:00\")*60)","v":64.999999999999929},{"$f":"IF(H229=\"\",\"\",G229-H229)","v":25.000000000000071},"17:40:00","18:45:00"]
[{"$f":"IF(AND(B230=$B$1,K230=\"\"),\"２\",IF(AND(B230=$B$1,K230<>\"\"),\"１\",IF(B230>$B$1,\"３\",\"4\")))","v":"4"},"2017-04-19","d",19,"done!","夕食、SNSチェック",60,{"$f":"IF(OR(J230=\"\",K230=\"\"),\"\",(K230-J230)/TIMEVALUE(\"1:00\")*60)","v":59.999999999999943},{"$f":"IF(H230=\"\",\"\",G230-H230)","v":5.6843418860808015E-14},"20:15:00","21:15:00"]
[{"$f":"IF(AND(B231=$B$1,K231=\"\"),\"２\",IF(AND(B231=$B$1,K231<>\"\"),\"１\",IF(B231>$B$1,\"３\",\"4\")))","v":"4"},"2017-04-19","h",19,"done!","gmail、yahooメールチェック（夜）",10,{"$f":"IF(OR(J231=\"\",K231=\"\"),\"\",(K231-J231)/TIMEVALUE(\"1:00\")*60)","v":10.000000000000124},{"$f":"IF(H231=\"\",\"\",G231-H231)","v":-1.2434497875801753E-13},"21:15:00","21:25:00"]
[{"$f":"IF(AND(B232=$B$1,K232=\"\"),\"２\",IF(AND(B232=$B$1,K232<>\"\"),\"１\",IF(B232>$B$1,\"３\",\"4\")))","v":"4"},"2017-04-19","h",21,"done!","ブログ更新",90,{"$f":"IF(OR(J232=\"\",K232=\"\"),\"\",(K232-J232)/TIMEVALUE(\"1:00\")*60)","v":114.99999999999991},{"$f":"IF(H232=\"\",\"\",G232-H232)","v":-24.999999999999915},"21:25:00","23:20:00"]
[{"$f":"IF(AND(B233=$B$1,K233=\"\"),\"２\",IF(AND(B233=$B$1,K233<>\"\"),\"１\",IF(B233>$B$1,\"３\",\"4\")))","v":"4"},"2017-04-20","d",6,"done!","朝食、SNSチェック",60,{"$f":"IF(OR(J233=\"\",K233=\"\"),\"\",(K233-J233)/TIMEVALUE(\"1:00\")*60)","v":29.999999999999972},{"$f":"IF(H233=\"\",\"\",G233-H233)","v":30.000000000000028},"06:15:00","06:45:00"]
[{"$f":"IF(AND(B234=$B$1,K234=\"\"),\"２\",IF(AND(B234=$B$1,K234<>\"\"),\"１\",IF(B234>$B$1,\"３\",\"4\")))","v":"4"},"2017-04-20",null,7,"done!","STCへ移動",90,{"$f":"IF(OR(J234=\"\",K234=\"\"),\"\",(K234-J234)/TIMEVALUE(\"1:00\")*60)","v":95.000000000000057},{"$f":"IF(H234=\"\",\"\",G234-H234)","v":-5.0000000000000568},"06:45:00","08:20:00"]
[{"$f":"IF(AND(B235=$B$1,K235=\"\"),\"２\",IF(AND(B235=$B$1,K235<>\"\"),\"１\",IF(B235>$B$1,\"３\",\"4\")))","v":"4"},"2017-04-20","d",8,"done!","タスク作成",15,{"$f":"IF(OR(J235=\"\",K235=\"\"),\"\",(K235-J235)/TIMEVALUE(\"1:00\")*60)","v":9.9999999999999645},{"$f":"IF(H235=\"\",\"\",G235-H235)","v":5.0000000000000355},"08:20:00","08:30:00"]
[{"$f":"IF(AND(B236=$B$1,K236=\"\"),\"２\",IF(AND(B236=$B$1,K236<>\"\"),\"１\",IF(B236>$B$1,\"３\",\"4\")))","v":"4"},"2017-04-20","h",8,"done!","gmail、yahooメールチェック（朝）",10,{"$f":"IF(OR(J236=\"\",K236=\"\"),\"\",(K236-J236)/TIMEVALUE(\"1:00\")*60)","v":9.9999999999999645},{"$f":"IF(H236=\"\",\"\",G236-H236)","v":3.5527136788005009E-14},"08:30:00","08:40:00"]
[{"$f":"IF(AND(B237=$B$1,K237=\"\"),\"２\",IF(AND(B237=$B$1,K237<>\"\"),\"１\",IF(B237>$B$1,\"３\",\"4\")))","v":"4"},"2017-04-20",null,9,"done!","ルフト中間申告など",120,{"$f":"IF(OR(J237=\"\",K237=\"\"),\"\",(K237-J237)/TIMEVALUE(\"1:00\")*60)","v":59.999999999999943},{"$f":"IF(H237=\"\",\"\",G237-H237)","v":60.000000000000057},"08:40:00","09:40:00"]
[{"$f":"IF(AND(B238=$B$1,K238=\"\"),\"２\",IF(AND(B238=$B$1,K238<>\"\"),\"１\",IF(B238>$B$1,\"３\",\"4\")))","v":"4"},"2017-04-20",null,10,"done!","三洋テクノス税務調査報告",60,{"$f":"IF(OR(J238=\"\",K238=\"\"),\"\",(K238-J238)/TIMEVALUE(\"1:00\")*60)","v":104.99999999999994},{"$f":"IF(H238=\"\",\"\",G238-H238)","v":-44.999999999999943},"10:00:00","11:45:00"]
[{"$f":"IF(AND(B239=$B$1,K239=\"\"),\"２\",IF(AND(B239=$B$1,K239<>\"\"),\"１\",IF(B239>$B$1,\"３\",\"4\")))","v":"4"},"2017-04-20","h",11,"done!","gmail、yahooメールチェック（午前）",10,{"$f":"IF(OR(J239=\"\",K239=\"\"),\"\",(K239-J239)/TIMEVALUE(\"1:00\")*60)","v":5.0000000000000622},{"$f":"IF(H239=\"\",\"\",G239-H239)","v":4.9999999999999378},"11:45:00","11:50:00"]
[{"$f":"IF(AND(B240=$B$1,K240=\"\"),\"２\",IF(AND(B240=$B$1,K240<>\"\"),\"１\",IF(B240>$B$1,\"３\",\"4\")))","v":"4"},"2017-04-20","d",12,"done!","ランチ、SNSチェック",60,{"$f":"IF(OR(J240=\"\",K240=\"\"),\"\",(K240-J240)/TIMEVALUE(\"1:00\")*60)","v":49.999999999999986},{"$f":"IF(H240=\"\",\"\",G240-H240)","v":10.000000000000014},"12:00:00","12:50:00"]
[{"$f":"IF(AND(B241=$B$1,K241=\"\"),\"２\",IF(AND(B241=$B$1,K241<>\"\"),\"１\",IF(B241>$B$1,\"３\",\"4\")))","v":"4"},"2017-04-20",null,13,"done!","ソート会計システム　消費税チェック",120,{"$f":"IF(OR(J241=\"\",K241=\"\"),\"\",(K241-J241)/TIMEVALUE(\"1:00\")*60)","v":90},{"$f":"IF(H241=\"\",\"\",G241-H241)","v":30},"13:00:00","14:30:00"]
[{"$f":"IF(AND(B242=$B$1,K242=\"\"),\"２\",IF(AND(B242=$B$1,K242<>\"\"),\"１\",IF(B242>$B$1,\"３\",\"4\")))","v":"4"},"2017-04-20","h",14,"done!","gmail、yahooメールチェック（午後）",10,{"$f":"IF(OR(J242=\"\",K242=\"\"),\"\",(K242-J242)/TIMEVALUE(\"1:00\")*60)","v":4.9999999999999822},{"$f":"IF(H242=\"\",\"\",G242-H242)","v":5.0000000000000178},"15:00:00","15:05:00"]
[{"$f":"IF(AND(B243=$B$1,K243=\"\"),\"２\",IF(AND(B243=$B$1,K243<>\"\"),\"１\",IF(B243>$B$1,\"３\",\"4\")))","v":"4"},"2017-04-20",null,16,"done!","大谷さん依頼事項報告",20,{"$f":"IF(OR(J243=\"\",K243=\"\"),\"\",(K243-J243)/TIMEVALUE(\"1:00\")*60)","v":25.000000000000071},{"$f":"IF(H243=\"\",\"\",G243-H243)","v":-5.0000000000000711},"16:20:00","16:45:00"]
[{"$f":"IF(AND(B244=$B$1,K244=\"\"),\"２\",IF(AND(B244=$B$1,K244<>\"\"),\"１\",IF(B244>$B$1,\"３\",\"4\")))","v":"4"},"2017-04-20","h",17,"done!","gmail、yahooメールチェック（夕方）",10,{"$f":"IF(OR(J244=\"\",K244=\"\"),\"\",(K244-J244)/TIMEVALUE(\"1:00\")*60)","v":4.9999999999999822},{"$f":"IF(H244=\"\",\"\",G244-H244)","v":5.0000000000000178},"16:45:00","16:50:00"]
[{"$f":"IF(AND(B245=$B$1,K245=\"\"),\"２\",IF(AND(B245=$B$1,K245<>\"\"),\"１\",IF(B245>$B$1,\"３\",\"4\")))","v":"4"},"2017-04-20",null,18,"done!","STCから帰宅",90,{"$f":"IF(OR(J245=\"\",K245=\"\"),\"\",(K245-J245)/TIMEVALUE(\"1:00\")*60)","v":79.999999999999872},{"$f":"IF(H245=\"\",\"\",G245-H245)","v":10.000000000000128},"17:25:00","18:45:00"]
[{"$f":"IF(AND(B246=$B$1,K246=\"\"),\"２\",IF(AND(B246=$B$1,K246<>\"\"),\"１\",IF(B246>$B$1,\"３\",\"4\")))","v":"4"},"2017-04-20","h",19,"done!","gmail、yahooメールチェック（夜）",10,{"$f":"IF(OR(J246=\"\",K246=\"\"),\"\",(K246-J246)/TIMEVALUE(\"1:00\")*60)","v":4.9999999999999822},{"$f":"IF(H246=\"\",\"\",G246-H246)","v":5.0000000000000178},"18:45:00","18:50:00"]
[{"$f":"IF(AND(B247=$B$1,K247=\"\"),\"２\",IF(AND(B247=$B$1,K247<>\"\"),\"１\",IF(B247>$B$1,\"３\",\"4\")))","v":"4"},"2017-04-20","d",19,"done!","夕食、SNSチェック",60,{"$f":"IF(OR(J247=\"\",K247=\"\"),\"\",(K247-J247)/TIMEVALUE(\"1:00\")*60)","v":40.000000000000014},{"$f":"IF(H247=\"\",\"\",G247-H247)","v":19.999999999999986},"20:00:00","20:40:00"]
[{"$f":"IF(AND(B248=$B$1,K248=\"\"),\"２\",IF(AND(B248=$B$1,K248<>\"\"),\"１\",IF(B248>$B$1,\"３\",\"4\")))","v":"4"},"2017-04-20","h",21,"done!","ブログ更新",90,{"$f":"IF(OR(J248=\"\",K248=\"\"),\"\",(K248-J248)/TIMEVALUE(\"1:00\")*60)","v":149.99999999999994},{"$f":"IF(H248=\"\",\"\",G248-H248)","v":-59.999999999999943},"22:00:00",1.0208333333333333]
[{"$f":"IF(AND(B249=$B$1,K249=\"\"),\"２\",IF(AND(B249=$B$1,K249<>\"\"),\"１\",IF(B249>$B$1,\"３\",\"4\")))","v":"4"},"2017-04-21","d",6,"done!","朝食、SNSチェック",60,{"$f":"IF(OR(J249=\"\",K249=\"\"),\"\",(K249-J249)/TIMEVALUE(\"1:00\")*60)","v":59.999999999999943},{"$f":"IF(H249=\"\",\"\",G249-H249)","v":5.6843418860808015E-14},"07:10:00","08:10:00"]
[{"$f":"IF(AND(B250=$B$1,K250=\"\"),\"２\",IF(AND(B250=$B$1,K250<>\"\"),\"１\",IF(B250>$B$1,\"３\",\"4\")))","v":"4"},"2017-04-21","h",8,"done!","gmail、yahooメールチェック（朝）",10,{"$f":"IF(OR(J250=\"\",K250=\"\"),\"\",(K250-J250)/TIMEVALUE(\"1:00\")*60)","v":12.000000000000117},{"$f":"IF(H250=\"\",\"\",G250-H250)","v":-2.0000000000001172},"08:10:00","08:22:00"]
[{"$f":"IF(AND(B251=$B$1,K251=\"\"),\"２\",IF(AND(B251=$B$1,K251<>\"\"),\"１\",IF(B251>$B$1,\"３\",\"4\")))","v":"4"},"2017-04-21","d",8,"done!","タスク作成",15,{"$f":"IF(OR(J251=\"\",K251=\"\"),\"\",(K251-J251)/TIMEVALUE(\"1:00\")*60)","v":12.999999999999954},{"$f":"IF(H251=\"\",\"\",G251-H251)","v":2.0000000000000462},"08:22:00","08:35:00"]
[{"$f":"IF(AND(B252=$B$1,K252=\"\"),\"２\",IF(AND(B252=$B$1,K252<>\"\"),\"１\",IF(B252>$B$1,\"３\",\"4\")))","v":"4"},"2017-04-21","h",10,"done!","STCメールチェック対応午前",20,{"$f":"IF(OR(J252=\"\",K252=\"\"),\"\",(K252-J252)/TIMEVALUE(\"1:00\")*60)","v":4.9999999999999822},{"$f":"IF(H252=\"\",\"\",G252-H252)","v":15.000000000000018},"10:00:00","10:05:00"]
[{"$f":"IF(AND(B253=$B$1,K253=\"\"),\"２\",IF(AND(B253=$B$1,K253<>\"\"),\"１\",IF(B253>$B$1,\"３\",\"4\")))","v":"4"},"2017-04-21","h",11,"done!","gmail、yahooメールチェック（午前）",10,{"$f":"IF(OR(J253=\"\",K253=\"\"),\"\",(K253-J253)/TIMEVALUE(\"1:00\")*60)","v":15.000000000000027},{"$f":"IF(H253=\"\",\"\",G253-H253)","v":-5.0000000000000266},"10:05:00","10:20:00"]
[{"$f":"IF(AND(B254=$B$1,K254=\"\"),\"２\",IF(AND(B254=$B$1,K254<>\"\"),\"１\",IF(B254>$B$1,\"３\",\"4\")))","v":"4"},"2017-04-21",null,11,"done!","トレーニングへ移動、SNS",60,{"$f":"IF(OR(J254=\"\",K254=\"\"),\"\",(K254-J254)/TIMEVALUE(\"1:00\")*60)","v":45},{"$f":"IF(H254=\"\",\"\",G254-H254)","v":15},"11:00:00","11:45:00"]
[{"$f":"IF(AND(B255=$B$1,K255=\"\"),\"２\",IF(AND(B255=$B$1,K255<>\"\"),\"１\",IF(B255>$B$1,\"３\",\"4\")))","v":"4"},"2017-04-21",null,12,"done!","トレーニング",75,{"$f":"IF(OR(J255=\"\",K255=\"\"),\"\",(K255-J255)/TIMEVALUE(\"1:00\")*60)","v":65.000000000000014},{"$f":"IF(H255=\"\",\"\",G255-H255)","v":9.9999999999999858},"11:45:00","12:50:00"]
[{"$f":"IF(AND(B256=$B$1,K256=\"\"),\"２\",IF(AND(B256=$B$1,K256<>\"\"),\"１\",IF(B256>$B$1,\"３\",\"4\")))","v":"4"},"2017-04-21",null,13,"done!","トレーニングから帰宅",60,{"$f":"IF(OR(J256=\"\",K256=\"\"),\"\",(K256-J256)/TIMEVALUE(\"1:00\")*60)","v":54.999999999999964},{"$f":"IF(H256=\"\",\"\",G256-H256)","v":5.0000000000000355},"12:50:00","13:45:00"]
[{"$f":"IF(AND(B257=$B$1,K257=\"\"),\"２\",IF(AND(B257=$B$1,K257<>\"\"),\"１\",IF(B257>$B$1,\"３\",\"4\")))","v":"4"},"2017-04-21","d",12,"done!","ランチ、SNSチェック",60,{"$f":"IF(OR(J257=\"\",K257=\"\"),\"\",(K257-J257)/TIMEVALUE(\"1:00\")*60)","v":35.000000000000036},{"$f":"IF(H257=\"\",\"\",G257-H257)","v":24.999999999999964},"13:45:00","14:20:00"]
[{"$f":"IF(AND(B258=$B$1,K258=\"\"),\"２\",IF(AND(B258=$B$1,K258<>\"\"),\"１\",IF(B258>$B$1,\"３\",\"4\")))","v":"4"},"2017-04-21","h",14,"done!","gmail、yahooメールチェック（午後）",10,{"$f":"IF(OR(J258=\"\",K258=\"\"),\"\",(K258-J258)/TIMEVALUE(\"1:00\")*60)","v":4.9999999999999822},{"$f":"IF(H258=\"\",\"\",G258-H258)","v":5.0000000000000178},"14:20:00","14:25:00"]
[{"$f":"IF(AND(B259=$B$1,K259=\"\"),\"２\",IF(AND(B259=$B$1,K259<>\"\"),\"１\",IF(B259>$B$1,\"３\",\"4\")))","v":"4"},"2017-04-21","h",14,"done!","STCメールチェック対応午後",20,{"$f":"IF(OR(J259=\"\",K259=\"\"),\"\",(K259-J259)/TIMEVALUE(\"1:00\")*60)","v":20.000000000000089},{"$f":"IF(H259=\"\",\"\",G259-H259)","v":-8.8817841970012523E-14},"14:25:00","14:45:00"]
[{"$f":"IF(AND(B260=$B$1,K260=\"\"),\"２\",IF(AND(B260=$B$1,K260<>\"\"),\"１\",IF(B260>$B$1,\"３\",\"4\")))","v":"4"},"2017-04-21","h",17,"done!","STCメールチェック対応ラスト",20,{"$f":"IF(OR(J260=\"\",K260=\"\"),\"\",(K260-J260)/TIMEVALUE(\"1:00\")*60)","v":9.9999999999999645},{"$f":"IF(H260=\"\",\"\",G260-H260)","v":10.000000000000036},"17:00:00","17:10:00"]
[{"$f":"IF(AND(B261=$B$1,K261=\"\"),\"２\",IF(AND(B261=$B$1,K261<>\"\"),\"１\",IF(B261>$B$1,\"３\",\"4\")))","v":"4"},"2017-04-21","h",17,"done!","gmail、yahooメールチェック（夕方）",10,{"$f":"IF(OR(J261=\"\",K261=\"\"),\"\",(K261-J261)/TIMEVALUE(\"1:00\")*60)","v":9.9999999999999645},{"$f":"IF(H261=\"\",\"\",G261-H261)","v":3.5527136788005009E-14},"17:10:00","17:20:00"]
[{"$f":"IF(AND(B262=$B$1,K262=\"\"),\"２\",IF(AND(B262=$B$1,K262<>\"\"),\"１\",IF(B262>$B$1,\"３\",\"4\")))","v":"4"},"2017-04-21","h",19,"done!","gmail、yahooメールチェック（夜）",10,{"$f":"IF(OR(J262=\"\",K262=\"\"),\"\",(K262-J262)/TIMEVALUE(\"1:00\")*60)","v":9.9999999999999645},{"$f":"IF(H262=\"\",\"\",G262-H262)","v":3.5527136788005009E-14},"20:00:00","20:10:00"]
[{"$f":"IF(AND(B263=$B$1,K263=\"\"),\"２\",IF(AND(B263=$B$1,K263<>\"\"),\"１\",IF(B263>$B$1,\"３\",\"4\")))","v":"4"},"2017-04-21","d",19,"done!","夕食、SNSチェック",60,{"$f":"IF(OR(J263=\"\",K263=\"\"),\"\",(K263-J263)/TIMEVALUE(\"1:00\")*60)","v":69.999999999999915},{"$f":"IF(H263=\"\",\"\",G263-H263)","v":-9.9999999999999147},"20:10:00","21:20:00"]
[{"$f":"IF(AND(B264=$B$1,K264=\"\"),\"２\",IF(AND(B264=$B$1,K264<>\"\"),\"１\",IF(B264>$B$1,\"３\",\"4\")))","v":"4"},"2017-04-21","h",21,"done!","ブログ更新",90,{"$f":"IF(OR(J264=\"\",K264=\"\"),\"\",(K264-J264)/TIMEVALUE(\"1:00\")*60)","v":239.99999999999994},{"$f":"IF(H264=\"\",\"\",G264-H264)","v":-149.99999999999994},"22:00:00",1.0833333333333333]
[{"$f":"IF(AND(B265=$B$1,K265=\"\"),\"２\",IF(AND(B265=$B$1,K265<>\"\"),\"１\",IF(B265>$B$1,\"３\",\"4\")))","v":"4"},"2017-04-24","d",6,"done!","朝食、SNSチェック",60,{"$f":"IF(OR(J265=\"\",K265=\"\"),\"\",(K265-J265)/TIMEVALUE(\"1:00\")*60)","v":79.999999999999957},{"$f":"IF(H265=\"\",\"\",G265-H265)","v":-19.999999999999957},"07:25:00","08:45:00"]
[{"$f":"IF(AND(B266=$B$1,K266=\"\"),\"２\",IF(AND(B266=$B$1,K266<>\"\"),\"１\",IF(B266>$B$1,\"３\",\"4\")))","v":"4"},"2017-04-24","d",8,"done!","タスク作成",15,{"$f":"IF(OR(J266=\"\",K266=\"\"),\"\",(K266-J266)/TIMEVALUE(\"1:00\")*60)","v":9.9999999999999645},{"$f":"IF(H266=\"\",\"\",G266-H266)","v":5.0000000000000355},"08:45:00","08:55:00"]
[{"$f":"IF(AND(B267=$B$1,K267=\"\"),\"２\",IF(AND(B267=$B$1,K267<>\"\"),\"１\",IF(B267>$B$1,\"３\",\"4\")))","v":"4"},"2017-04-24","h",8,"done!","gmail、yahooメールチェック（朝）",10,{"$f":"IF(OR(J267=\"\",K267=\"\"),\"\",(K267-J267)/TIMEVALUE(\"1:00\")*60)","v":20.000000000000089},{"$f":"IF(H267=\"\",\"\",G267-H267)","v":-10.000000000000089},"08:55:00","09:15:00"]
[{"$f":"IF(AND(B268=$B$1,K268=\"\"),\"２\",IF(AND(B268=$B$1,K268<>\"\"),\"１\",IF(B268>$B$1,\"３\",\"4\")))","v":"4"},"2017-04-24","h",10,"done!","STCメールチェック対応午前",20,{"$f":"IF(OR(J268=\"\",K268=\"\"),\"\",(K268-J268)/TIMEVALUE(\"1:00\")*60)","v":9.9999999999999645},{"$f":"IF(H268=\"\",\"\",G268-H268)","v":10.000000000000036},"10:00:00","10:10:00"]
[{"$f":"IF(AND(B269=$B$1,K269=\"\"),\"２\",IF(AND(B269=$B$1,K269<>\"\"),\"１\",IF(B269>$B$1,\"３\",\"4\")))","v":"4"},"2017-04-24",null,10,"done!","TKC移動",60,{"$f":"IF(OR(J269=\"\",K269=\"\"),\"\",(K269-J269)/TIMEVALUE(\"1:00\")*60)","v":45},{"$f":"IF(H269=\"\",\"\",G269-H269)","v":15},"10:10:00","10:55:00"]
[{"$f":"IF(AND(B270=$B$1,K270=\"\"),\"２\",IF(AND(B270=$B$1,K270<>\"\"),\"１\",IF(B270>$B$1,\"３\",\"4\")))","v":"4"},"2017-04-24","h",11,"done!","gmail、yahooメールチェック（午前）",10,{"$f":"IF(OR(J270=\"\",K270=\"\"),\"\",(K270-J270)/TIMEVALUE(\"1:00\")*60)","v":4.9999999999999822},{"$f":"IF(H270=\"\",\"\",G270-H270)","v":5.0000000000000178},"10:55:00","11:00:00"]
[{"$f":"IF(AND(B271=$B$1,K271=\"\"),\"２\",IF(AND(B271=$B$1,K271<>\"\"),\"１\",IF(B271>$B$1,\"３\",\"4\")))","v":"4"},"2017-04-24",null,11,"done!","TKC打ち合わせ",60,{"$f":"IF(OR(J271=\"\",K271=\"\"),\"\",(K271-J271)/TIMEVALUE(\"1:00\")*60)","v":40.000000000000014},{"$f":"IF(H271=\"\",\"\",G271-H271)","v":19.999999999999986},"11:00:00","11:40:00"]
[{"$f":"IF(AND(B272=$B$1,K272=\"\"),\"２\",IF(AND(B272=$B$1,K272<>\"\"),\"１\",IF(B272>$B$1,\"３\",\"4\")))","v":"4"},"2017-04-24",null,12,"done!","本屋、時間調整",30,{"$f":"IF(OR(J272=\"\",K272=\"\"),\"\",(K272-J272)/TIMEVALUE(\"1:00\")*60)","v":50.000000000000064},{"$f":"IF(H272=\"\",\"\",G272-H272)","v":-20.000000000000064},"11:40:00","12:30:00"]
[{"$f":"IF(AND(B273=$B$1,K273=\"\"),\"２\",IF(AND(B273=$B$1,K273<>\"\"),\"１\",IF(B273>$B$1,\"３\",\"4\")))","v":"4"},"2017-04-24",null,12,"done!","トレーニング",75,{"$f":"IF(OR(J273=\"\",K273=\"\"),\"\",(K273-J273)/TIMEVALUE(\"1:00\")*60)","v":59.999999999999943},{"$f":"IF(H273=\"\",\"\",G273-H273)","v":15.000000000000057},"12:30:00","13:30:00"]
[{"$f":"IF(AND(B274=$B$1,K274=\"\"),\"２\",IF(AND(B274=$B$1,K274<>\"\"),\"１\",IF(B274>$B$1,\"３\",\"4\")))","v":"4"},"2017-04-24",null,13,"done!","トレーニングから帰宅",45,{"$f":"IF(OR(J274=\"\",K274=\"\"),\"\",(K274-J274)/TIMEVALUE(\"1:00\")*60)","v":45},{"$f":"IF(H274=\"\",\"\",G274-H274)","v":0},"13:30:00","14:15:00"]
[{"$f":"IF(AND(B275=$B$1,K275=\"\"),\"２\",IF(AND(B275=$B$1,K275<>\"\"),\"１\",IF(B275>$B$1,\"３\",\"4\")))","v":"4"},"2017-04-24","d",12,"done!","ランチ、SNSチェック",60,{"$f":"IF(OR(J275=\"\",K275=\"\"),\"\",(K275-J275)/TIMEVALUE(\"1:00\")*60)","v":20.000000000000089},{"$f":"IF(H275=\"\",\"\",G275-H275)","v":39.999999999999915},"14:15:00","14:35:00"]
[{"$f":"IF(AND(B276=$B$1,K276=\"\"),\"２\",IF(AND(B276=$B$1,K276<>\"\"),\"１\",IF(B276>$B$1,\"３\",\"4\")))","v":"4"},"2017-04-24","h",14,"done!","STCメールチェック対応午後",20,{"$f":"IF(OR(J276=\"\",K276=\"\"),\"\",(K276-J276)/TIMEVALUE(\"1:00\")*60)","v":4.9999999999998224},{"$f":"IF(H276=\"\",\"\",G276-H276)","v":15.000000000000178},"14:35:00","14:40:00"]
[{"$f":"IF(AND(B277=$B$1,K277=\"\"),\"２\",IF(AND(B277=$B$1,K277<>\"\"),\"１\",IF(B277>$B$1,\"３\",\"4\")))","v":"4"},"2017-04-24","h",14,"done!","gmail、yahooメールチェック（午後）",10,{"$f":"IF(OR(J277=\"\",K277=\"\"),\"\",(K277-J277)/TIMEVALUE(\"1:00\")*60)","v":5.0000000000001421},{"$f":"IF(H277=\"\",\"\",G277-H277)","v":4.9999999999998579},"14:40:00","14:45:00"]
[{"$f":"IF(AND(B278=$B$1,K278=\"\"),\"２\",IF(AND(B278=$B$1,K278<>\"\"),\"１\",IF(B278>$B$1,\"３\",\"4\")))","v":"4"},"2017-04-24",null,14,"done!","洗車",60,{"$f":"IF(OR(J278=\"\",K278=\"\"),\"\",(K278-J278)/TIMEVALUE(\"1:00\")*60)","v":64.999999999999929},{"$f":"IF(H278=\"\",\"\",G278-H278)","v":-4.9999999999999289},"14:45:00","15:50:00"]
[{"$f":"IF(AND(B279=$B$1,K279=\"\"),\"２\",IF(AND(B279=$B$1,K279<>\"\"),\"１\",IF(B279>$B$1,\"３\",\"4\")))","v":"4"},"2017-04-24","h",17,"done!","gmail、yahooメールチェック（夕方）",10,{"$f":"IF(OR(J279=\"\",K279=\"\"),\"\",(K279-J279)/TIMEVALUE(\"1:00\")*60)","v":19.999999999999929},{"$f":"IF(H279=\"\",\"\",G279-H279)","v":-9.9999999999999289},"17:00:00","17:20:00"]
[{"$f":"IF(AND(B280=$B$1,K280=\"\"),\"２\",IF(AND(B280=$B$1,K280<>\"\"),\"１\",IF(B280>$B$1,\"３\",\"4\")))","v":"4"},"2017-04-24","h",17,"done!","STCメールチェック対応ラスト",20,{"$f":"IF(OR(J280=\"\",K280=\"\"),\"\",(K280-J280)/TIMEVALUE(\"1:00\")*60)","v":5.0000000000001421},{"$f":"IF(H280=\"\",\"\",G280-H280)","v":14.999999999999858},"17:20:00","17:25:00"]
[{"$f":"IF(AND(B281=$B$1,K281=\"\"),\"２\",IF(AND(B281=$B$1,K281<>\"\"),\"１\",IF(B281>$B$1,\"３\",\"4\")))","v":"4"},"2017-04-24","d",19,"done!","夕食、SNSチェック",60,{"$f":"IF(OR(J281=\"\",K281=\"\"),\"\",(K281-J281)/TIMEVALUE(\"1:00\")*60)","v":90},{"$f":"IF(H281=\"\",\"\",G281-H281)","v":-30},"20:00:00","21:30:00"]
[{"$f":"IF(AND(B282=$B$1,K282=\"\"),\"２\",IF(AND(B282=$B$1,K282<>\"\"),\"１\",IF(B282>$B$1,\"３\",\"4\")))","v":"4"},"2017-04-24","h",21,"done!","ブログ更新",90,{"$f":"IF(OR(J282=\"\",K282=\"\"),\"\",(K282-J282)/TIMEVALUE(\"1:00\")*60)","v":119.99999999999989},{"$f":"IF(H282=\"\",\"\",G282-H282)","v":-29.999999999999886},"21:30:00","23:30:00"]
[{"$f":"IF(AND(B283=$B$1,K283=\"\"),\"２\",IF(AND(B283=$B$1,K283<>\"\"),\"１\",IF(B283>$B$1,\"３\",\"4\")))","v":"4"},"2017-04-24","h",19,"done!","gmail、yahooメールチェック（夜）",10,{"$f":"IF(OR(J283=\"\",K283=\"\"),\"\",(K283-J283)/TIMEVALUE(\"1:00\")*60)","v":4.9999999999999822},{"$f":"IF(H283=\"\",\"\",G283-H283)","v":5.0000000000000178},"23:30:00","23:35:00"]
[{"$f":"IF(AND(B284=$B$1,K284=\"\"),\"２\",IF(AND(B284=$B$1,K284<>\"\"),\"１\",IF(B284>$B$1,\"３\",\"4\")))","v":"4"},"2017-04-25","d",6,"done!","朝食、SNSチェック",60,{"$f":"IF(OR(J284=\"\",K284=\"\"),\"\",(K284-J284)/TIMEVALUE(\"1:00\")*60)","v":29.999999999999972},{"$f":"IF(H284=\"\",\"\",G284-H284)","v":30.000000000000028},"06:15:00","06:45:00"]
[{"$f":"IF(AND(B285=$B$1,K285=\"\"),\"２\",IF(AND(B285=$B$1,K285<>\"\"),\"１\",IF(B285>$B$1,\"３\",\"4\")))","v":"4"},"2017-04-25",null,7,"done!","STCへ移動",90,{"$f":"IF(OR(J285=\"\",K285=\"\"),\"\",(K285-J285)/TIMEVALUE(\"1:00\")*60)","v":90},{"$f":"IF(H285=\"\",\"\",G285-H285)","v":0},"06:45:00","08:15:00"]
[{"$f":"IF(AND(B286=$B$1,K286=\"\"),\"２\",IF(AND(B286=$B$1,K286<>\"\"),\"１\",IF(B286>$B$1,\"３\",\"4\")))","v":"4"},"2017-04-25","d",8,"done!","タスク作成",15,{"$f":"IF(OR(J286=\"\",K286=\"\"),\"\",(K286-J286)/TIMEVALUE(\"1:00\")*60)","v":9.9999999999999645},{"$f":"IF(H286=\"\",\"\",G286-H286)","v":5.0000000000000355},"08:15:00","08:25:00"]
[{"$f":"IF(AND(B287=$B$1,K287=\"\"),\"２\",IF(AND(B287=$B$1,K287<>\"\"),\"１\",IF(B287>$B$1,\"３\",\"4\")))","v":"4"},"2017-04-25","h",8,"done!","gmail、yahooメールチェック（朝）",10,{"$f":"IF(OR(J287=\"\",K287=\"\"),\"\",(K287-J287)/TIMEVALUE(\"1:00\")*60)","v":10.000000000000044},{"$f":"IF(H287=\"\",\"\",G287-H287)","v":-4.4408920985006262E-14},"08:25:00","08:35:00"]
[{"$f":"IF(AND(B288=$B$1,K288=\"\"),\"２\",IF(AND(B288=$B$1,K288<>\"\"),\"１\",IF(B288>$B$1,\"３\",\"4\")))","v":"4"},"2017-04-25",null,10,"done!","産業資材提出資料の確認",60,{"$f":"IF(OR(J288=\"\",K288=\"\"),\"\",(K288-J288)/TIMEVALUE(\"1:00\")*60)","v":24.999999999999911},{"$f":"IF(H288=\"\",\"\",G288-H288)","v":35.000000000000085},"09:15:00","09:40:00"]
[{"$f":"IF(AND(B289=$B$1,K289=\"\"),\"２\",IF(AND(B289=$B$1,K289<>\"\"),\"１\",IF(B289>$B$1,\"３\",\"4\")))","v":"4"},"2017-04-25","h",11,"done!","gmail、yahooメールチェック（午前）",10,{"$f":"IF(OR(J289=\"\",K289=\"\"),\"\",(K289-J289)/TIMEVALUE(\"1:00\")*60)","v":10.000000000000124},{"$f":"IF(H289=\"\",\"\",G289-H289)","v":-1.2434497875801753E-13},"09:40:00","09:50:00"]
[{"$f":"IF(AND(B290=$B$1,K290=\"\"),\"２\",IF(AND(B290=$B$1,K290<>\"\"),\"１\",IF(B290>$B$1,\"３\",\"4\")))","v":"4"},"2017-04-25",null,9,"done!","セグメント、その他資料のチェック",40,{"$f":"IF(OR(J290=\"\",K290=\"\"),\"\",(K290-J290)/TIMEVALUE(\"1:00\")*60)","v":29.999999999999972},{"$f":"IF(H290=\"\",\"\",G290-H290)","v":10.000000000000028},"10:30:00","11:00:00"]
[{"$f":"IF(AND(B291=$B$1,K291=\"\"),\"２\",IF(AND(B291=$B$1,K291<>\"\"),\"１\",IF(B291>$B$1,\"３\",\"4\")))","v":"4"},"2017-04-25","d",12,"done!","ランチ、SNSチェック",60,{"$f":"IF(OR(J291=\"\",K291=\"\"),\"\",(K291-J291)/TIMEVALUE(\"1:00\")*60)","v":59.999999999999943},{"$f":"IF(H291=\"\",\"\",G291-H291)","v":5.6843418860808015E-14},"12:00:00","13:00:00"]
[{"$f":"IF(AND(B292=$B$1,K292=\"\"),\"２\",IF(AND(B292=$B$1,K292<>\"\"),\"１\",IF(B292>$B$1,\"３\",\"4\")))","v":"4"},"2017-04-25",null,11,"done!","連結RP資料のファイル保管（ルフト、STS）",30,{"$f":"IF(OR(J292=\"\",K292=\"\"),\"\",(K292-J292)/TIMEVALUE(\"1:00\")*60)","v":25.000000000000071},{"$f":"IF(H292=\"\",\"\",G292-H292)","v":4.9999999999999289},"13:00:00","13:25:00"]
[{"$f":"IF(AND(B293=$B$1,K293=\"\"),\"２\",IF(AND(B293=$B$1,K293<>\"\"),\"１\",IF(B293>$B$1,\"３\",\"4\")))","v":"4"},"2017-04-25",null,13,"done!","会社メールの整理",60,{"$f":"IF(OR(J293=\"\",K293=\"\"),\"\",(K293-J293)/TIMEVALUE(\"1:00\")*60)","v":64.999999999999929},{"$f":"IF(H293=\"\",\"\",G293-H293)","v":-4.9999999999999289},"13:25:00","14:30:00"]
[{"$f":"IF(AND(B294=$B$1,K294=\"\"),\"２\",IF(AND(B294=$B$1,K294<>\"\"),\"１\",IF(B294>$B$1,\"３\",\"4\")))","v":"4"},"2017-04-25","h",14,"done!","gmail、yahooメールチェック（午後）",10,{"$f":"IF(OR(J294=\"\",K294=\"\"),\"\",(K294-J294)/TIMEVALUE(\"1:00\")*60)","v":8.999999999999968},{"$f":"IF(H294=\"\",\"\",G294-H294)","v":1.000000000000032},"14:50:00","14:59:00"]
[{"$f":"IF(AND(B295=$B$1,K295=\"\"),\"２\",IF(AND(B295=$B$1,K295<>\"\"),\"１\",IF(B295>$B$1,\"３\",\"4\")))","v":"4"},"2017-04-25","h",17,"done!","gmail、yahooメールチェック（夕方）",10,{"$f":"IF(OR(J295=\"\",K295=\"\"),\"\",(K295-J295)/TIMEVALUE(\"1:00\")*60)","v":9.9999999999999645},{"$f":"IF(H295=\"\",\"\",G295-H295)","v":3.5527136788005009E-14},"17:00:00","17:10:00"]
[{"$f":"IF(AND(B296=$B$1,K296=\"\"),\"２\",IF(AND(B296=$B$1,K296<>\"\"),\"１\",IF(B296>$B$1,\"３\",\"4\")))","v":"4"},"2017-04-25",null,18,"done!","STCから帰宅",90,{"$f":"IF(OR(J296=\"\",K296=\"\"),\"\",(K296-J296)/TIMEVALUE(\"1:00\")*60)","v":70.000000000000071},{"$f":"IF(H296=\"\",\"\",G296-H296)","v":19.999999999999929},"17:20:00","18:30:00"]
[{"$f":"IF(AND(B297=$B$1,K297=\"\"),\"２\",IF(AND(B297=$B$1,K297<>\"\"),\"１\",IF(B297>$B$1,\"３\",\"4\")))","v":"4"},"2017-04-25","h",19,"done!","gmail、yahooメールチェック（夜）",10,{"$f":"IF(OR(J297=\"\",K297=\"\"),\"\",(K297-J297)/TIMEVALUE(\"1:00\")*60)","v":15.000000000000107},{"$f":"IF(H297=\"\",\"\",G297-H297)","v":-5.0000000000001066},"19:00:00","19:15:00"]
[{"$f":"IF(AND(B298=$B$1,K298=\"\"),\"２\",IF(AND(B298=$B$1,K298<>\"\"),\"１\",IF(B298>$B$1,\"３\",\"4\")))","v":"4"},"2017-04-25","d",19,"done!","夕食、SNSチェック",60,{"$f":"IF(OR(J298=\"\",K298=\"\"),\"\",(K298-J298)/TIMEVALUE(\"1:00\")*60)","v":80.000000000000028},{"$f":"IF(H298=\"\",\"\",G298-H298)","v":-20.000000000000028},"20:10:00","21:30:00"]
[{"$f":"IF(AND(B299=$B$1,K299=\"\"),\"２\",IF(AND(B299=$B$1,K299<>\"\"),\"１\",IF(B299>$B$1,\"３\",\"4\")))","v":"4"},"2017-04-25",null,18,"done!","NEO士業　動画視聴（25日まで）",40,{"$f":"IF(OR(J299=\"\",K299=\"\"),\"\",(K299-J299)/TIMEVALUE(\"1:00\")*60)","v":40.000000000000014},{"$f":"IF(H299=\"\",\"\",G299-H299)","v":-1.4210854715202004E-14},"22:30:00","23:10:00"]
[{"$f":"IF(AND(B300=$B$1,K300=\"\"),\"２\",IF(AND(B300=$B$1,K300<>\"\"),\"１\",IF(B300>$B$1,\"３\",\"4\")))","v":"4"},"2017-04-25","h",21,"done!","ブログ更新",90,{"$f":"IF(OR(J300=\"\",K300=\"\"),\"\",(K300-J300)/TIMEVALUE(\"1:00\")*60)","v":240.00000000000011},{"$f":"IF(H300=\"\",\"\",G300-H300)","v":-150.00000000000011},"22:30:00",1.1041666666666667]
[{"$f":"IF(AND(B301=$B$1,K301=\"\"),\"２\",IF(AND(B301=$B$1,K301<>\"\"),\"１\",IF(B301>$B$1,\"３\",\"4\")))","v":"4"},"2017-04-26","d",6,"done!","朝食、SNSチェック",60,{"$f":"IF(OR(J301=\"\",K301=\"\"),\"\",(K301-J301)/TIMEVALUE(\"1:00\")*60)","v":50.000000000000064},{"$f":"IF(H301=\"\",\"\",G301-H301)","v":9.9999999999999361},"08:10:00","09:00:00"]
[{"$f":"IF(AND(B302=$B$1,K302=\"\"),\"２\",IF(AND(B302=$B$1,K302<>\"\"),\"１\",IF(B302>$B$1,\"３\",\"4\")))","v":"4"},"2017-04-26","d",8,"done!","タスク作成",15,{"$f":"IF(OR(J302=\"\",K302=\"\"),\"\",(K302-J302)/TIMEVALUE(\"1:00\")*60)","v":9.9999999999999645},{"$f":"IF(H302=\"\",\"\",G302-H302)","v":5.0000000000000355},"09:00:00","09:10:00"]
[{"$f":"IF(AND(B303=$B$1,K303=\"\"),\"２\",IF(AND(B303=$B$1,K303<>\"\"),\"１\",IF(B303>$B$1,\"３\",\"4\")))","v":"4"},"2017-04-26","h",8,"done!","gmail、yahooメールチェック（朝）",10,{"$f":"IF(OR(J303=\"\",K303=\"\"),\"\",(K303-J303)/TIMEVALUE(\"1:00\")*60)","v":10.000000000000044},{"$f":"IF(H303=\"\",\"\",G303-H303)","v":-4.4408920985006262E-14},"09:10:00","09:20:00"]
[{"$f":"IF(AND(B304=$B$1,K304=\"\"),\"２\",IF(AND(B304=$B$1,K304<>\"\"),\"１\",IF(B304>$B$1,\"３\",\"4\")))","v":"4"},"2017-04-26","m",9,"done!","4/25家賃振り込み（STコンサル）",10,{"$f":"IF(OR(J304=\"\",K304=\"\"),\"\",(K304-J304)/TIMEVALUE(\"1:00\")*60)","v":15.000000000000027},{"$f":"IF(H304=\"\",\"\",G304-H304)","v":-5.0000000000000266},"09:20:00","09:35:00"]
[{"$f":"IF(AND(B305=$B$1,K305=\"\"),\"２\",IF(AND(B305=$B$1,K305<>\"\"),\"１\",IF(B305>$B$1,\"３\",\"4\")))","v":"4"},"2017-04-26","h",10,"done!","STCメールチェック対応午前",20,{"$f":"IF(OR(J305=\"\",K305=\"\"),\"\",(K305-J305)/TIMEVALUE(\"1:00\")*60)","v":29.999999999999972},{"$f":"IF(H305=\"\",\"\",G305-H305)","v":-9.9999999999999716},"10:20:00","10:50:00"]
[{"$f":"IF(AND(B306=$B$1,K306=\"\"),\"２\",IF(AND(B306=$B$1,K306<>\"\"),\"１\",IF(B306>$B$1,\"３\",\"4\")))","v":"4"},"2017-04-26","h",11,"done!","gmail、yahooメールチェック（午前）",10,{"$f":"IF(OR(J306=\"\",K306=\"\"),\"\",(K306-J306)/TIMEVALUE(\"1:00\")*60)","v":9.9999999999999645},{"$f":"IF(H306=\"\",\"\",G306-H306)","v":3.5527136788005009E-14},"10:50:00","11:00:00"]
[{"$f":"IF(AND(B307=$B$1,K307=\"\"),\"２\",IF(AND(B307=$B$1,K307<>\"\"),\"１\",IF(B307>$B$1,\"３\",\"4\")))","v":"4"},"2017-04-26",null,12,"done!","ゴルフ練習",90,{"$f":"IF(OR(J307=\"\",K307=\"\"),\"\",(K307-J307)/TIMEVALUE(\"1:00\")*60)","v":79.999999999999957},{"$f":"IF(H307=\"\",\"\",G307-H307)","v":10.000000000000043},"11:40:00","13:00:00"]
[{"$f":"IF(AND(B308=$B$1,K308=\"\"),\"２\",IF(AND(B308=$B$1,K308<>\"\"),\"１\",IF(B308>$B$1,\"３\",\"4\")))","v":"4"},"2017-04-26","d",12,"done!","ランチ、SNSチェック",60,{"$f":"IF(OR(J308=\"\",K308=\"\"),\"\",(K308-J308)/TIMEVALUE(\"1:00\")*60)","v":40.000000000000014},{"$f":"IF(H308=\"\",\"\",G308-H308)","v":19.999999999999986},"13:00:00","13:40:00"]
[{"$f":"IF(AND(B309=$B$1,K309=\"\"),\"２\",IF(AND(B309=$B$1,K309<>\"\"),\"１\",IF(B309>$B$1,\"３\",\"4\")))","v":"4"},"2017-04-26","h",14,"done!","gmail、yahooメールチェック（午後）",10,{"$f":"IF(OR(J309=\"\",K309=\"\"),\"\",(K309-J309)/TIMEVALUE(\"1:00\")*60)","v":10.000000000000124},{"$f":"IF(H309=\"\",\"\",G309-H309)","v":-1.2434497875801753E-13},"13:40:00","13:50:00"]
[{"$f":"IF(AND(B310=$B$1,K310=\"\"),\"２\",IF(AND(B310=$B$1,K310<>\"\"),\"１\",IF(B310>$B$1,\"３\",\"4\")))","v":"4"},"2017-04-26","h",14,"done!","STCメールチェック対応午後",20,{"$f":"IF(OR(J310=\"\",K310=\"\"),\"\",(K310-J310)/TIMEVALUE(\"1:00\")*60)","v":9.9999999999999645},{"$f":"IF(H310=\"\",\"\",G310-H310)","v":10.000000000000036},"13:50:00","14:00:00"]
[{"$f":"IF(AND(B311=$B$1,K311=\"\"),\"２\",IF(AND(B311=$B$1,K311<>\"\"),\"１\",IF(B311>$B$1,\"３\",\"4\")))","v":"4"},"2017-04-26",null,9,"done!","ルフト中間申告eLTAX",60,{"$f":"IF(OR(J311=\"\",K311=\"\"),\"\",(K311-J311)/TIMEVALUE(\"1:00\")*60)","v":149.99999999999977},{"$f":"IF(H311=\"\",\"\",G311-H311)","v":-89.999999999999773},"13:50:00","16:20:00"]
[{"$f":"IF(AND(B312=$B$1,K312=\"\"),\"２\",IF(AND(B312=$B$1,K312<>\"\"),\"１\",IF(B312>$B$1,\"３\",\"4\")))","v":"4"},"2017-04-26","h",17,"done!","STCメールチェック対応ラスト",20,{"$f":"IF(OR(J312=\"\",K312=\"\"),\"\",(K312-J312)/TIMEVALUE(\"1:00\")*60)","v":19.999999999999929},{"$f":"IF(H312=\"\",\"\",G312-H312)","v":7.1054273576010019E-14},"16:40:00","17:00:00"]
[{"$f":"IF(AND(B313=$B$1,K313=\"\"),\"２\",IF(AND(B313=$B$1,K313<>\"\"),\"１\",IF(B313>$B$1,\"３\",\"4\")))","v":"4"},"2017-04-26","h",17,"done!","gmail、yahooメールチェック（夕方）",10,{"$f":"IF(OR(J313=\"\",K313=\"\"),\"\",(K313-J313)/TIMEVALUE(\"1:00\")*60)","v":9.9999999999999645},{"$f":"IF(H313=\"\",\"\",G313-H313)","v":3.5527136788005009E-14},"17:00:00","17:10:00"]
[{"$f":"IF(AND(B314=$B$1,K314=\"\"),\"２\",IF(AND(B314=$B$1,K314<>\"\"),\"１\",IF(B314>$B$1,\"３\",\"4\")))","v":"4"},"2017-04-26",null,16,"done!","セミナーへ移動",90,{"$f":"IF(OR(J314=\"\",K314=\"\"),\"\",(K314-J314)/TIMEVALUE(\"1:00\")*60)","v":85.000000000000014},{"$f":"IF(H314=\"\",\"\",G314-H314)","v":4.9999999999999858},"16:35:00","18:00:00"]
[{"$f":"IF(AND(B315=$B$1,K315=\"\"),\"２\",IF(AND(B315=$B$1,K315<>\"\"),\"１\",IF(B315>$B$1,\"３\",\"4\")))","v":"4"},"2017-04-26",null,18,"done!","セミナー",120,{"$f":"IF(OR(J315=\"\",K315=\"\"),\"\",(K315-J315)/TIMEVALUE(\"1:00\")*60)","v":124.99999999999987},{"$f":"IF(H315=\"\",\"\",G315-H315)","v":-4.9999999999998721},"18:00:00","20:05:00"]
[{"$f":"IF(AND(B316=$B$1,K316=\"\"),\"２\",IF(AND(B316=$B$1,K316<>\"\"),\"１\",IF(B316>$B$1,\"３\",\"4\")))","v":"4"},"2017-04-26",null,20,"done!","セミナーから帰宅",90,{"$f":"IF(OR(J316=\"\",K316=\"\"),\"\",(K316-J316)/TIMEVALUE(\"1:00\")*60)","v":85.000000000000171},{"$f":"IF(H316=\"\",\"\",G316-H316)","v":4.9999999999998295},"20:05:00","21:30:00"]
[{"$f":"IF(AND(B317=$B$1,K317=\"\"),\"２\",IF(AND(B317=$B$1,K317<>\"\"),\"１\",IF(B317>$B$1,\"３\",\"4\")))","v":"4"},"2017-04-26","h",19,"done!","gmail、yahooメールチェック（夜）",10,{"$f":"IF(OR(J317=\"\",K317=\"\"),\"\",(K317-J317)/TIMEVALUE(\"1:00\")*60)","v":9.9999999999999645},{"$f":"IF(H317=\"\",\"\",G317-H317)","v":3.5527136788005009E-14},"21:30:00","21:40:00"]
[{"$f":"IF(AND(B318=$B$1,K318=\"\"),\"２\",IF(AND(B318=$B$1,K318<>\"\"),\"１\",IF(B318>$B$1,\"３\",\"4\")))","v":"4"},"2017-04-26","d",19,"done!","夕食、SNSチェック",60,{"$f":"IF(OR(J318=\"\",K318=\"\"),\"\",(K318-J318)/TIMEVALUE(\"1:00\")*60)","v":25.000000000000071},{"$f":"IF(H318=\"\",\"\",G318-H318)","v":34.999999999999929},"21:45:00","22:10:00"]
[{"$f":"IF(AND(B319=$B$1,K319=\"\"),\"２\",IF(AND(B319=$B$1,K319<>\"\"),\"１\",IF(B319>$B$1,\"３\",\"4\")))","v":"4"},"2017-04-26","h",21,"done!","ブログ更新",90,{"$f":"IF(OR(J319=\"\",K319=\"\"),\"\",(K319-J319)/TIMEVALUE(\"1:00\")*60)","v":59.999999999999943},{"$f":"IF(H319=\"\",\"\",G319-H319)","v":30.000000000000057},"22:10:00","23:10:00"]
[{"$f":"IF(AND(B320=$B$1,K320=\"\"),\"２\",IF(AND(B320=$B$1,K320<>\"\"),\"１\",IF(B320>$B$1,\"３\",\"4\")))","v":"4"},"2017-04-27","d",6,"done!","朝食、SNSチェック",60,{"$f":"IF(OR(J320=\"\",K320=\"\"),\"\",(K320-J320)/TIMEVALUE(\"1:00\")*60)","v":29.999999999999972},{"$f":"IF(H320=\"\",\"\",G320-H320)","v":30.000000000000028},"06:15:00","06:45:00"]
[{"$f":"IF(AND(B321=$B$1,K321=\"\"),\"２\",IF(AND(B321=$B$1,K321<>\"\"),\"１\",IF(B321>$B$1,\"３\",\"4\")))","v":"4"},"2017-04-27",null,6,"done!","STCへ移動",90,{"$f":"IF(OR(J321=\"\",K321=\"\"),\"\",(K321-J321)/TIMEVALUE(\"1:00\")*60)","v":99.999999999999972},{"$f":"IF(H321=\"\",\"\",G321-H321)","v":-9.9999999999999716},"06:45:00","08:25:00"]
[{"$f":"IF(AND(B322=$B$1,K322=\"\"),\"２\",IF(AND(B322=$B$1,K322<>\"\"),\"１\",IF(B322>$B$1,\"３\",\"4\")))","v":"4"},"2017-04-27","h",8,"done!","gmail、yahooメールチェック（朝）",10,{"$f":"IF(OR(J322=\"\",K322=\"\"),\"\",(K322-J322)/TIMEVALUE(\"1:00\")*60)","v":10.000000000000044},{"$f":"IF(H322=\"\",\"\",G322-H322)","v":-4.4408920985006262E-14},"08:25:00","08:35:00"]
[{"$f":"IF(AND(B323=$B$1,K323=\"\"),\"２\",IF(AND(B323=$B$1,K323<>\"\"),\"１\",IF(B323>$B$1,\"３\",\"4\")))","v":"4"},"2017-04-27","d",8,"done!","タスク作成",15,{"$f":"IF(OR(J323=\"\",K323=\"\"),\"\",(K323-J323)/TIMEVALUE(\"1:00\")*60)","v":15.000000000000027},{"$f":"IF(H323=\"\",\"\",G323-H323)","v":-2.6645352591003757E-14},"08:35:00","08:50:00"]
[{"$f":"IF(AND(B324=$B$1,K324=\"\"),\"２\",IF(AND(B324=$B$1,K324<>\"\"),\"１\",IF(B324>$B$1,\"３\",\"4\")))","v":"4"},"2017-04-27",null,9,"done!","産業資材の資料チェック",15,{"$f":"IF(OR(J324=\"\",K324=\"\"),\"\",(K324-J324)/TIMEVALUE(\"1:00\")*60)","v":14.999999999999947},{"$f":"IF(H324=\"\",\"\",G324-H324)","v":5.3290705182007514E-14},"09:15:00","09:30:00"]
[{"$f":"IF(AND(B325=$B$1,K325=\"\"),\"２\",IF(AND(B325=$B$1,K325<>\"\"),\"１\",IF(B325>$B$1,\"３\",\"4\")))","v":"4"},"2017-04-27",null,10,"done!","有朋チェック",90,{"$f":"IF(OR(J325=\"\",K325=\"\"),\"\",(K325-J325)/TIMEVALUE(\"1:00\")*60)","v":120.00000000000006},{"$f":"IF(H325=\"\",\"\",G325-H325)","v":-30.000000000000057},"09:30:00","11:30:00"]
[{"$f":"IF(AND(B326=$B$1,K326=\"\"),\"２\",IF(AND(B326=$B$1,K326<>\"\"),\"１\",IF(B326>$B$1,\"３\",\"4\")))","v":"4"},"2017-04-27","h",11,"done!","gmail、yahooメールチェック（午前）",10,{"$f":"IF(OR(J326=\"\",K326=\"\"),\"\",(K326-J326)/TIMEVALUE(\"1:00\")*60)","v":9.9999999999999645},{"$f":"IF(H326=\"\",\"\",G326-H326)","v":3.5527136788005009E-14},"11:30:00","11:40:00"]
[{"$f":"IF(AND(B327=$B$1,K327=\"\"),\"２\",IF(AND(B327=$B$1,K327<>\"\"),\"１\",IF(B327>$B$1,\"３\",\"4\")))","v":"4"},"2017-04-27","d",12,"done!","ランチ、SNSチェック",60,{"$f":"IF(OR(J327=\"\",K327=\"\"),\"\",(K327-J327)/TIMEVALUE(\"1:00\")*60)","v":49.999999999999986},{"$f":"IF(H327=\"\",\"\",G327-H327)","v":10.000000000000014},"12:00:00","12:50:00"]
[{"$f":"IF(AND(B328=$B$1,K328=\"\"),\"２\",IF(AND(B328=$B$1,K328<>\"\"),\"１\",IF(B328>$B$1,\"３\",\"4\")))","v":"4"},"2017-04-27",null,14,"done!","四半報読み合わせ",90,{"$f":"IF(OR(J328=\"\",K328=\"\"),\"\",(K328-J328)/TIMEVALUE(\"1:00\")*60)","v":29.999999999999893},{"$f":"IF(H328=\"\",\"\",G328-H328)","v":60.000000000000107},"14:00:00","14:30:00"]
[{"$f":"IF(AND(B329=$B$1,K329=\"\"),\"２\",IF(AND(B329=$B$1,K329<>\"\"),\"１\",IF(B329>$B$1,\"３\",\"4\")))","v":"4"},"2017-04-27","h",14,"done!","gmail、yahooメールチェック（午後）",10,{"$f":"IF(OR(J329=\"\",K329=\"\"),\"\",(K329-J329)/TIMEVALUE(\"1:00\")*60)","v":9.9999999999999645},{"$f":"IF(H329=\"\",\"\",G329-H329)","v":3.5527136788005009E-14},"14:30:00","14:40:00"]
[{"$f":"IF(AND(B330=$B$1,K330=\"\"),\"２\",IF(AND(B330=$B$1,K330<>\"\"),\"１\",IF(B330>$B$1,\"３\",\"4\")))","v":"4"},"2017-04-27","h",17,"done!","gmail、yahooメールチェック（夕方）",10,{"$f":"IF(OR(J330=\"\",K330=\"\"),\"\",(K330-J330)/TIMEVALUE(\"1:00\")*60)","v":9.9999999999999645},{"$f":"IF(H330=\"\",\"\",G330-H330)","v":3.5527136788005009E-14},"17:00:00","17:10:00"]
[{"$f":"IF(AND(B331=$B$1,K331=\"\"),\"２\",IF(AND(B331=$B$1,K331<>\"\"),\"１\",IF(B331>$B$1,\"３\",\"4\")))","v":"4"},"2017-04-27",null,17,"done!","STCから帰宅",90,{"$f":"IF(OR(J331=\"\",K331=\"\"),\"\",(K331-J331)/TIMEVALUE(\"1:00\")*60)","v":70.000000000000071},{"$f":"IF(H331=\"\",\"\",G331-H331)","v":19.999999999999929},"16:20:00","17:30:00"]
[{"$f":"IF(AND(B332=$B$1,K332=\"\"),\"２\",IF(AND(B332=$B$1,K332<>\"\"),\"１\",IF(B332>$B$1,\"３\",\"4\")))","v":"4"},"2017-04-27","h",19,"done!","gmail、yahooメールチェック（夜）",10,{"$f":"IF(OR(J332=\"\",K332=\"\"),\"\",(K332-J332)/TIMEVALUE(\"1:00\")*60)","v":10.000000000000124},{"$f":"IF(H332=\"\",\"\",G332-H332)","v":-1.2434497875801753E-13},"19:00:00","19:10:00"]
[{"$f":"IF(AND(B333=$B$1,K333=\"\"),\"２\",IF(AND(B333=$B$1,K333<>\"\"),\"１\",IF(B333>$B$1,\"３\",\"4\")))","v":"4"},"2017-04-27","d",19,"done!","夕食、SNSチェック",60,{"$f":"IF(OR(J333=\"\",K333=\"\"),\"\",(K333-J333)/TIMEVALUE(\"1:00\")*60)","v":79.999999999999872},{"$f":"IF(H333=\"\",\"\",G333-H333)","v":-19.999999999999872},"19:10:00","20:30:00"]
[{"$f":"IF(AND(B334=$B$1,K334=\"\"),\"２\",IF(AND(B334=$B$1,K334<>\"\"),\"１\",IF(B334>$B$1,\"３\",\"4\")))","v":"4"},"2017-04-27","h",21,"done!","ブログ更新",90,{"$f":"IF(OR(J334=\"\",K334=\"\"),\"\",(K334-J334)/TIMEVALUE(\"1:00\")*60)","v":239.99999999999994},{"$f":"IF(H334=\"\",\"\",G334-H334)","v":-149.99999999999994},"22:00:00",1.0833333333333333]
[{"$f":"IF(AND(B335=$B$1,K335=\"\"),\"２\",IF(AND(B335=$B$1,K335<>\"\"),\"１\",IF(B335>$B$1,\"３\",\"4\")))","v":"4"},"2017-04-28","d",6,"done!","朝食、SNSチェック",60,{"$f":"IF(OR(J335=\"\",K335=\"\"),\"\",(K335-J335)/TIMEVALUE(\"1:00\")*60)","v":74.999999999999972},{"$f":"IF(H335=\"\",\"\",G335-H335)","v":-14.999999999999972},"08:15:00","09:30:00"]
[{"$f":"IF(AND(B336=$B$1,K336=\"\"),\"２\",IF(AND(B336=$B$1,K336<>\"\"),\"１\",IF(B336>$B$1,\"３\",\"4\")))","v":"4"},"2017-04-28","d",8,"done!","タスク作成",15,{"$f":"IF(OR(J336=\"\",K336=\"\"),\"\",(K336-J336)/TIMEVALUE(\"1:00\")*60)","v":5.9999999999999787},{"$f":"IF(H336=\"\",\"\",G336-H336)","v":9.0000000000000213},"09:30:00","09:36:00"]
[{"$f":"IF(AND(B337=$B$1,K337=\"\"),\"２\",IF(AND(B337=$B$1,K337<>\"\"),\"１\",IF(B337>$B$1,\"３\",\"4\")))","v":"4"},"2017-04-28","h",8,"done!","gmail、yahooメールチェック（朝）",10,{"$f":"IF(OR(J337=\"\",K337=\"\"),\"\",(K337-J337)/TIMEVALUE(\"1:00\")*60)","v":26.000000000000068},{"$f":"IF(H337=\"\",\"\",G337-H337)","v":-16.000000000000068},"09:36:00","10:02:00"]
[{"$f":"IF(AND(B338=$B$1,K338=\"\"),\"２\",IF(AND(B338=$B$1,K338<>\"\"),\"１\",IF(B338>$B$1,\"３\",\"4\")))","v":"4"},"2017-04-28","h",10,"done!","STCメールチェック対応午前",20,{"$f":"IF(OR(J338=\"\",K338=\"\"),\"\",(K338-J338)/TIMEVALUE(\"1:00\")*60)","v":2.9999999999999893},{"$f":"IF(H338=\"\",\"\",G338-H338)","v":17.000000000000011},"10:02:00","10:05:00"]
[{"$f":"IF(AND(B339=$B$1,K339=\"\"),\"２\",IF(AND(B339=$B$1,K339<>\"\"),\"１\",IF(B339>$B$1,\"３\",\"4\")))","v":"4"},"2017-04-28","h",11,"done!","gmail、yahooメールチェック（午前）",10,{"$f":"IF(OR(J339=\"\",K339=\"\"),\"\",(K339-J339)/TIMEVALUE(\"1:00\")*60)","v":15.000000000000027},{"$f":"IF(H339=\"\",\"\",G339-H339)","v":-5.0000000000000266},"11:00:00","11:15:00"]
[{"$f":"IF(AND(B340=$B$1,K340=\"\"),\"２\",IF(AND(B340=$B$1,K340<>\"\"),\"１\",IF(B340>$B$1,\"３\",\"4\")))","v":"4"},"2017-04-28",null,12,"done!","ゴルフ練習",90,{"$f":"IF(OR(J340=\"\",K340=\"\"),\"\",(K340-J340)/TIMEVALUE(\"1:00\")*60)","v":94.999999999999986},{"$f":"IF(H340=\"\",\"\",G340-H340)","v":-4.9999999999999858},"11:50:00","13:25:00"]
[{"$f":"IF(AND(B341=$B$1,K341=\"\"),\"２\",IF(AND(B341=$B$1,K341<>\"\"),\"１\",IF(B341>$B$1,\"３\",\"4\")))","v":"4"},"2017-04-28","h",14,"done!","gmail、yahooメールチェック（午後）",10,{"$f":"IF(OR(J341=\"\",K341=\"\"),\"\",(K341-J341)/TIMEVALUE(\"1:00\")*60)","v":9.9999999999999645},{"$f":"IF(H341=\"\",\"\",G341-H341)","v":3.5527136788005009E-14},"14:00:00","14:10:00"]
[{"$f":"IF(AND(B342=$B$1,K342=\"\"),\"２\",IF(AND(B342=$B$1,K342<>\"\"),\"１\",IF(B342>$B$1,\"３\",\"4\")))","v":"4"},"2017-04-28","d",12,"done!","ランチ、SNSチェック",60,{"$f":"IF(OR(J342=\"\",K342=\"\"),\"\",(K342-J342)/TIMEVALUE(\"1:00\")*60)","v":49.999999999999986},{"$f":"IF(H342=\"\",\"\",G342-H342)","v":10.000000000000014},"13:25:00","14:15:00"]
[{"$f":"IF(AND(B343=$B$1,K343=\"\"),\"２\",IF(AND(B343=$B$1,K343<>\"\"),\"１\",IF(B343>$B$1,\"３\",\"4\")))","v":"4"},"2017-04-28","h",14,"done!","STCメールチェック対応午後",20,{"$f":"IF(OR(J343=\"\",K343=\"\"),\"\",(K343-J343)/TIMEVALUE(\"1:00\")*60)","v":2.9999999999999893},{"$f":"IF(H343=\"\",\"\",G343-H343)","v":17.000000000000011},"14:15:00","14:18:00"]
[{"$f":"IF(AND(B344=$B$1,K344=\"\"),\"２\",IF(AND(B344=$B$1,K344<>\"\"),\"１\",IF(B344>$B$1,\"３\",\"4\")))","v":"4"},"2017-04-28",null,16,"done!","社会保険料振込、郵便物投函（税理士会）",40,{"$f":"IF(OR(J344=\"\",K344=\"\"),\"\",(K344-J344)/TIMEVALUE(\"1:00\")*60)","v":64.000000000000085},{"$f":"IF(H344=\"\",\"\",G344-H344)","v":-24.000000000000085},"14:18:00","15:22:00"]
[{"$f":"IF(AND(B345=$B$1,K345=\"\"),\"２\",IF(AND(B345=$B$1,K345<>\"\"),\"１\",IF(B345>$B$1,\"３\",\"4\")))","v":"4"},"2017-04-28",null,13,"done!","ルフト中間申告書確認",30,{"$f":"IF(OR(J345=\"\",K345=\"\"),\"\",(K345-J345)/TIMEVALUE(\"1:00\")*60)","v":32.999999999999886},{"$f":"IF(H345=\"\",\"\",G345-H345)","v":-2.9999999999998863},"15:22:00","15:55:00"]
[{"$f":"IF(AND(B346=$B$1,K346=\"\"),\"２\",IF(AND(B346=$B$1,K346<>\"\"),\"１\",IF(B346>$B$1,\"３\",\"4\")))","v":"4"},"2017-04-28","h",17,"done!","STCメールチェック対応ラスト",20,{"$f":"IF(OR(J346=\"\",K346=\"\"),\"\",(K346-J346)/TIMEVALUE(\"1:00\")*60)","v":0.99999999999983658},{"$f":"IF(H346=\"\",\"\",G346-H346)","v":19.000000000000163},"17:45:00","17:46:00"]
[{"$f":"IF(AND(B347=$B$1,K347=\"\"),\"２\",IF(AND(B347=$B$1,K347<>\"\"),\"１\",IF(B347>$B$1,\"３\",\"4\")))","v":"4"},"2017-04-28","h",17,"done!","gmail、yahooメールチェック（夕方）",10,{"$f":"IF(OR(J347=\"\",K347=\"\"),\"\",(K347-J347)/TIMEVALUE(\"1:00\")*60)","v":14.00000000000011},{"$f":"IF(H347=\"\",\"\",G347-H347)","v":-4.0000000000001101},"17:46:00","18:00:00"]
[{"$f":"IF(AND(B348=$B$1,K348=\"\"),\"２\",IF(AND(B348=$B$1,K348<>\"\"),\"１\",IF(B348>$B$1,\"３\",\"4\")))","v":"4"},"2017-04-28","h",19,"done!","gmail、yahooメールチェック（夜）",10,{"$f":"IF(OR(J348=\"\",K348=\"\"),\"\",(K348-J348)/TIMEVALUE(\"1:00\")*60)","v":10.000000000000124},{"$f":"IF(H348=\"\",\"\",G348-H348)","v":-1.2434497875801753E-13},"18:00:00","18:10:00"]
[{"$f":"IF(AND(B349=$B$1,K349=\"\"),\"２\",IF(AND(B349=$B$1,K349<>\"\"),\"１\",IF(B349>$B$1,\"３\",\"4\")))","v":"4"},"2017-04-28","d",19,"done!","夕食、SNSチェック",60,{"$f":"IF(OR(J349=\"\",K349=\"\"),\"\",(K349-J349)/TIMEVALUE(\"1:00\")*60)","v":90},{"$f":"IF(H349=\"\",\"\",G349-H349)","v":-30},"20:00:00","21:30:00"]
[{"$f":"IF(AND(B350=$B$1,K350=\"\"),\"２\",IF(AND(B350=$B$1,K350<>\"\"),\"１\",IF(B350>$B$1,\"３\",\"4\")))","v":"4"},"2017-04-28","h",21,"done!","ブログ更新",90,{"$f":"IF(OR(J350=\"\",K350=\"\"),\"\",(K350-J350)/TIMEVALUE(\"1:00\")*60)","v":90},{"$f":"IF(H350=\"\",\"\",G350-H350)","v":0},"21:30:00","23:00:00"]
[{"$f":"IF(AND(B351=$B$1,K351=\"\"),\"２\",IF(AND(B351=$B$1,K351<>\"\"),\"１\",IF(B351>$B$1,\"３\",\"4\")))","v":"4"},"2017-05-01","d",6,"done!","朝食、SNSチェック",60,{"$f":"IF(OR(J351=\"\",K351=\"\"),\"\",(K351-J351)/TIMEVALUE(\"1:00\")*60)","v":46.999999999999993},{"$f":"IF(H351=\"\",\"\",G351-H351)","v":13.000000000000007},"06:35:00","07:22:00"]
[{"$f":"IF(AND(B352=$B$1,K352=\"\"),\"２\",IF(AND(B352=$B$1,K352<>\"\"),\"１\",IF(B352>$B$1,\"３\",\"4\")))","v":"4"},"2017-05-01","d",8,"done!","タスク作成",15,{"$f":"IF(OR(J352=\"\",K352=\"\"),\"\",(K352-J352)/TIMEVALUE(\"1:00\")*60)","v":5.0000000000000622},{"$f":"IF(H352=\"\",\"\",G352-H352)","v":9.9999999999999378},"07:22:00","07:27:00"]
[{"$f":"IF(AND(B353=$B$1,K353=\"\"),\"２\",IF(AND(B353=$B$1,K353<>\"\"),\"１\",IF(B353>$B$1,\"３\",\"4\")))","v":"4"},"2017-05-01","h",8,"done!","gmail、yahooメールチェック（朝）",10,{"$f":"IF(OR(J353=\"\",K353=\"\"),\"\",(K353-J353)/TIMEVALUE(\"1:00\")*60)","v":27.999999999999979},{"$f":"IF(H353=\"\",\"\",G353-H353)","v":-17.999999999999979},"07:27:00","07:55:00"]
[{"$f":"IF(AND(B354=$B$1,K354=\"\"),\"２\",IF(AND(B354=$B$1,K354<>\"\"),\"１\",IF(B354>$B$1,\"３\",\"4\")))","v":"4"},"2017-05-01","d",18,"done!","交通費記録",5,{"$f":"IF(OR(J354=\"\",K354=\"\"),\"\",(K354-J354)/TIMEVALUE(\"1:00\")*60)","v":25.000000000000071},{"$f":"IF(H354=\"\",\"\",G354-H354)","v":-20.000000000000071},"07:55:00","08:20:00"]
[{"$f":"IF(AND(B355=$B$1,K355=\"\"),\"２\",IF(AND(B355=$B$1,K355<>\"\"),\"１\",IF(B355>$B$1,\"３\",\"4\")))","v":"4"},"2017-05-01","m",13,"done!","STC請求書作成、送付",20,{"$f":"IF(OR(J355=\"\",K355=\"\"),\"\",(K355-J355)/TIMEVALUE(\"1:00\")*60)","v":79.999999999999872},{"$f":"IF(H355=\"\",\"\",G355-H355)","v":-59.999999999999872},"08:20:00","09:40:00"]
[{"$f":"IF(AND(B356=$B$1,K356=\"\"),\"２\",IF(AND(B356=$B$1,K356<>\"\"),\"１\",IF(B356>$B$1,\"３\",\"4\")))","v":"4"},"2017-05-01","h",10,"done!","STCメールチェック対応午前",20,{"$f":"IF(OR(J356=\"\",K356=\"\"),\"\",(K356-J356)/TIMEVALUE(\"1:00\")*60)","v":4.9999999999999822},{"$f":"IF(H356=\"\",\"\",G356-H356)","v":15.000000000000018},"12:00:00","12:05:00"]
[{"$f":"IF(AND(B357=$B$1,K357=\"\"),\"２\",IF(AND(B357=$B$1,K357<>\"\"),\"１\",IF(B357>$B$1,\"３\",\"4\")))","v":"4"},"2017-05-01",null,9,"done!","個人事業、STコンサル記帳",120,{"$f":"IF(OR(J357=\"\",K357=\"\"),\"\",(K357-J357)/TIMEVALUE(\"1:00\")*60)","v":200},{"$f":"IF(H357=\"\",\"\",G357-H357)","v":-80},"09:40:00","13:00:00"]
[{"$f":"IF(AND(B358=$B$1,K358=\"\"),\"２\",IF(AND(B358=$B$1,K358<>\"\"),\"１\",IF(B358>$B$1,\"３\",\"4\")))","v":"4"},"2017-05-01","d",12,"done!","ランチ、SNSチェック",60,{"$f":"IF(OR(J358=\"\",K358=\"\"),\"\",(K358-J358)/TIMEVALUE(\"1:00\")*60)","v":25.000000000000071},{"$f":"IF(H358=\"\",\"\",G358-H358)","v":34.999999999999929},"13:00:00","13:25:00"]
[{"$f":"IF(AND(B359=$B$1,K359=\"\"),\"２\",IF(AND(B359=$B$1,K359<>\"\"),\"１\",IF(B359>$B$1,\"３\",\"4\")))","v":"4"},"2017-05-01","h",11,"done!","gmail、yahooメールチェック（午前）",10,{"$f":"IF(OR(J359=\"\",K359=\"\"),\"\",(K359-J359)/TIMEVALUE(\"1:00\")*60)","v":19.999999999999929},{"$f":"IF(H359=\"\",\"\",G359-H359)","v":-9.9999999999999289},"13:25:00","13:45:00"]
[{"$f":"IF(AND(B360=$B$1,K360=\"\"),\"２\",IF(AND(B360=$B$1,K360<>\"\"),\"１\",IF(B360>$B$1,\"３\",\"4\")))","v":"4"},"2017-05-01","h",14,"done!","STCメールチェック対応午後",20,{"$f":"IF(OR(J360=\"\",K360=\"\"),\"\",(K360-J360)/TIMEVALUE(\"1:00\")*60)","v":30.000000000000053},{"$f":"IF(H360=\"\",\"\",G360-H360)","v":-10.000000000000053},"14:25:00","14:55:00"]
[{"$f":"IF(AND(B361=$B$1,K361=\"\"),\"２\",IF(AND(B361=$B$1,K361<>\"\"),\"１\",IF(B361>$B$1,\"３\",\"4\")))","v":"4"},"2017-05-01","h",14,"done!","gmail、yahooメールチェック（午後）",10,{"$f":"IF(OR(J361=\"\",K361=\"\"),\"\",(K361-J361)/TIMEVALUE(\"1:00\")*60)","v":1.9999999999999929},{"$f":"IF(H361=\"\",\"\",G361-H361)","v":8.0000000000000071},"14:55:00","14:57:00"]
[{"$f":"IF(AND(B362=$B$1,K362=\"\"),\"２\",IF(AND(B362=$B$1,K362<>\"\"),\"１\",IF(B362>$B$1,\"３\",\"4\")))","v":"4"},"2017-05-01","h",17,"done!","STCメールチェック対応ラスト",20,{"$f":"IF(OR(J362=\"\",K362=\"\"),\"\",(K362-J362)/TIMEVALUE(\"1:00\")*60)","v":2.9999999999998295},{"$f":"IF(H362=\"\",\"\",G362-H362)","v":17.000000000000171},"17:25:00","17:28:00"]
[{"$f":"IF(AND(B363=$B$1,K363=\"\"),\"２\",IF(AND(B363=$B$1,K363<>\"\"),\"１\",IF(B363>$B$1,\"３\",\"4\")))","v":"4"},"2017-05-01","h",17,"done!","gmail、yahooメールチェック（夕方）",10,{"$f":"IF(OR(J363=\"\",K363=\"\"),\"\",(K363-J363)/TIMEVALUE(\"1:00\")*60)","v":4.0000000000001457},{"$f":"IF(H363=\"\",\"\",G363-H363)","v":5.9999999999998543},"17:28:00","17:32:00"]
[{"$f":"IF(AND(B364=$B$1,K364=\"\"),\"２\",IF(AND(B364=$B$1,K364<>\"\"),\"１\",IF(B364>$B$1,\"３\",\"4\")))","v":"4"},"2017-05-01","h",21,"done!","ブログ更新",90,{"$f":"IF(OR(J364=\"\",K364=\"\"),\"\",(K364-J364)/TIMEVALUE(\"1:00\")*60)","v":92.999999999999829},{"$f":"IF(H364=\"\",\"\",G364-H364)","v":-2.9999999999998295},"17:32:00","19:05:00"]
[{"$f":"IF(AND(B365=$B$1,K365=\"\"),\"２\",IF(AND(B365=$B$1,K365<>\"\"),\"１\",IF(B365>$B$1,\"３\",\"4\")))","v":"4"},"2017-05-01","d",19,"done!","夕食、SNSチェック",60,{"$f":"IF(OR(J365=\"\",K365=\"\"),\"\",(K365-J365)/TIMEVALUE(\"1:00\")*60)","v":45},{"$f":"IF(H365=\"\",\"\",G365-H365)","v":15},"19:45:00","20:30:00"]
[{"$f":"IF(AND(B366=$B$1,K366=\"\"),\"２\",IF(AND(B366=$B$1,K366<>\"\"),\"１\",IF(B366>$B$1,\"３\",\"4\")))","v":"4"},"2017-05-01","h",19,"done!","gmail、yahooメールチェック（夜）",10,{"$f":"IF(OR(J366=\"\",K366=\"\"),\"\",(K366-J366)/TIMEVALUE(\"1:00\")*60)","v":4.9999999999999822},{"$f":"IF(H366=\"\",\"\",G366-H366)","v":5.0000000000000178},"20:30:00","20:35:00"]
[{"$f":"IF(AND(B367=$B$1,K367=\"\"),\"２\",IF(AND(B367=$B$1,K367<>\"\"),\"１\",IF(B367>$B$1,\"３\",\"4\")))","v":"4"},"2017-05-01","d",18,"done!","ホームページ作成",10,{"$f":"IF(OR(J367=\"\",K367=\"\"),\"\",(K367-J367)/TIMEVALUE(\"1:00\")*60)","v":60.000000000000107},{"$f":"IF(H367=\"\",\"\",G367-H367)","v":-50.000000000000107},"22:00:00","23:00:00"]
[{"$f":"IF(AND(B368=$B$1,K368=\"\"),\"２\",IF(AND(B368=$B$1,K368<>\"\"),\"１\",IF(B368>$B$1,\"３\",\"4\")))","v":"4"},"2017-05-02","d",6,"done!","朝食、SNSチェック",60,{"$f":"IF(OR(J368=\"\",K368=\"\"),\"\",(K368-J368)/TIMEVALUE(\"1:00\")*60)","v":59.999999999999943},{"$f":"IF(H368=\"\",\"\",G368-H368)","v":5.6843418860808015E-14},"06:10:00","07:10:00"]
[{"$f":"IF(AND(B369=$B$1,K369=\"\"),\"２\",IF(AND(B369=$B$1,K369<>\"\"),\"１\",IF(B369>$B$1,\"３\",\"4\")))","v":"4"},"2017-05-02","d",8,"done!","タスク作成",15,{"$f":"IF(OR(J369=\"\",K369=\"\"),\"\",(K369-J369)/TIMEVALUE(\"1:00\")*60)","v":9.9999999999999645},{"$f":"IF(H369=\"\",\"\",G369-H369)","v":5.0000000000000355},"07:10:00","07:20:00"]
[{"$f":"IF(AND(B370=$B$1,K370=\"\"),\"２\",IF(AND(B370=$B$1,K370<>\"\"),\"１\",IF(B370>$B$1,\"３\",\"4\")))","v":"4"},"2017-05-02","h",8,"done!","gmail、yahooメールチェック（朝）",10,{"$f":"IF(OR(J370=\"\",K370=\"\"),\"\",(K370-J370)/TIMEVALUE(\"1:00\")*60)","v":11.000000000000041},{"$f":"IF(H370=\"\",\"\",G370-H370)","v":-1.0000000000000409},"07:20:00","07:31:00"]
[{"$f":"IF(AND(B371=$B$1,K371=\"\"),\"２\",IF(AND(B371=$B$1,K371<>\"\"),\"１\",IF(B371>$B$1,\"３\",\"4\")))","v":"4"},"2017-05-02",null,8,"done!","税務署提出資料作成",20,{"$f":"IF(OR(J371=\"\",K371=\"\"),\"\",(K371-J371)/TIMEVALUE(\"1:00\")*60)","v":59.000000000000028},{"$f":"IF(H371=\"\",\"\",G371-H371)","v":-39.000000000000028},"07:31:00","08:30:00"]
[{"$f":"IF(AND(B372=$B$1,K372=\"\"),\"２\",IF(AND(B372=$B$1,K372<>\"\"),\"１\",IF(B372>$B$1,\"３\",\"4\")))","v":"4"},"2017-05-02","d",18,"done!","ホームページ作成",10,{"$f":"IF(OR(J372=\"\",K372=\"\"),\"\",(K372-J372)/TIMEVALUE(\"1:00\")*60)","v":20.000000000000007},{"$f":"IF(H372=\"\",\"\",G372-H372)","v":-10.000000000000007},"08:40:00","09:00:00"]
[{"$f":"IF(AND(B373=$B$1,K373=\"\"),\"２\",IF(AND(B373=$B$1,K373<>\"\"),\"１\",IF(B373>$B$1,\"３\",\"4\")))","v":"4"},"2017-05-02","h",10,"done!","STCメールチェック対応午前",20,{"$f":"IF(OR(J373=\"\",K373=\"\"),\"\",(K373-J373)/TIMEVALUE(\"1:00\")*60)","v":583},{"$f":"IF(H373=\"\",\"\",G373-H373)","v":-563},"00:00:00","09:43:00"]
[{"$f":"IF(AND(B374=$B$1,K374=\"\"),\"２\",IF(AND(B374=$B$1,K374<>\"\"),\"１\",IF(B374>$B$1,\"３\",\"4\")))","v":"4"},"2017-05-02","h",11,"done!","gmail、yahooメールチェック（午前）",10,{"$f":"IF(OR(J374=\"\",K374=\"\"),\"\",(K374-J374)/TIMEVALUE(\"1:00\")*60)","v":9.9999999999999645},{"$f":"IF(H374=\"\",\"\",G374-H374)","v":3.5527136788005009E-14},"11:00:00","11:10:00"]
[{"$f":"IF(AND(B375=$B$1,K375=\"\"),\"２\",IF(AND(B375=$B$1,K375<>\"\"),\"１\",IF(B375>$B$1,\"３\",\"4\")))","v":"4"},"2017-05-02",null,10,"done!","トレーニングへ移動、SNS",60,{"$f":"IF(OR(J375=\"\",K375=\"\"),\"\",(K375-J375)/TIMEVALUE(\"1:00\")*60)","v":45},{"$f":"IF(H375=\"\",\"\",G375-H375)","v":15},"10:45:00","11:30:00"]
[{"$f":"IF(AND(B376=$B$1,K376=\"\"),\"２\",IF(AND(B376=$B$1,K376<>\"\"),\"１\",IF(B376>$B$1,\"３\",\"4\")))","v":"4"},"2017-05-02",null,11,"done!","トレーニング",75,{"$f":"IF(OR(J376=\"\",K376=\"\"),\"\",(K376-J376)/TIMEVALUE(\"1:00\")*60)","v":65.000000000000014},{"$f":"IF(H376=\"\",\"\",G376-H376)","v":9.9999999999999858},"11:30:00","12:35:00"]
[{"$f":"IF(AND(B377=$B$1,K377=\"\"),\"２\",IF(AND(B377=$B$1,K377<>\"\"),\"１\",IF(B377>$B$1,\"３\",\"4\")))","v":"4"},"2017-05-02",null,12,"done!","トレーニングから帰宅",60,{"$f":"IF(OR(J377=\"\",K377=\"\"),\"\",(K377-J377)/TIMEVALUE(\"1:00\")*60)","v":45},{"$f":"IF(H377=\"\",\"\",G377-H377)","v":15},"12:35:00","13:20:00"]
[{"$f":"IF(AND(B378=$B$1,K378=\"\"),\"２\",IF(AND(B378=$B$1,K378<>\"\"),\"１\",IF(B378>$B$1,\"３\",\"4\")))","v":"4"},"2017-05-02","d",12,"done!","ランチ、SNSチェック",60,{"$f":"IF(OR(J378=\"\",K378=\"\"),\"\",(K378-J378)/TIMEVALUE(\"1:00\")*60)","v":30.000000000000053},{"$f":"IF(H378=\"\",\"\",G378-H378)","v":29.999999999999947},"13:20:00","13:50:00"]
[{"$f":"IF(AND(B379=$B$1,K379=\"\"),\"２\",IF(AND(B379=$B$1,K379<>\"\"),\"１\",IF(B379>$B$1,\"３\",\"4\")))","v":"4"},"2017-05-02","h",14,"done!","STCメールチェック対応午後",20,{"$f":"IF(OR(J379=\"\",K379=\"\"),\"\",(K379-J379)/TIMEVALUE(\"1:00\")*60)","v":14.999999999999947},{"$f":"IF(H379=\"\",\"\",G379-H379)","v":5.0000000000000533},"15:00:00","15:15:00"]
[{"$f":"IF(AND(B380=$B$1,K380=\"\"),\"２\",IF(AND(B380=$B$1,K380<>\"\"),\"１\",IF(B380>$B$1,\"３\",\"4\")))","v":"4"},"2017-05-02","h",14,"done!","gmail、yahooメールチェック（午後）",10,{"$f":"IF(OR(J380=\"\",K380=\"\"),\"\",(K380-J380)/TIMEVALUE(\"1:00\")*60)","v":5.0000000000001421},{"$f":"IF(H380=\"\",\"\",G380-H380)","v":4.9999999999998579},"15:15:00","15:20:00"]
[{"$f":"IF(AND(B381=$B$1,K381=\"\"),\"２\",IF(AND(B381=$B$1,K381<>\"\"),\"１\",IF(B381>$B$1,\"３\",\"4\")))","v":"4"},"2017-05-02",null,14,"done!","三洋テクノス",240,{"$f":"IF(OR(J381=\"\",K381=\"\"),\"\",(K381-J381)/TIMEVALUE(\"1:00\")*60)","v":229.99999999999997},{"$f":"IF(H381=\"\",\"\",G381-H381)","v":10.000000000000028},"13:50:00","17:40:00"]
[{"$f":"IF(AND(B382=$B$1,K382=\"\"),\"２\",IF(AND(B382=$B$1,K382<>\"\"),\"１\",IF(B382>$B$1,\"３\",\"4\")))","v":"4"},"2017-05-02","h",17,"done!","STCメールチェック対応ラスト",20,{"$f":"IF(OR(J382=\"\",K382=\"\"),\"\",(K382-J382)/TIMEVALUE(\"1:00\")*60)","v":4.9999999999999822},{"$f":"IF(H382=\"\",\"\",G382-H382)","v":15.000000000000018},"17:40:00","17:45:00"]
[{"$f":"IF(AND(B383=$B$1,K383=\"\"),\"２\",IF(AND(B383=$B$1,K383<>\"\"),\"１\",IF(B383>$B$1,\"３\",\"4\")))","v":"4"},"2017-05-02","h",17,"done!","gmail、yahooメールチェック（夕方）",10,{"$f":"IF(OR(J383=\"\",K383=\"\"),\"\",(K383-J383)/TIMEVALUE(\"1:00\")*60)","v":14.999999999999947},{"$f":"IF(H383=\"\",\"\",G383-H383)","v":-4.9999999999999467},"17:45:00","18:00:00"]
[{"$f":"IF(AND(B384=$B$1,K384=\"\"),\"２\",IF(AND(B384=$B$1,K384<>\"\"),\"１\",IF(B384>$B$1,\"３\",\"4\")))","v":"4"},"2017-05-02","d",19,"done!","夕食、SNSチェック",60,{"$f":"IF(OR(J384=\"\",K384=\"\"),\"\",(K384-J384)/TIMEVALUE(\"1:00\")*60)","v":40.000000000000014},{"$f":"IF(H384=\"\",\"\",G384-H384)","v":19.999999999999986},"20:20:00","21:00:00"]
[{"$f":"IF(AND(B385=$B$1,K385=\"\"),\"２\",IF(AND(B385=$B$1,K385<>\"\"),\"１\",IF(B385>$B$1,\"３\",\"4\")))","v":"4"},"2017-05-02","h",21,"done!","ブログ更新",90,{"$f":"IF(OR(J385=\"\",K385=\"\"),\"\",(K385-J385)/TIMEVALUE(\"1:00\")*60)","v":59.999999999999943},{"$f":"IF(H385=\"\",\"\",G385-H385)","v":30.000000000000057},"21:00:00","22:00:00"]
[{"$f":"IF(AND(B386=$B$1,K386=\"\"),\"２\",IF(AND(B386=$B$1,K386<>\"\"),\"１\",IF(B386>$B$1,\"３\",\"4\")))","v":"4"},"2017-05-02","h",19,"done!","gmail、yahooメールチェック（夜）",10,{"$f":"IF(OR(J386=\"\",K386=\"\"),\"\",(K386-J386)/TIMEVALUE(\"1:00\")*60)","v":4.9999999999999822},{"$f":"IF(H386=\"\",\"\",G386-H386)","v":5.0000000000000178},"22:00:00","22:05:00"]
[{"$f":"IF(AND(B387=$B$1,K387=\"\"),\"２\",IF(AND(B387=$B$1,K387<>\"\"),\"１\",IF(B387>$B$1,\"３\",\"4\")))","v":"4"},"2017-05-02","d",18,"done!","交通費記録",5,{"$f":"IF(OR(J387=\"\",K387=\"\"),\"\",(K387-J387)/TIMEVALUE(\"1:00\")*60)","v":1.0000000000001563},{"$f":"IF(H387=\"\",\"\",G387-H387)","v":3.9999999999998437},"22:05:00","22:06:00"]
[{"$f":"IF(AND(B388=$B$1,K388=\"\"),\"２\",IF(AND(B388=$B$1,K388<>\"\"),\"１\",IF(B388>$B$1,\"３\",\"4\")))","v":"4"},"2017-05-08","d",6,"done!","朝食、SNSチェック",60,{"$f":"IF(OR(J388=\"\",K388=\"\"),\"\",(K388-J388)/TIMEVALUE(\"1:00\")*60)","v":34.999999999999957},{"$f":"IF(H388=\"\",\"\",G388-H388)","v":25.000000000000043},"06:00:00","06:35:00"]
[{"$f":"IF(AND(B389=$B$1,K389=\"\"),\"２\",IF(AND(B389=$B$1,K389<>\"\"),\"１\",IF(B389>$B$1,\"３\",\"4\")))","v":"4"},"2017-05-08",null,7,"done!","STCへ移動",90,{"$f":"IF(OR(J389=\"\",K389=\"\"),\"\",(K389-J389)/TIMEVALUE(\"1:00\")*60)","v":85.000000000000014},{"$f":"IF(H389=\"\",\"\",G389-H389)","v":4.9999999999999858},"06:35:00","08:00:00"]
[{"$f":"IF(AND(B390=$B$1,K390=\"\"),\"２\",IF(AND(B390=$B$1,K390<>\"\"),\"１\",IF(B390>$B$1,\"３\",\"4\")))","v":"4"},"2017-05-08","d",8,"done!","タスク作成",15,{"$f":"IF(OR(J390=\"\",K390=\"\"),\"\",(K390-J390)/TIMEVALUE(\"1:00\")*60)","v":7.0000000000000551},{"$f":"IF(H390=\"\",\"\",G390-H390)","v":7.9999999999999449},"08:00:00","08:07:00"]
[{"$f":"IF(AND(B391=$B$1,K391=\"\"),\"２\",IF(AND(B391=$B$1,K391<>\"\"),\"１\",IF(B391>$B$1,\"３\",\"4\")))","v":"4"},"2017-05-08","h",8,"done!","gmail、yahooメールチェック（朝）",10,{"$f":"IF(OR(J391=\"\",K391=\"\"),\"\",(K391-J391)/TIMEVALUE(\"1:00\")*60)","v":9.9999999999999645},{"$f":"IF(H391=\"\",\"\",G391-H391)","v":3.5527136788005009E-14},"08:07:00","08:17:00"]
[{"$f":"IF(AND(B392=$B$1,K392=\"\"),\"２\",IF(AND(B392=$B$1,K392<>\"\"),\"１\",IF(B392>$B$1,\"３\",\"4\")))","v":"4"},"2017-05-08",null,8,"done!","STS資料チェック",5,{"$f":"IF(OR(J392=\"\",K392=\"\"),\"\",(K392-J392)/TIMEVALUE(\"1:00\")*60)","v":7.9999999999999716},{"$f":"IF(H392=\"\",\"\",G392-H392)","v":-2.9999999999999716},"08:17:00","08:25:00"]
[{"$f":"IF(AND(B393=$B$1,K393=\"\"),\"２\",IF(AND(B393=$B$1,K393<>\"\"),\"１\",IF(B393>$B$1,\"３\",\"4\")))","v":"4"},"2017-05-08",null,9,"done!","支店格上げの税務",20,{"$f":"IF(OR(J393=\"\",K393=\"\"),\"\",(K393-J393)/TIMEVALUE(\"1:00\")*60)","v":15.000000000000027},{"$f":"IF(H393=\"\",\"\",G393-H393)","v":4.9999999999999734},"08:25:00","08:40:00"]
[{"$f":"IF(AND(B394=$B$1,K394=\"\"),\"２\",IF(AND(B394=$B$1,K394<>\"\"),\"１\",IF(B394>$B$1,\"３\",\"4\")))","v":"4"},"2017-05-08",null,9,"done!","ルフト退職給付の整理",60,{"$f":"IF(OR(J394=\"\",K394=\"\"),\"\",(K394-J394)/TIMEVALUE(\"1:00\")*60)","v":39.999999999999936},{"$f":"IF(H394=\"\",\"\",G394-H394)","v":20.000000000000064},"09:00:00","09:40:00"]
[{"$f":"IF(AND(B395=$B$1,K395=\"\"),\"２\",IF(AND(B395=$B$1,K395<>\"\"),\"１\",IF(B395>$B$1,\"３\",\"4\")))","v":"4"},"2017-05-08","h",11,"done!","gmail、yahooメールチェック（午前）",10,{"$f":"IF(OR(J395=\"\",K395=\"\"),\"\",(K395-J395)/TIMEVALUE(\"1:00\")*60)","v":9.9999999999999645},{"$f":"IF(H395=\"\",\"\",G395-H395)","v":3.5527136788005009E-14},"10:50:00","11:00:00"]
[{"$f":"IF(AND(B396=$B$1,K396=\"\"),\"２\",IF(AND(B396=$B$1,K396<>\"\"),\"１\",IF(B396>$B$1,\"３\",\"4\")))","v":"4"},"2017-05-08","d",12,"done!","ランチ、SNSチェック",60,{"$f":"IF(OR(J396=\"\",K396=\"\"),\"\",(K396-J396)/TIMEVALUE(\"1:00\")*60)","v":59.999999999999943},{"$f":"IF(H396=\"\",\"\",G396-H396)","v":5.6843418860808015E-14},"12:00:00","13:00:00"]
[{"$f":"IF(AND(B397=$B$1,K397=\"\"),\"２\",IF(AND(B397=$B$1,K397<>\"\"),\"１\",IF(B397>$B$1,\"３\",\"4\")))","v":"4"},"2017-05-08","h",14,"done!","gmail、yahooメールチェック（午後）",10,{"$f":"IF(OR(J397=\"\",K397=\"\"),\"\",(K397-J397)/TIMEVALUE(\"1:00\")*60)","v":9.9999999999999645},{"$f":"IF(H397=\"\",\"\",G397-H397)","v":3.5527136788005009E-14},"15:00:00","15:10:00"]
[{"$f":"IF(AND(B398=$B$1,K398=\"\"),\"２\",IF(AND(B398=$B$1,K398<>\"\"),\"１\",IF(B398>$B$1,\"３\",\"4\")))","v":"4"},"2017-05-08",null,14,"done!","ルフト訪問",180,{"$f":"IF(OR(J398=\"\",K398=\"\"),\"\",(K398-J398)/TIMEVALUE(\"1:00\")*60)","v":254.99999999999989},{"$f":"IF(H398=\"\",\"\",G398-H398)","v":-74.999999999999886},"14:20:00","18:35:00"]
[{"$f":"IF(AND(B399=$B$1,K399=\"\"),\"２\",IF(AND(B399=$B$1,K399<>\"\"),\"１\",IF(B399>$B$1,\"３\",\"4\")))","v":"4"},"2017-05-08","h",17,"done!","gmail、yahooメールチェック（夕方）",10,{"$f":"IF(OR(J399=\"\",K399=\"\"),\"\",(K399-J399)/TIMEVALUE(\"1:00\")*60)","v":9.9999999999999645},{"$f":"IF(H399=\"\",\"\",G399-H399)","v":3.5527136788005009E-14},"18:40:00","18:50:00"]
[{"$f":"IF(AND(B400=$B$1,K400=\"\"),\"２\",IF(AND(B400=$B$1,K400<>\"\"),\"１\",IF(B400>$B$1,\"３\",\"4\")))","v":"4"},"2017-05-08",null,17,"done!","ルフトから帰宅",60,{"$f":"IF(OR(J400=\"\",K400=\"\"),\"\",(K400-J400)/TIMEVALUE(\"1:00\")*60)","v":70.000000000000071},{"$f":"IF(H400=\"\",\"\",G400-H400)","v":-10.000000000000071},"18:35:00","19:45:00"]
[{"$f":"IF(AND(B401=$B$1,K401=\"\"),\"２\",IF(AND(B401=$B$1,K401<>\"\"),\"１\",IF(B401>$B$1,\"３\",\"4\")))","v":"4"},"2017-05-08","d",18,"done!","交通費記録",5,{"$f":"IF(OR(J401=\"\",K401=\"\"),\"\",(K401-J401)/TIMEVALUE(\"1:00\")*60)","v":2.0000000000001528},{"$f":"IF(H401=\"\",\"\",G401-H401)","v":2.9999999999998472},"19:45:00","19:47:00"]
[{"$f":"IF(AND(B402=$B$1,K402=\"\"),\"２\",IF(AND(B402=$B$1,K402<>\"\"),\"１\",IF(B402>$B$1,\"３\",\"4\")))","v":"4"},"2017-05-08","d",19,"done!","夕食、SNSチェック",60,{"$f":"IF(OR(J402=\"\",K402=\"\"),\"\",(K402-J402)/TIMEVALUE(\"1:00\")*60)","v":60.000000000000107},{"$f":"IF(H402=\"\",\"\",G402-H402)","v":-1.0658141036401503E-13},"20:30:00","21:30:00"]
[{"$f":"IF(AND(B403=$B$1,K403=\"\"),\"２\",IF(AND(B403=$B$1,K403<>\"\"),\"１\",IF(B403>$B$1,\"３\",\"4\")))","v":"4"},"2017-05-08","h",21,"done!","ブログ更新",90,{"$f":"IF(OR(J403=\"\",K403=\"\"),\"\",(K403-J403)/TIMEVALUE(\"1:00\")*60)","v":109.99999999999993},{"$f":"IF(H403=\"\",\"\",G403-H403)","v":-19.999999999999929},"21:30:00","23:20:00"]
[{"$f":"IF(AND(B404=$B$1,K404=\"\"),\"２\",IF(AND(B404=$B$1,K404<>\"\"),\"１\",IF(B404>$B$1,\"３\",\"4\")))","v":"4"},"2017-05-08","h",19,"done!","gmail、yahooメールチェック（夜）",10,{"$f":"IF(OR(J404=\"\",K404=\"\"),\"\",(K404-J404)/TIMEVALUE(\"1:00\")*60)","v":9.9999999999999645},{"$f":"IF(H404=\"\",\"\",G404-H404)","v":3.5527136788005009E-14},"23:20:00","23:30:00"]
[{"$f":"IF(AND(B405=$B$1,K405=\"\"),\"２\",IF(AND(B405=$B$1,K405<>\"\"),\"１\",IF(B405>$B$1,\"３\",\"4\")))","v":"4"},"2017-05-09","d",6,"done!","朝食、SNSチェック",60,{"$f":"IF(OR(J405=\"\",K405=\"\"),\"\",(K405-J405)/TIMEVALUE(\"1:00\")*60)","v":54.999999999999964},{"$f":"IF(H405=\"\",\"\",G405-H405)","v":5.0000000000000355},"06:20:00","07:15:00"]
[{"$f":"IF(AND(B406=$B$1,K406=\"\"),\"２\",IF(AND(B406=$B$1,K406<>\"\"),\"１\",IF(B406>$B$1,\"３\",\"4\")))","v":"4"},"2017-05-09","d",8,"done!","タスク作成",15,{"$f":"IF(OR(J406=\"\",K406=\"\"),\"\",(K406-J406)/TIMEVALUE(\"1:00\")*60)","v":5.9999999999999787},{"$f":"IF(H406=\"\",\"\",G406-H406)","v":9.0000000000000213},"07:15:00","07:21:00"]
[{"$f":"IF(AND(B407=$B$1,K407=\"\"),\"２\",IF(AND(B407=$B$1,K407<>\"\"),\"１\",IF(B407>$B$1,\"３\",\"4\")))","v":"4"},"2017-05-09","h",8,"done!","gmail、yahooメールチェック（朝）",10,{"$f":"IF(OR(J407=\"\",K407=\"\"),\"\",(K407-J407)/TIMEVALUE(\"1:00\")*60)","v":8.0000000000000515},{"$f":"IF(H407=\"\",\"\",G407-H407)","v":1.9999999999999485},"07:21:00","07:29:00"]
[{"$f":"IF(AND(B408=$B$1,K408=\"\"),\"２\",IF(AND(B408=$B$1,K408<>\"\"),\"１\",IF(B408>$B$1,\"３\",\"4\")))","v":"4"},"2017-05-09","h",10,"done!","STCメールチェック対応午前",20,{"$f":"IF(OR(J408=\"\",K408=\"\"),\"\",(K408-J408)/TIMEVALUE(\"1:00\")*60)","v":9.9999999999999645},{"$f":"IF(H408=\"\",\"\",G408-H408)","v":10.000000000000036},"10:00:00","10:10:00"]
[{"$f":"IF(AND(B409=$B$1,K409=\"\"),\"２\",IF(AND(B409=$B$1,K409<>\"\"),\"１\",IF(B409>$B$1,\"３\",\"4\")))","v":"4"},"2017-05-09","h",11,"done!","gmail、yahooメールチェック（午前）",10,{"$f":"IF(OR(J409=\"\",K409=\"\"),\"\",(K409-J409)/TIMEVALUE(\"1:00\")*60)","v":9.9999999999999645},{"$f":"IF(H409=\"\",\"\",G409-H409)","v":3.5527136788005009E-14},"10:50:00","11:00:00"]
[{"$f":"IF(AND(B410=$B$1,K410=\"\"),\"２\",IF(AND(B410=$B$1,K410<>\"\"),\"１\",IF(B410>$B$1,\"３\",\"4\")))","v":"4"},"2017-05-09",null,9,"done!","三洋テクノス給与計算",180,{"$f":"IF(OR(J410=\"\",K410=\"\"),\"\",(K410-J410)/TIMEVALUE(\"1:00\")*60)","v":164.99999999999997},{"$f":"IF(H410=\"\",\"\",G410-H410)","v":15.000000000000028},"09:00:00","11:45:00"]
[{"$f":"IF(AND(B411=$B$1,K411=\"\"),\"２\",IF(AND(B411=$B$1,K411<>\"\"),\"１\",IF(B411>$B$1,\"３\",\"4\")))","v":"4"},"2017-05-09",null,15,"done!","郵便局送金手続き",20,{"$f":"IF(OR(J411=\"\",K411=\"\"),\"\",(K411-J411)/TIMEVALUE(\"1:00\")*60)","v":29.999999999999972},{"$f":"IF(H411=\"\",\"\",G411-H411)","v":-9.9999999999999716},"11:45:00","12:15:00"]
[{"$f":"IF(AND(B412=$B$1,K412=\"\"),\"２\",IF(AND(B412=$B$1,K412<>\"\"),\"１\",IF(B412>$B$1,\"３\",\"4\")))","v":"4"},"2017-05-09","d",12,"done!","ランチ、SNSチェック",60,{"$f":"IF(OR(J412=\"\",K412=\"\"),\"\",(K412-J412)/TIMEVALUE(\"1:00\")*60)","v":50.999999999999979},{"$f":"IF(H412=\"\",\"\",G412-H412)","v":9.0000000000000213},"12:15:00","13:06:00"]
[{"$f":"IF(AND(B413=$B$1,K413=\"\"),\"２\",IF(AND(B413=$B$1,K413<>\"\"),\"１\",IF(B413>$B$1,\"３\",\"4\")))","v":"4"},"2017-05-09","h",14,"done!","STCメールチェック対応午後",20,{"$f":"IF(OR(J413=\"\",K413=\"\"),\"\",(K413-J413)/TIMEVALUE(\"1:00\")*60)","v":9.9999999999999645},{"$f":"IF(H413=\"\",\"\",G413-H413)","v":10.000000000000036},"14:00:00","14:10:00"]
[{"$f":"IF(AND(B414=$B$1,K414=\"\"),\"２\",IF(AND(B414=$B$1,K414<>\"\"),\"１\",IF(B414>$B$1,\"３\",\"4\")))","v":"4"},"2017-05-09","h",14,"done!","gmail、yahooメールチェック（午後）",10,{"$f":"IF(OR(J414=\"\",K414=\"\"),\"\",(K414-J414)/TIMEVALUE(\"1:00\")*60)","v":4.9999999999999822},{"$f":"IF(H414=\"\",\"\",G414-H414)","v":5.0000000000000178},"14:10:00","14:15:00"]
[{"$f":"IF(AND(B415=$B$1,K415=\"\"),\"２\",IF(AND(B415=$B$1,K415<>\"\"),\"１\",IF(B415>$B$1,\"３\",\"4\")))","v":"4"},"2017-05-09","h",17,"done!","gmail、yahooメールチェック（夕方）",10,{"$f":"IF(OR(J415=\"\",K415=\"\"),\"\",(K415-J415)/TIMEVALUE(\"1:00\")*60)","v":9.9999999999999645},{"$f":"IF(H415=\"\",\"\",G415-H415)","v":3.5527136788005009E-14},"17:00:00","17:10:00"]
[{"$f":"IF(AND(B416=$B$1,K416=\"\"),\"２\",IF(AND(B416=$B$1,K416<>\"\"),\"１\",IF(B416>$B$1,\"３\",\"4\")))","v":"4"},"2017-05-09","h",17,"done!","STCメールチェック対応ラスト",20,{"$f":"IF(OR(J416=\"\",K416=\"\"),\"\",(K416-J416)/TIMEVALUE(\"1:00\")*60)","v":19.999999999999929},{"$f":"IF(H416=\"\",\"\",G416-H416)","v":7.1054273576010019E-14},"17:10:00","17:30:00"]
[{"$f":"IF(AND(B417=$B$1,K417=\"\"),\"２\",IF(AND(B417=$B$1,K417<>\"\"),\"１\",IF(B417>$B$1,\"３\",\"4\")))","v":"4"},"2017-05-09","h",19,"done!","gmail、yahooメールチェック（夜）",10,{"$f":"IF(OR(J417=\"\",K417=\"\"),\"\",(K417-J417)/TIMEVALUE(\"1:00\")*60)","v":9.9999999999999645},{"$f":"IF(H417=\"\",\"\",G417-H417)","v":3.5527136788005009E-14},"20:00:00","20:10:00"]
[{"$f":"IF(AND(B418=$B$1,K418=\"\"),\"２\",IF(AND(B418=$B$1,K418<>\"\"),\"１\",IF(B418>$B$1,\"３\",\"4\")))","v":"4"},"2017-05-09","d",19,"done!","夕食、SNSチェック",60,{"$f":"IF(OR(J418=\"\",K418=\"\"),\"\",(K418-J418)/TIMEVALUE(\"1:00\")*60)","v":80.000000000000028},{"$f":"IF(H418=\"\",\"\",G418-H418)","v":-20.000000000000028},"20:10:00","21:30:00"]
[{"$f":"IF(AND(B419=$B$1,K419=\"\"),\"２\",IF(AND(B419=$B$1,K419<>\"\"),\"１\",IF(B419>$B$1,\"３\",\"4\")))","v":"4"},"2017-05-09","h",21,"done!","ブログ更新",90,{"$f":"IF(OR(J419=\"\",K419=\"\"),\"\",(K419-J419)/TIMEVALUE(\"1:00\")*60)","v":90},{"$f":"IF(H419=\"\",\"\",G419-H419)","v":0},"21:30:00","23:00:00"]
[{"$f":"IF(AND(B420=$B$1,K420=\"\"),\"２\",IF(AND(B420=$B$1,K420<>\"\"),\"１\",IF(B420>$B$1,\"３\",\"4\")))","v":"4"},"2017-05-10","d",6,"done!","朝食、SNSチェック",60,{"$f":"IF(OR(J420=\"\",K420=\"\"),\"\",(K420-J420)/TIMEVALUE(\"1:00\")*60)","v":29.999999999999972},{"$f":"IF(H420=\"\",\"\",G420-H420)","v":30.000000000000028},"06:10:00","06:40:00"]
[{"$f":"IF(AND(B421=$B$1,K421=\"\"),\"２\",IF(AND(B421=$B$1,K421<>\"\"),\"１\",IF(B421>$B$1,\"３\",\"4\")))","v":"4"},"2017-05-10",null,6,"done!","STCへ移動",90,{"$f":"IF(OR(J421=\"\",K421=\"\"),\"\",(K421-J421)/TIMEVALUE(\"1:00\")*60)","v":85.000000000000014},{"$f":"IF(H421=\"\",\"\",G421-H421)","v":4.9999999999999858},"06:40:00","08:05:00"]
[{"$f":"IF(AND(B422=$B$1,K422=\"\"),\"２\",IF(AND(B422=$B$1,K422<>\"\"),\"１\",IF(B422>$B$1,\"３\",\"4\")))","v":"4"},"2017-05-10","d",8,"done!","タスク作成",15,{"$f":"IF(OR(J422=\"\",K422=\"\"),\"\",(K422-J422)/TIMEVALUE(\"1:00\")*60)","v":13.99999999999995},{"$f":"IF(H422=\"\",\"\",G422-H422)","v":1.0000000000000497},"08:05:00","08:19:00"]
[{"$f":"IF(AND(B423=$B$1,K423=\"\"),\"２\",IF(AND(B423=$B$1,K423<>\"\"),\"１\",IF(B423>$B$1,\"３\",\"4\")))","v":"4"},"2017-05-10","h",8,"done!","gmail、yahooメールチェック（朝）",10,{"$f":"IF(OR(J423=\"\",K423=\"\"),\"\",(K423-J423)/TIMEVALUE(\"1:00\")*60)","v":5.9999999999999787},{"$f":"IF(H423=\"\",\"\",G423-H423)","v":4.0000000000000213},"08:19:00","08:25:00"]
[{"$f":"IF(AND(B424=$B$1,K424=\"\"),\"２\",IF(AND(B424=$B$1,K424<>\"\"),\"１\",IF(B424>$B$1,\"３\",\"4\")))","v":"4"},"2017-05-10",null,8,"done!","鈴木さん、小貫山さんメール返信",10,{"$f":"IF(OR(J424=\"\",K424=\"\"),\"\",(K424-J424)/TIMEVALUE(\"1:00\")*60)","v":8.0000000000000515},{"$f":"IF(H424=\"\",\"\",G424-H424)","v":1.9999999999999485},"08:25:00","08:33:00"]
[{"$f":"IF(AND(B425=$B$1,K425=\"\"),\"２\",IF(AND(B425=$B$1,K425<>\"\"),\"１\",IF(B425>$B$1,\"３\",\"4\")))","v":"4"},"2017-05-10",null,8,"done!","STCスケジュール入力",10,{"$f":"IF(OR(J425=\"\",K425=\"\"),\"\",(K425-J425)/TIMEVALUE(\"1:00\")*60)","v":3.9999999999999858},{"$f":"IF(H425=\"\",\"\",G425-H425)","v":6.0000000000000142},"08:33:00","08:37:00"]
[{"$f":"IF(AND(B426=$B$1,K426=\"\"),\"２\",IF(AND(B426=$B$1,K426<>\"\"),\"１\",IF(B426>$B$1,\"３\",\"4\")))","v":"4"},"2017-05-10",null,8,"done!","回覧物確認",20,{"$f":"IF(OR(J426=\"\",K426=\"\"),\"\",(K426-J426)/TIMEVALUE(\"1:00\")*60)","v":28.999999999999979},{"$f":"IF(H426=\"\",\"\",G426-H426)","v":-8.9999999999999787},"08:37:00","09:06:00"]
[{"$f":"IF(AND(B427=$B$1,K427=\"\"),\"２\",IF(AND(B427=$B$1,K427<>\"\"),\"１\",IF(B427>$B$1,\"３\",\"4\")))","v":"4"},"2017-05-10",null,9,"done!","ソート会計データチェック",60,{"$f":"IF(OR(J427=\"\",K427=\"\"),\"\",(K427-J427)/TIMEVALUE(\"1:00\")*60)","v":60.000000000000028},{"$f":"IF(H427=\"\",\"\",G427-H427)","v":-2.8421709430404007E-14},"10:30:00","11:30:00"]
[{"$f":"IF(AND(B428=$B$1,K428=\"\"),\"２\",IF(AND(B428=$B$1,K428<>\"\"),\"１\",IF(B428>$B$1,\"３\",\"4\")))","v":"4"},"2017-05-10","h",11,"done!","gmail、yahooメールチェック（午前）",10,{"$f":"IF(OR(J428=\"\",K428=\"\"),\"\",(K428-J428)/TIMEVALUE(\"1:00\")*60)","v":1.9999999999999929},{"$f":"IF(H428=\"\",\"\",G428-H428)","v":8.0000000000000071},"11:48:00","11:50:00"]
[{"$f":"IF(AND(B429=$B$1,K429=\"\"),\"２\",IF(AND(B429=$B$1,K429<>\"\"),\"１\",IF(B429>$B$1,\"３\",\"4\")))","v":"4"},"2017-05-10","d",12,"done!","ランチ、SNSチェック",60,{"$f":"IF(OR(J429=\"\",K429=\"\"),\"\",(K429-J429)/TIMEVALUE(\"1:00\")*60)","v":59.999999999999943},{"$f":"IF(H429=\"\",\"\",G429-H429)","v":5.6843418860808015E-14},"12:00:00","13:00:00"]
[{"$f":"IF(AND(B430=$B$1,K430=\"\"),\"２\",IF(AND(B430=$B$1,K430<>\"\"),\"１\",IF(B430>$B$1,\"３\",\"4\")))","v":"4"},"2017-05-10",null,13,"done!","セミナーへ移動",30,{"$f":"IF(OR(J430=\"\",K430=\"\"),\"\",(K430-J430)/TIMEVALUE(\"1:00\")*60)","v":29.999999999999893},{"$f":"IF(H430=\"\",\"\",G430-H430)","v":1.0658141036401503E-13},"13:15:00","13:45:00"]
[{"$f":"IF(AND(B431=$B$1,K431=\"\"),\"２\",IF(AND(B431=$B$1,K431<>\"\"),\"１\",IF(B431>$B$1,\"３\",\"4\")))","v":"4"},"2017-05-10","h",14,"done!","gmail、yahooメールチェック（午後）",10,{"$f":"IF(OR(J431=\"\",K431=\"\"),\"\",(K431-J431)/TIMEVALUE(\"1:00\")*60)","v":5.0000000000001421},{"$f":"IF(H431=\"\",\"\",G431-H431)","v":4.9999999999998579},"13:45:00","13:50:00"]
[{"$f":"IF(AND(B432=$B$1,K432=\"\"),\"２\",IF(AND(B432=$B$1,K432<>\"\"),\"１\",IF(B432>$B$1,\"３\",\"4\")))","v":"4"},"2017-05-10",null,14,"done!","セミナー",150,{"$f":"IF(OR(J432=\"\",K432=\"\"),\"\",(K432-J432)/TIMEVALUE(\"1:00\")*60)","v":139.99999999999997},{"$f":"IF(H432=\"\",\"\",G432-H432)","v":10.000000000000028},"13:45:00","16:05:00"]
[{"$f":"IF(AND(B433=$B$1,K433=\"\"),\"２\",IF(AND(B433=$B$1,K433<>\"\"),\"１\",IF(B433>$B$1,\"３\",\"4\")))","v":"4"},"2017-05-10","h",14,"done!","STCメールチェック対応午後",20,{"$f":"IF(OR(J433=\"\",K433=\"\"),\"\",(K433-J433)/TIMEVALUE(\"1:00\")*60)","v":10.000000000000124},{"$f":"IF(H433=\"\",\"\",G433-H433)","v":9.9999999999998757},"16:05:00","16:15:00"]
[{"$f":"IF(AND(B434=$B$1,K434=\"\"),\"２\",IF(AND(B434=$B$1,K434<>\"\"),\"１\",IF(B434>$B$1,\"３\",\"4\")))","v":"4"},"2017-05-10",null,16,"done!","セミナーから帰宅",90,{"$f":"IF(OR(J434=\"\",K434=\"\"),\"\",(K434-J434)/TIMEVALUE(\"1:00\")*60)","v":70.999999999999915},{"$f":"IF(H434=\"\",\"\",G434-H434)","v":19.000000000000085},"16:15:00","17:26:00"]
[{"$f":"IF(AND(B435=$B$1,K435=\"\"),\"２\",IF(AND(B435=$B$1,K435<>\"\"),\"１\",IF(B435>$B$1,\"３\",\"4\")))","v":"4"},"2017-05-10","d",18,"done!","交通費記録",5,{"$f":"IF(OR(J435=\"\",K435=\"\"),\"\",(K435-J435)/TIMEVALUE(\"1:00\")*60)","v":3.9999999999999858},{"$f":"IF(H435=\"\",\"\",G435-H435)","v":1.0000000000000142},"17:26:00","17:30:00"]
[{"$f":"IF(AND(B436=$B$1,K436=\"\"),\"２\",IF(AND(B436=$B$1,K436<>\"\"),\"１\",IF(B436>$B$1,\"３\",\"4\")))","v":"4"},"2017-05-10","h",17,"done!","STCメールチェック対応ラスト",20,{"$f":"IF(OR(J436=\"\",K436=\"\"),\"\",(K436-J436)/TIMEVALUE(\"1:00\")*60)","v":14.00000000000011},{"$f":"IF(H436=\"\",\"\",G436-H436)","v":5.9999999999998899},"17:30:00","17:44:00"]
[{"$f":"IF(AND(B437=$B$1,K437=\"\"),\"２\",IF(AND(B437=$B$1,K437<>\"\"),\"１\",IF(B437>$B$1,\"３\",\"4\")))","v":"4"},"2017-05-10","d",19,"done!","夕食、SNSチェック",60,{"$f":"IF(OR(J437=\"\",K437=\"\"),\"\",(K437-J437)/TIMEVALUE(\"1:00\")*60)","v":49.999999999999986},{"$f":"IF(H437=\"\",\"\",G437-H437)","v":10.000000000000014},"20:10:00","21:00:00"]
[{"$f":"IF(AND(B438=$B$1,K438=\"\"),\"２\",IF(AND(B438=$B$1,K438<>\"\"),\"１\",IF(B438>$B$1,\"３\",\"4\")))","v":"4"},"2017-05-10","h",21,"done!","ブログ更新",90,{"$f":"IF(OR(J438=\"\",K438=\"\"),\"\",(K438-J438)/TIMEVALUE(\"1:00\")*60)","v":139.99999999999997},{"$f":"IF(H438=\"\",\"\",G438-H438)","v":-49.999999999999972},"21:00:00","23:20:00"]
[{"$f":"IF(AND(B439=$B$1,K439=\"\"),\"２\",IF(AND(B439=$B$1,K439<>\"\"),\"１\",IF(B439>$B$1,\"３\",\"4\")))","v":"4"},"2017-05-10","h",19,"done!","gmail、yahooメールチェック（夜）",10,{"$f":"IF(OR(J439=\"\",K439=\"\"),\"\",(K439-J439)/TIMEVALUE(\"1:00\")*60)","v":2.9999999999999893},{"$f":"IF(H439=\"\",\"\",G439-H439)","v":7.0000000000000107},"23:20:00","23:23:00"]
[{"$f":"IF(AND(B440=$B$1,K440=\"\"),\"２\",IF(AND(B440=$B$1,K440<>\"\"),\"１\",IF(B440>$B$1,\"３\",\"4\")))","v":"4"},"2017-05-11","d",6,"done!","朝食、SNSチェック",60,{"$f":"IF(OR(J440=\"\",K440=\"\"),\"\",(K440-J440)/TIMEVALUE(\"1:00\")*60)","v":85.000000000000014},{"$f":"IF(H440=\"\",\"\",G440-H440)","v":-25.000000000000014},"06:35:00","08:00:00"]
[{"$f":"IF(AND(B441=$B$1,K441=\"\"),\"２\",IF(AND(B441=$B$1,K441<>\"\"),\"１\",IF(B441>$B$1,\"３\",\"4\")))","v":"4"},"2017-05-11","d",8,"done!","タスク作成",15,{"$f":"IF(OR(J441=\"\",K441=\"\"),\"\",(K441-J441)/TIMEVALUE(\"1:00\")*60)","v":15.000000000000027},{"$f":"IF(H441=\"\",\"\",G441-H441)","v":-2.6645352591003757E-14},"08:00:00","08:15:00"]
[{"$f":"IF(AND(B442=$B$1,K442=\"\"),\"２\",IF(AND(B442=$B$1,K442<>\"\"),\"１\",IF(B442>$B$1,\"３\",\"4\")))","v":"4"},"2017-05-11","d",6,"done!","経理処理",15,{"$f":"IF(OR(J442=\"\",K442=\"\"),\"\",(K442-J442)/TIMEVALUE(\"1:00\")*60)","v":7.0000000000000551},{"$f":"IF(H442=\"\",\"\",G442-H442)","v":7.9999999999999449},"08:15:00","08:22:00"]
[{"$f":"IF(AND(B443=$B$1,K443=\"\"),\"２\",IF(AND(B443=$B$1,K443<>\"\"),\"１\",IF(B443>$B$1,\"３\",\"4\")))","v":"4"},"2017-05-11","h",8,"done!","gmail、yahooメールチェック（朝）",10,{"$f":"IF(OR(J443=\"\",K443=\"\"),\"\",(K443-J443)/TIMEVALUE(\"1:00\")*60)","v":28.999999999999897},{"$f":"IF(H443=\"\",\"\",G443-H443)","v":-18.999999999999897},"08:22:00","08:51:00"]
[{"$f":"IF(AND(B444=$B$1,K444=\"\"),\"２\",IF(AND(B444=$B$1,K444<>\"\"),\"１\",IF(B444>$B$1,\"３\",\"4\")))","v":"4"},"2017-05-11","h",10,"done!","STCメールチェック対応午前",20,{"$f":"IF(OR(J444=\"\",K444=\"\"),\"\",(K444-J444)/TIMEVALUE(\"1:00\")*60)","v":13.99999999999995},{"$f":"IF(H444=\"\",\"\",G444-H444)","v":6.0000000000000497},"09:20:00","09:34:00"]
[{"$f":"IF(AND(B445=$B$1,K445=\"\"),\"２\",IF(AND(B445=$B$1,K445<>\"\"),\"１\",IF(B445>$B$1,\"３\",\"4\")))","v":"4"},"2017-05-11","h",11,"done!","gmail、yahooメールチェック（午前）",10,{"$f":"IF(OR(J445=\"\",K445=\"\"),\"\",(K445-J445)/TIMEVALUE(\"1:00\")*60)","v":5.0000000000000622},{"$f":"IF(H445=\"\",\"\",G445-H445)","v":4.9999999999999378},"11:00:00","11:05:00"]
[{"$f":"IF(AND(B446=$B$1,K446=\"\"),\"２\",IF(AND(B446=$B$1,K446<>\"\"),\"１\",IF(B446>$B$1,\"３\",\"4\")))","v":"4"},"2017-05-11",null,9,"done!","ソート申告準備",120,{"$f":"IF(OR(J446=\"\",K446=\"\"),\"\",(K446-J446)/TIMEVALUE(\"1:00\")*60)","v":95.999999999999972},{"$f":"IF(H446=\"\",\"\",G446-H446)","v":24.000000000000028},"09:34:00","11:10:00"]
[{"$f":"IF(AND(B447=$B$1,K447=\"\"),\"２\",IF(AND(B447=$B$1,K447<>\"\"),\"１\",IF(B447>$B$1,\"３\",\"4\")))","v":"4"},"2017-05-11",null,11,"done!","ヘアカット",90,{"$f":"IF(OR(J447=\"\",K447=\"\"),\"\",(K447-J447)/TIMEVALUE(\"1:00\")*60)","v":95.000000000000057},{"$f":"IF(H447=\"\",\"\",G447-H447)","v":-5.0000000000000568},"11:10:00","12:45:00"]
[{"$f":"IF(AND(B448=$B$1,K448=\"\"),\"２\",IF(AND(B448=$B$1,K448<>\"\"),\"１\",IF(B448>$B$1,\"３\",\"4\")))","v":"4"},"2017-05-11","d",12,"done!","ランチ、SNSチェック",60,{"$f":"IF(OR(J448=\"\",K448=\"\"),\"\",(K448-J448)/TIMEVALUE(\"1:00\")*60)","v":69.999999999999915},{"$f":"IF(H448=\"\",\"\",G448-H448)","v":-9.9999999999999147},"12:45:00","13:55:00"]
[{"$f":"IF(AND(B449=$B$1,K449=\"\"),\"２\",IF(AND(B449=$B$1,K449<>\"\"),\"１\",IF(B449>$B$1,\"３\",\"4\")))","v":"4"},"2017-05-11","h",14,"done!","STCメールチェック対応午後",20,{"$f":"IF(OR(J449=\"\",K449=\"\"),\"\",(K449-J449)/TIMEVALUE(\"1:00\")*60)","v":15.000000000000107},{"$f":"IF(H449=\"\",\"\",G449-H449)","v":4.9999999999998934},"13:55:00","14:10:00"]
[{"$f":"IF(AND(B450=$B$1,K450=\"\"),\"２\",IF(AND(B450=$B$1,K450<>\"\"),\"１\",IF(B450>$B$1,\"３\",\"4\")))","v":"4"},"2017-05-11","h",14,"done!","gmail、yahooメールチェック（午後）",10,{"$f":"IF(OR(J450=\"\",K450=\"\"),\"\",(K450-J450)/TIMEVALUE(\"1:00\")*60)","v":9.9999999999999645},{"$f":"IF(H450=\"\",\"\",G450-H450)","v":3.5527136788005009E-14},"14:10:00","14:20:00"]
[{"$f":"IF(AND(B451=$B$1,K451=\"\"),\"２\",IF(AND(B451=$B$1,K451<>\"\"),\"１\",IF(B451>$B$1,\"３\",\"4\")))","v":"4"},"2017-05-11","h",17,"done!","STCメールチェック対応ラスト",20,{"$f":"IF(OR(J451=\"\",K451=\"\"),\"\",(K451-J451)/TIMEVALUE(\"1:00\")*60)","v":10.000000000000124},{"$f":"IF(H451=\"\",\"\",G451-H451)","v":9.9999999999998757},"18:00:00","18:10:00"]
[{"$f":"IF(AND(B452=$B$1,K452=\"\"),\"２\",IF(AND(B452=$B$1,K452<>\"\"),\"１\",IF(B452>$B$1,\"３\",\"4\")))","v":"4"},"2017-05-11",null,13,"done!","トレーニング",60,{"$f":"IF(OR(J452=\"\",K452=\"\"),\"\",(K452-J452)/TIMEVALUE(\"1:00\")*60)","v":45},{"$f":"IF(H452=\"\",\"\",G452-H452)","v":15},"19:10:00","19:55:00"]
[{"$f":"IF(AND(B453=$B$1,K453=\"\"),\"２\",IF(AND(B453=$B$1,K453<>\"\"),\"１\",IF(B453>$B$1,\"３\",\"4\")))","v":"4"},"2017-05-11","d",19,"done!","夕食、SNSチェック",60,{"$f":"IF(OR(J453=\"\",K453=\"\"),\"\",(K453-J453)/TIMEVALUE(\"1:00\")*60)","v":55.999999999999957},{"$f":"IF(H453=\"\",\"\",G453-H453)","v":4.0000000000000426},"19:55:00","20:51:00"]
[{"$f":"IF(AND(B454=$B$1,K454=\"\"),\"２\",IF(AND(B454=$B$1,K454<>\"\"),\"１\",IF(B454>$B$1,\"３\",\"4\")))","v":"4"},"2017-05-11","h",19,"done!","gmail、yahooメールチェック（夜）",10,{"$f":"IF(OR(J454=\"\",K454=\"\"),\"\",(K454-J454)/TIMEVALUE(\"1:00\")*60)","v":11.999999999999957},{"$f":"IF(H454=\"\",\"\",G454-H454)","v":-1.9999999999999574},"20:51:00","21:03:00"]
[{"$f":"IF(AND(B455=$B$1,K455=\"\"),\"２\",IF(AND(B455=$B$1,K455<>\"\"),\"１\",IF(B455>$B$1,\"３\",\"4\")))","v":"4"},"2017-05-11","h",21,"done!","ブログ更新",90,{"$f":"IF(OR(J455=\"\",K455=\"\"),\"\",(K455-J455)/TIMEVALUE(\"1:00\")*60)","v":137},{"$f":"IF(H455=\"\",\"\",G455-H455)","v":-47},"21:03:00","23:20:00"]
[{"$f":"IF(AND(B456=$B$1,K456=\"\"),\"２\",IF(AND(B456=$B$1,K456<>\"\"),\"１\",IF(B456>$B$1,\"３\",\"4\")))","v":"4"},"2017-05-12","d",6,"done!","朝食、SNSチェック",60,{"$f":"IF(OR(J456=\"\",K456=\"\"),\"\",(K456-J456)/TIMEVALUE(\"1:00\")*60)","v":41.000000000000014},{"$f":"IF(H456=\"\",\"\",G456-H456)","v":18.999999999999986},"06:35:00","07:16:00"]
[{"$f":"IF(AND(B457=$B$1,K457=\"\"),\"２\",IF(AND(B457=$B$1,K457<>\"\"),\"１\",IF(B457>$B$1,\"３\",\"4\")))","v":"4"},"2017-05-12","d",7,"done!","タスク作成",15,{"$f":"IF(OR(J457=\"\",K457=\"\"),\"\",(K457-J457)/TIMEVALUE(\"1:00\")*60)","v":2.9999999999999893},{"$f":"IF(H457=\"\",\"\",G457-H457)","v":12.000000000000011},"07:16:00","07:19:00"]
[{"$f":"IF(AND(B458=$B$1,K458=\"\"),\"２\",IF(AND(B458=$B$1,K458<>\"\"),\"１\",IF(B458>$B$1,\"３\",\"4\")))","v":"4"},"2017-05-12","h",8,"done!","gmail、yahooメールチェック（朝）",10,{"$f":"IF(OR(J458=\"\",K458=\"\"),\"\",(K458-J458)/TIMEVALUE(\"1:00\")*60)","v":13.000000000000034},{"$f":"IF(H458=\"\",\"\",G458-H458)","v":-3.0000000000000338},"07:19:00","07:32:00"]
[{"$f":"IF(AND(B459=$B$1,K459=\"\"),\"２\",IF(AND(B459=$B$1,K459<>\"\"),\"１\",IF(B459>$B$1,\"３\",\"4\")))","v":"4"},"2017-05-12",null,8,"done!","ソート申告書作成",120,{"$f":"IF(OR(J459=\"\",K459=\"\"),\"\",(K459-J459)/TIMEVALUE(\"1:00\")*60)","v":103.00000000000003},{"$f":"IF(H459=\"\",\"\",G459-H459)","v":16.999999999999972},"07:32:00","09:15:00"]
[{"$f":"IF(AND(B460=$B$1,K460=\"\"),\"２\",IF(AND(B460=$B$1,K460<>\"\"),\"１\",IF(B460>$B$1,\"３\",\"4\")))","v":"4"},"2017-05-12",null,11,"done!","ソート納付税額の概算金額を連絡（鈴木さん）",30,{"$f":"IF(OR(J460=\"\",K460=\"\"),\"\",(K460-J460)/TIMEVALUE(\"1:00\")*60)","v":14.999999999999947},{"$f":"IF(H460=\"\",\"\",G460-H460)","v":15.000000000000053},"09:15:00","09:30:00"]
[{"$f":"IF(AND(B461=$B$1,K461=\"\"),\"２\",IF(AND(B461=$B$1,K461<>\"\"),\"１\",IF(B461>$B$1,\"３\",\"4\")))","v":"4"},"2017-05-12","h",10,"done!","STCメールチェック対応午前",20,{"$f":"IF(OR(J461=\"\",K461=\"\"),\"\",(K461-J461)/TIMEVALUE(\"1:00\")*60)","v":5.0000000000000622},{"$f":"IF(H461=\"\",\"\",G461-H461)","v":14.999999999999938},"09:55:00","10:00:00"]
[{"$f":"IF(AND(B462=$B$1,K462=\"\"),\"２\",IF(AND(B462=$B$1,K462<>\"\"),\"１\",IF(B462>$B$1,\"３\",\"4\")))","v":"4"},"2017-05-12","h",11,"done!","gmail、yahooメールチェック（午前）",10,{"$f":"IF(OR(J462=\"\",K462=\"\"),\"\",(K462-J462)/TIMEVALUE(\"1:00\")*60)","v":5.0000000000000622},{"$f":"IF(H462=\"\",\"\",G462-H462)","v":4.9999999999999378},"11:00:00","11:05:00"]
[{"$f":"IF(AND(B463=$B$1,K463=\"\"),\"２\",IF(AND(B463=$B$1,K463<>\"\"),\"１\",IF(B463>$B$1,\"３\",\"4\")))","v":"4"},"2017-05-12","d",12,"done!","ランチ、SNSチェック",60,{"$f":"IF(OR(J463=\"\",K463=\"\"),\"\",(K463-J463)/TIMEVALUE(\"1:00\")*60)","v":45},{"$f":"IF(H463=\"\",\"\",G463-H463)","v":15},"12:20:00","13:05:00"]
[{"$f":"IF(AND(B464=$B$1,K464=\"\"),\"２\",IF(AND(B464=$B$1,K464<>\"\"),\"１\",IF(B464>$B$1,\"３\",\"4\")))","v":"4"},"2017-05-12","h",14,"done!","STCメールチェック対応午後",20,{"$f":"IF(OR(J464=\"\",K464=\"\"),\"\",(K464-J464)/TIMEVALUE(\"1:00\")*60)","v":4.9999999999999822},{"$f":"IF(H464=\"\",\"\",G464-H464)","v":15.000000000000018},"13:40:00","13:45:00"]
[{"$f":"IF(AND(B465=$B$1,K465=\"\"),\"２\",IF(AND(B465=$B$1,K465<>\"\"),\"１\",IF(B465>$B$1,\"３\",\"4\")))","v":"4"},"2017-05-12",null,11,"done!","原価計算の確認",60,{"$f":"IF(OR(J465=\"\",K465=\"\"),\"\",(K465-J465)/TIMEVALUE(\"1:00\")*60)","v":30.000000000000053},{"$f":"IF(H465=\"\",\"\",G465-H465)","v":29.999999999999947},"13:20:00","13:50:00"]
[{"$f":"IF(AND(B466=$B$1,K466=\"\"),\"２\",IF(AND(B466=$B$1,K466<>\"\"),\"１\",IF(B466>$B$1,\"３\",\"4\")))","v":"4"},"2017-05-12","h",14,"done!","gmail、yahooメールチェック（午後）",10,{"$f":"IF(OR(J466=\"\",K466=\"\"),\"\",(K466-J466)/TIMEVALUE(\"1:00\")*60)","v":5.0000000000001421},{"$f":"IF(H466=\"\",\"\",G466-H466)","v":4.9999999999998579},"13:45:00","13:50:00"]
[{"$f":"IF(AND(B467=$B$1,K467=\"\"),\"２\",IF(AND(B467=$B$1,K467<>\"\"),\"１\",IF(B467>$B$1,\"３\",\"4\")))","v":"4"},"2017-05-12","h",17,"done!","STCメールチェック対応ラスト",20,{"$f":"IF(OR(J467=\"\",K467=\"\"),\"\",(K467-J467)/TIMEVALUE(\"1:00\")*60)","v":7.000000000000135},{"$f":"IF(H467=\"\",\"\",G467-H467)","v":12.999999999999865},"17:10:00","17:17:00"]
[{"$f":"IF(AND(B468=$B$1,K468=\"\"),\"２\",IF(AND(B468=$B$1,K468<>\"\"),\"１\",IF(B468>$B$1,\"３\",\"4\")))","v":"4"},"2017-05-12",null,14,"done!","古江サイエンス訪問",300,{"$f":"IF(OR(J468=\"\",K468=\"\"),\"\",(K468-J468)/TIMEVALUE(\"1:00\")*60)","v":260.00000000000006},{"$f":"IF(H468=\"\",\"\",G468-H468)","v":39.999999999999943},"13:10:00","17:30:00"]
[{"$f":"IF(AND(B469=$B$1,K469=\"\"),\"２\",IF(AND(B469=$B$1,K469<>\"\"),\"１\",IF(B469>$B$1,\"３\",\"4\")))","v":"4"},"2017-05-12","d",19,"done!","夕食、SNSチェック",60,{"$f":"IF(OR(J469=\"\",K469=\"\"),\"\",(K469-J469)/TIMEVALUE(\"1:00\")*60)","v":240.00000000000011},{"$f":"IF(H469=\"\",\"\",G469-H469)","v":-180.00000000000011},"17:30:00","21:30:00"]
[{"$f":"IF(AND(B470=$B$1,K470=\"\"),\"２\",IF(AND(B470=$B$1,K470<>\"\"),\"１\",IF(B470>$B$1,\"３\",\"4\")))","v":"4"},"2017-05-12","h",19,"done!","gmail、yahooメールチェック（夜）",10,{"$f":"IF(OR(J470=\"\",K470=\"\"),\"\",(K470-J470)/TIMEVALUE(\"1:00\")*60)","v":9.9999999999999645},{"$f":"IF(H470=\"\",\"\",G470-H470)","v":3.5527136788005009E-14},"21:30:00","21:40:00"]
[{"$f":"IF(AND(B471=$B$1,K471=\"\"),\"２\",IF(AND(B471=$B$1,K471<>\"\"),\"１\",IF(B471>$B$1,\"３\",\"4\")))","v":"4"},"2017-05-12","h",21,"done!","ブログ更新",90,{"$f":"IF(OR(J471=\"\",K471=\"\"),\"\",(K471-J471)/TIMEVALUE(\"1:00\")*60)","v":109.99999999999993},{"$f":"IF(H471=\"\",\"\",G471-H471)","v":-19.999999999999929},"21:40:00","23:30:00"]
[{"$f":"IF(AND(B472=$B$1,K472=\"\"),\"２\",IF(AND(B472=$B$1,K472<>\"\"),\"１\",IF(B472>$B$1,\"３\",\"4\")))","v":"4"},"2017-05-13","d",6,"done!","朝食、SNSチェック",60,{"$f":"IF(OR(J472=\"\",K472=\"\"),\"\",(K472-J472)/TIMEVALUE(\"1:00\")*60)","v":140.00000000000006},{"$f":"IF(H472=\"\",\"\",G472-H472)","v":-80.000000000000057},"07:30:00","09:50:00"]
[{"$f":"IF(AND(B473=$B$1,K473=\"\"),\"２\",IF(AND(B473=$B$1,K473<>\"\"),\"１\",IF(B473>$B$1,\"３\",\"4\")))","v":"4"},"2017-05-13","d",18,"done!","交通費記録",5,{"$f":"IF(OR(J473=\"\",K473=\"\"),\"\",(K473-J473)/TIMEVALUE(\"1:00\")*60)","v":9.9999999999999645},{"$f":"IF(H473=\"\",\"\",G473-H473)","v":-4.9999999999999645},"09:50:00","10:00:00"]
[{"$f":"IF(AND(B474=$B$1,K474=\"\"),\"２\",IF(AND(B474=$B$1,K474<>\"\"),\"１\",IF(B474>$B$1,\"３\",\"4\")))","v":"4"},"2017-05-13","d",7,"done!","タスク作成",15,{"$f":"IF(OR(J474=\"\",K474=\"\"),\"\",(K474-J474)/TIMEVALUE(\"1:00\")*60)","v":0.99999999999999645},{"$f":"IF(H474=\"\",\"\",G474-H474)","v":14.000000000000004},"10:00:00","10:01:00"]
[{"$f":"IF(AND(B475=$B$1,K475=\"\"),\"２\",IF(AND(B475=$B$1,K475<>\"\"),\"１\",IF(B475>$B$1,\"３\",\"4\")))","v":"4"},"2017-05-15","d",6,"done!","朝食、SNSチェック",60,{"$f":"IF(OR(J475=\"\",K475=\"\"),\"\",(K475-J475)/TIMEVALUE(\"1:00\")*60)","v":34.999999999999957},{"$f":"IF(H475=\"\",\"\",G475-H475)","v":25.000000000000043},"06:10:00","06:45:00"]
[{"$f":"IF(AND(B476=$B$1,K476=\"\"),\"２\",IF(AND(B476=$B$1,K476<>\"\"),\"１\",IF(B476>$B$1,\"３\",\"4\")))","v":"4"},"2017-05-15",null,7,"done!","STCへ移動",90,{"$f":"IF(OR(J476=\"\",K476=\"\"),\"\",(K476-J476)/TIMEVALUE(\"1:00\")*60)","v":84.999999999999943},{"$f":"IF(H476=\"\",\"\",G476-H476)","v":5.0000000000000568},"06:45:00","08:10:00"]
[{"$f":"IF(AND(B477=$B$1,K477=\"\"),\"２\",IF(AND(B477=$B$1,K477<>\"\"),\"１\",IF(B477>$B$1,\"３\",\"4\")))","v":"4"},"2017-05-15","d",7,"done!","タスク作成",15,{"$f":"IF(OR(J477=\"\",K477=\"\"),\"\",(K477-J477)/TIMEVALUE(\"1:00\")*60)","v":12.000000000000117},{"$f":"IF(H477=\"\",\"\",G477-H477)","v":2.9999999999998828},"08:10:00","08:22:00"]
[{"$f":"IF(AND(B478=$B$1,K478=\"\"),\"２\",IF(AND(B478=$B$1,K478<>\"\"),\"１\",IF(B478>$B$1,\"３\",\"4\")))","v":"4"},"2017-05-15","h",8,"done!","gmail、yahooメールチェック（朝）",10,{"$f":"IF(OR(J478=\"\",K478=\"\"),\"\",(K478-J478)/TIMEVALUE(\"1:00\")*60)","v":17.999999999999936},{"$f":"IF(H478=\"\",\"\",G478-H478)","v":-7.9999999999999361},"08:22:00","08:40:00"]
[{"$f":"IF(AND(B479=$B$1,K479=\"\"),\"２\",IF(AND(B479=$B$1,K479<>\"\"),\"１\",IF(B479>$B$1,\"３\",\"4\")))","v":"4"},"2017-05-15",null,9,"done!","産業資材　佐藤さん打ち合わせと準備",45,{"$f":"IF(OR(J479=\"\",K479=\"\"),\"\",(K479-J479)/TIMEVALUE(\"1:00\")*60)","v":108.99999999999993},{"$f":"IF(H479=\"\",\"\",G479-H479)","v":-63.999999999999929},"08:40:00","10:29:00"]
[{"$f":"IF(AND(B480=$B$1,K480=\"\"),\"２\",IF(AND(B480=$B$1,K480<>\"\"),\"１\",IF(B480>$B$1,\"３\",\"4\")))","v":"4"},"2017-05-15",null,8,"done!","回覧物確認",30,{"$f":"IF(OR(J480=\"\",K480=\"\"),\"\",(K480-J480)/TIMEVALUE(\"1:00\")*60)","v":38.000000000000107},{"$f":"IF(H480=\"\",\"\",G480-H480)","v":-8.0000000000001066},"10:29:00","11:07:00"]
[{"$f":"IF(AND(B481=$B$1,K481=\"\"),\"２\",IF(AND(B481=$B$1,K481<>\"\"),\"１\",IF(B481>$B$1,\"３\",\"4\")))","v":"4"},"2017-05-15","h",11,"done!","gmail、yahooメールチェック（午前）",10,{"$f":"IF(OR(J481=\"\",K481=\"\"),\"\",(K481-J481)/TIMEVALUE(\"1:00\")*60)","v":1.9999999999999929},{"$f":"IF(H481=\"\",\"\",G481-H481)","v":8.0000000000000071},"11:07:00","11:09:00"]
[{"$f":"IF(AND(B482=$B$1,K482=\"\"),\"２\",IF(AND(B482=$B$1,K482<>\"\"),\"１\",IF(B482>$B$1,\"３\",\"4\")))","v":"4"},"2017-05-15","d",12,"done!","ランチ、SNSチェック",60,{"$f":"IF(OR(J482=\"\",K482=\"\"),\"\",(K482-J482)/TIMEVALUE(\"1:00\")*60)","v":49.999999999999986},{"$f":"IF(H482=\"\",\"\",G482-H482)","v":10.000000000000014},"12:00:00","12:50:00"]
[{"$f":"IF(AND(B483=$B$1,K483=\"\"),\"２\",IF(AND(B483=$B$1,K483<>\"\"),\"１\",IF(B483>$B$1,\"３\",\"4\")))","v":"4"},"2017-05-15",null,11,"done!","ソート会計データチェック、申告書",120,{"$f":"IF(OR(J483=\"\",K483=\"\"),\"\",(K483-J483)/TIMEVALUE(\"1:00\")*60)","v":130.00000000000009},{"$f":"IF(H483=\"\",\"\",G483-H483)","v":-10.000000000000085},"11:10:00","13:20:00"]
[{"$f":"IF(AND(B484=$B$1,K484=\"\"),\"２\",IF(AND(B484=$B$1,K484<>\"\"),\"１\",IF(B484>$B$1,\"３\",\"4\")))","v":"4"},"2017-05-15",null,14,"done!","産業資材島野さん電話",15,{"$f":"IF(OR(J484=\"\",K484=\"\"),\"\",(K484-J484)/TIMEVALUE(\"1:00\")*60)","v":32.999999999999886},{"$f":"IF(H484=\"\",\"\",G484-H484)","v":-17.999999999999886},"13:20:00","13:53:00"]
[{"$f":"IF(AND(B485=$B$1,K485=\"\"),\"２\",IF(AND(B485=$B$1,K485<>\"\"),\"１\",IF(B485>$B$1,\"３\",\"4\")))","v":"4"},"2017-05-15","h",14,"done!","gmail、yahooメールチェック（午後）",10,{"$f":"IF(OR(J485=\"\",K485=\"\"),\"\",(K485-J485)/TIMEVALUE(\"1:00\")*60)","v":13.000000000000114},{"$f":"IF(H485=\"\",\"\",G485-H485)","v":-3.0000000000001137},"13:53:00","14:06:00"]
[{"$f":"IF(AND(B486=$B$1,K486=\"\"),\"２\",IF(AND(B486=$B$1,K486<>\"\"),\"１\",IF(B486>$B$1,\"３\",\"4\")))","v":"4"},"2017-05-15",null,15,"done!","STC消費税申告準備",120,{"$f":"IF(OR(J486=\"\",K486=\"\"),\"\",(K486-J486)/TIMEVALUE(\"1:00\")*60)","v":90},{"$f":"IF(H486=\"\",\"\",G486-H486)","v":30},"14:06:00","15:36:00"]
[{"$f":"IF(AND(B487=$B$1,K487=\"\"),\"２\",IF(AND(B487=$B$1,K487<>\"\"),\"１\",IF(B487>$B$1,\"３\",\"4\")))","v":"4"},"2017-05-15",null,18,"done!","橋本司法書士と打ち合わせ",90,{"$f":"IF(OR(J487=\"\",K487=\"\"),\"\",(K487-J487)/TIMEVALUE(\"1:00\")*60)","v":99.999999999999972},{"$f":"IF(H487=\"\",\"\",G487-H487)","v":-9.9999999999999716},"17:20:00","19:00:00"]
[{"$f":"IF(AND(B488=$B$1,K488=\"\"),\"２\",IF(AND(B488=$B$1,K488<>\"\"),\"１\",IF(B488>$B$1,\"３\",\"4\")))","v":"4"},"2017-05-15",null,19,"done!","打ち合わせから帰宅",90,{"$f":"IF(OR(J488=\"\",K488=\"\"),\"\",(K488-J488)/TIMEVALUE(\"1:00\")*60)","v":70.000000000000071},{"$f":"IF(H488=\"\",\"\",G488-H488)","v":19.999999999999929},"19:00:00","20:10:00"]
[{"$f":"IF(AND(B489=$B$1,K489=\"\"),\"２\",IF(AND(B489=$B$1,K489<>\"\"),\"１\",IF(B489>$B$1,\"３\",\"4\")))","v":"4"},"2017-05-15","d",19,"done!","夕食、SNSチェック",60,{"$f":"IF(OR(J489=\"\",K489=\"\"),\"\",(K489-J489)/TIMEVALUE(\"1:00\")*60)","v":99.999999999999972},{"$f":"IF(H489=\"\",\"\",G489-H489)","v":-39.999999999999972},"20:10:00","21:50:00"]
[{"$f":"IF(AND(B490=$B$1,K490=\"\"),\"２\",IF(AND(B490=$B$1,K490<>\"\"),\"１\",IF(B490>$B$1,\"３\",\"4\")))","v":"4"},"2017-05-15","h",21,"done!","ブログ更新",90,{"$f":"IF(OR(J490=\"\",K490=\"\"),\"\",(K490-J490)/TIMEVALUE(\"1:00\")*60)","v":220.00000000000003},{"$f":"IF(H490=\"\",\"\",G490-H490)","v":-130.00000000000003},"21:50:00",1.0625]
[{"$f":"IF(AND(B491=$B$1,K491=\"\"),\"２\",IF(AND(B491=$B$1,K491<>\"\"),\"１\",IF(B491>$B$1,\"３\",\"4\")))","v":"4"},"2017-05-16","d",6,"done!","朝食、SNSチェック",60,{"$f":"IF(OR(J491=\"\",K491=\"\"),\"\",(K491-J491)/TIMEVALUE(\"1:00\")*60)","v":60.000000000000028},{"$f":"IF(H491=\"\",\"\",G491-H491)","v":-2.8421709430404007E-14},"07:35:00","08:35:00"]
[{"$f":"IF(AND(B492=$B$1,K492=\"\"),\"２\",IF(AND(B492=$B$1,K492<>\"\"),\"１\",IF(B492>$B$1,\"３\",\"4\")))","v":"4"},"2017-05-16","d",6,"done!","経理処理、交通費記録",15,{"$f":"IF(OR(J492=\"\",K492=\"\"),\"\",(K492-J492)/TIMEVALUE(\"1:00\")*60)","v":4.9999999999999822},{"$f":"IF(H492=\"\",\"\",G492-H492)","v":10.000000000000018},"08:35:00","08:40:00"]
[{"$f":"IF(AND(B493=$B$1,K493=\"\"),\"２\",IF(AND(B493=$B$1,K493<>\"\"),\"１\",IF(B493>$B$1,\"３\",\"4\")))","v":"4"},"2017-05-16","d",7,"done!","タスク作成",15,{"$f":"IF(OR(J493=\"\",K493=\"\"),\"\",(K493-J493)/TIMEVALUE(\"1:00\")*60)","v":12.999999999999954},{"$f":"IF(H493=\"\",\"\",G493-H493)","v":2.0000000000000462},"08:40:00","08:53:00"]
[{"$f":"IF(AND(B494=$B$1,K494=\"\"),\"２\",IF(AND(B494=$B$1,K494<>\"\"),\"１\",IF(B494>$B$1,\"３\",\"4\")))","v":"4"},"2017-05-16","h",8,"done!","gmail、yahooメールチェック（朝）",10,{"$f":"IF(OR(J494=\"\",K494=\"\"),\"\",(K494-J494)/TIMEVALUE(\"1:00\")*60)","v":26.000000000000068},{"$f":"IF(H494=\"\",\"\",G494-H494)","v":-16.000000000000068},"08:53:00","09:19:00"]
[{"$f":"IF(AND(B495=$B$1,K495=\"\"),\"２\",IF(AND(B495=$B$1,K495<>\"\"),\"１\",IF(B495>$B$1,\"３\",\"4\")))","v":"4"},"2017-05-16",null,9,"done!","テクノス横井さんに登記簿などの依頼めーる",10,{"$f":"IF(OR(J495=\"\",K495=\"\"),\"\",(K495-J495)/TIMEVALUE(\"1:00\")*60)","v":12.000000000000037},{"$f":"IF(H495=\"\",\"\",G495-H495)","v":-2.0000000000000373},"09:19:00","09:31:00"]
[{"$f":"IF(AND(B496=$B$1,K496=\"\"),\"２\",IF(AND(B496=$B$1,K496<>\"\"),\"１\",IF(B496>$B$1,\"３\",\"4\")))","v":"4"},"2017-05-16",null,10,"done!","ソート申告書作成",120,{"$f":"IF(OR(J496=\"\",K496=\"\"),\"\",(K496-J496)/TIMEVALUE(\"1:00\")*60)","v":135.99999999999991},{"$f":"IF(H496=\"\",\"\",G496-H496)","v":-15.999999999999915},"09:31:00","11:47:00"]
[{"$f":"IF(AND(B497=$B$1,K497=\"\"),\"２\",IF(AND(B497=$B$1,K497<>\"\"),\"１\",IF(B497>$B$1,\"３\",\"4\")))","v":"4"},"2017-05-16","h",10,"done!","STCメールチェック対応午前",20,{"$f":"IF(OR(J497=\"\",K497=\"\"),\"\",(K497-J497)/TIMEVALUE(\"1:00\")*60)","v":1.0000000000000764},{"$f":"IF(H497=\"\",\"\",G497-H497)","v":18.999999999999922},"11:47:00","11:48:00"]
[{"$f":"IF(AND(B498=$B$1,K498=\"\"),\"２\",IF(AND(B498=$B$1,K498<>\"\"),\"１\",IF(B498>$B$1,\"３\",\"4\")))","v":"4"},"2017-05-16","h",11,"done!","gmail、yahooメールチェック（午前）",10,{"$f":"IF(OR(J498=\"\",K498=\"\"),\"\",(K498-J498)/TIMEVALUE(\"1:00\")*60)","v":9.9999999999999645},{"$f":"IF(H498=\"\",\"\",G498-H498)","v":3.5527136788005009E-14},"11:48:00","11:58:00"]
[{"$f":"IF(AND(B499=$B$1,K499=\"\"),\"２\",IF(AND(B499=$B$1,K499<>\"\"),\"１\",IF(B499>$B$1,\"３\",\"4\")))","v":"4"},"2017-05-16","d",12,"done!","ランチ、SNSチェック",60,{"$f":"IF(OR(J499=\"\",K499=\"\"),\"\",(K499-J499)/TIMEVALUE(\"1:00\")*60)","v":42.000000000000014},{"$f":"IF(H499=\"\",\"\",G499-H499)","v":17.999999999999986},"11:58:00","12:40:00"]
[{"$f":"IF(AND(B500=$B$1,K500=\"\"),\"２\",IF(AND(B500=$B$1,K500<>\"\"),\"１\",IF(B500>$B$1,\"３\",\"4\")))","v":"4"},"2017-05-16","h",14,"done!","gmail、yahooメールチェック（午後）",10,{"$f":"IF(OR(J500=\"\",K500=\"\"),\"\",(K500-J500)/TIMEVALUE(\"1:00\")*60)","v":4.9999999999999822},{"$f":"IF(H500=\"\",\"\",G500-H500)","v":5.0000000000000178},"14:00:00","14:05:00"]
[{"$f":"IF(AND(B501=$B$1,K501=\"\"),\"２\",IF(AND(B501=$B$1,K501<>\"\"),\"１\",IF(B501>$B$1,\"３\",\"4\")))","v":"4"},"2017-05-16","h",14,"done!","STCメールチェック対応午後",20,{"$f":"IF(OR(J501=\"\",K501=\"\"),\"\",(K501-J501)/TIMEVALUE(\"1:00\")*60)","v":4.9999999999999822},{"$f":"IF(H501=\"\",\"\",G501-H501)","v":15.000000000000018},"14:05:00","14:10:00"]
[{"$f":"IF(AND(B502=$B$1,K502=\"\"),\"２\",IF(AND(B502=$B$1,K502<>\"\"),\"１\",IF(B502>$B$1,\"３\",\"4\")))","v":"4"},"2017-05-16","h",17,"done!","STCメールチェック対応ラスト",20,{"$f":"IF(OR(J502=\"\",K502=\"\"),\"\",(K502-J502)/TIMEVALUE(\"1:00\")*60)","v":4.9999999999998224},{"$f":"IF(H502=\"\",\"\",G502-H502)","v":15.000000000000178},"17:00:00","17:05:00"]
[{"$f":"IF(AND(B503=$B$1,K503=\"\"),\"２\",IF(AND(B503=$B$1,K503<>\"\"),\"１\",IF(B503>$B$1,\"３\",\"4\")))","v":"4"},"2017-05-16",null,13,"done!","関東経済産業局の説明会参加",300,{"$f":"IF(OR(J503=\"\",K503=\"\"),\"\",(K503-J503)/TIMEVALUE(\"1:00\")*60)","v":339.99999999999989},{"$f":"IF(H503=\"\",\"\",G503-H503)","v":-39.999999999999886},"12:40:00","18:20:00"]
[{"$f":"IF(AND(B504=$B$1,K504=\"\"),\"２\",IF(AND(B504=$B$1,K504<>\"\"),\"１\",IF(B504>$B$1,\"３\",\"4\")))","v":"4"},"2017-05-16","d",19,"done!","夕食、SNSチェック",60,{"$f":"IF(OR(J504=\"\",K504=\"\"),\"\",(K504-J504)/TIMEVALUE(\"1:00\")*60)","v":64.999999999999929},{"$f":"IF(H504=\"\",\"\",G504-H504)","v":-4.9999999999999289},"20:15:00","21:20:00"]
[{"$f":"IF(AND(B505=$B$1,K505=\"\"),\"２\",IF(AND(B505=$B$1,K505<>\"\"),\"１\",IF(B505>$B$1,\"３\",\"4\")))","v":"4"},"2017-05-16","h",21,"done!","ブログ更新",90,{"$f":"IF(OR(J505=\"\",K505=\"\"),\"\",(K505-J505)/TIMEVALUE(\"1:00\")*60)","v":239.99999999999994},{"$f":"IF(H505=\"\",\"\",G505-H505)","v":-149.99999999999994},"18:30:00","22:30:00"]
[{"$f":"IF(AND(B506=$B$1,K506=\"\"),\"２\",IF(AND(B506=$B$1,K506<>\"\"),\"１\",IF(B506>$B$1,\"３\",\"4\")))","v":"4"},"2017-05-16","h",19,"done!","gmail、yahooメールチェック（夜）",10,{"$f":"IF(OR(J506=\"\",K506=\"\"),\"\",(K506-J506)/TIMEVALUE(\"1:00\")*60)","v":8.999999999999968},{"$f":"IF(H506=\"\",\"\",G506-H506)","v":1.000000000000032},"22:30:00","22:39:00"]
[{"$f":"IF(AND(B507=$B$1,K507=\"\"),\"２\",IF(AND(B507=$B$1,K507<>\"\"),\"１\",IF(B507>$B$1,\"３\",\"4\")))","v":"4"},"2017-05-16","d",18,"done!","ホームページ作成",10,{"$f":"IF(OR(J507=\"\",K507=\"\"),\"\",(K507-J507)/TIMEVALUE(\"1:00\")*60)","v":24.000000000000075},{"$f":"IF(H507=\"\",\"\",G507-H507)","v":-14.000000000000075},"22:39:00","23:03:00"]
[{"$f":"IF(AND(B508=$B$1,K508=\"\"),\"２\",IF(AND(B508=$B$1,K508<>\"\"),\"１\",IF(B508>$B$1,\"３\",\"4\")))","v":"4"},"2017-05-17","d",6,"done!","朝食、SNSチェック",60,{"$f":"IF(OR(J508=\"\",K508=\"\"),\"\",(K508-J508)/TIMEVALUE(\"1:00\")*60)","v":59.999999999999943},{"$f":"IF(H508=\"\",\"\",G508-H508)","v":5.6843418860808015E-14},"07:10:00","08:10:00"]
[{"$f":"IF(AND(B509=$B$1,K509=\"\"),\"２\",IF(AND(B509=$B$1,K509<>\"\"),\"１\",IF(B509>$B$1,\"３\",\"4\")))","v":"4"},"2017-05-17","d",7,"done!","タスク作成",15,{"$f":"IF(OR(J509=\"\",K509=\"\"),\"\",(K509-J509)/TIMEVALUE(\"1:00\")*60)","v":15.000000000000027},{"$f":"IF(H509=\"\",\"\",G509-H509)","v":-2.6645352591003757E-14},"08:10:00","08:25:00"]
[{"$f":"IF(AND(B510=$B$1,K510=\"\"),\"２\",IF(AND(B510=$B$1,K510<>\"\"),\"１\",IF(B510>$B$1,\"３\",\"4\")))","v":"4"},"2017-05-17","d",6,"done!","経理処理、交通費記録",15,{"$f":"IF(OR(J510=\"\",K510=\"\"),\"\",(K510-J510)/TIMEVALUE(\"1:00\")*60)","v":9.000000000000048},{"$f":"IF(H510=\"\",\"\",G510-H510)","v":5.999999999999952},"08:25:00","08:34:00"]
[{"$f":"IF(AND(B511=$B$1,K511=\"\"),\"２\",IF(AND(B511=$B$1,K511<>\"\"),\"１\",IF(B511>$B$1,\"３\",\"4\")))","v":"4"},"2017-05-17","h",8,"done!","gmail、yahooメールチェック（朝）",10,{"$f":"IF(OR(J511=\"\",K511=\"\"),\"\",(K511-J511)/TIMEVALUE(\"1:00\")*60)","v":8.999999999999968},{"$f":"IF(H511=\"\",\"\",G511-H511)","v":1.000000000000032},"08:34:00","08:43:00"]
[{"$f":"IF(AND(B512=$B$1,K512=\"\"),\"２\",IF(AND(B512=$B$1,K512<>\"\"),\"１\",IF(B512>$B$1,\"３\",\"4\")))","v":"4"},"2017-05-17",null,8,"done!","電子証明書申請書",20,{"$f":"IF(OR(J512=\"\",K512=\"\"),\"\",(K512-J512)/TIMEVALUE(\"1:00\")*60)","v":15.999999999999943},{"$f":"IF(H512=\"\",\"\",G512-H512)","v":4.0000000000000568},"08:43:00","08:59:00"]
[{"$f":"IF(AND(B513=$B$1,K513=\"\"),\"２\",IF(AND(B513=$B$1,K513<>\"\"),\"１\",IF(B513>$B$1,\"３\",\"4\")))","v":"4"},"2017-05-17",null,9,"done!","メールアドレス検討",30,{"$f":"IF(OR(J513=\"\",K513=\"\"),\"\",(K513-J513)/TIMEVALUE(\"1:00\")*60)","v":46.000000000000078},{"$f":"IF(H513=\"\",\"\",G513-H513)","v":-16.000000000000078},"08:59:00","09:45:00"]
[{"$f":"IF(AND(B514=$B$1,K514=\"\"),\"２\",IF(AND(B514=$B$1,K514<>\"\"),\"１\",IF(B514>$B$1,\"３\",\"4\")))","v":"4"},"2017-05-17","h",10,"done!","STCメールチェック対応午前",20,{"$f":"IF(OR(J514=\"\",K514=\"\"),\"\",(K514-J514)/TIMEVALUE(\"1:00\")*60)","v":5.0000000000000622},{"$f":"IF(H514=\"\",\"\",G514-H514)","v":14.999999999999938},"09:45:00","09:50:00"]
[{"$f":"IF(AND(B515=$B$1,K515=\"\"),\"２\",IF(AND(B515=$B$1,K515<>\"\"),\"１\",IF(B515>$B$1,\"３\",\"4\")))","v":"4"},"2017-05-17","h",11,"done!","gmail、yahooメールチェック（午前）",10,{"$f":"IF(OR(J515=\"\",K515=\"\"),\"\",(K515-J515)/TIMEVALUE(\"1:00\")*60)","v":4.9999999999999822},{"$f":"IF(H515=\"\",\"\",G515-H515)","v":5.0000000000000178},"10:55:00","11:00:00"]
[{"$f":"IF(AND(B516=$B$1,K516=\"\"),\"２\",IF(AND(B516=$B$1,K516<>\"\"),\"１\",IF(B516>$B$1,\"３\",\"4\")))","v":"4"},"2017-05-17",null,9,"done!","ソート消費税、申告書チェック",120,{"$f":"IF(OR(J516=\"\",K516=\"\"),\"\",(K516-J516)/TIMEVALUE(\"1:00\")*60)","v":84.999999999999943},{"$f":"IF(H516=\"\",\"\",G516-H516)","v":35.000000000000057},"09:50:00","11:15:00"]
[{"$f":"IF(AND(B517=$B$1,K517=\"\"),\"２\",IF(AND(B517=$B$1,K517<>\"\"),\"１\",IF(B517>$B$1,\"３\",\"4\")))","v":"4"},"2017-05-17",null,12,"done!","トレーニング",90,{"$f":"IF(OR(J517=\"\",K517=\"\"),\"\",(K517-J517)/TIMEVALUE(\"1:00\")*60)","v":87.000000000000014},{"$f":"IF(H517=\"\",\"\",G517-H517)","v":2.9999999999999858},"11:15:00","12:42:00"]
[{"$f":"IF(AND(B518=$B$1,K518=\"\"),\"２\",IF(AND(B518=$B$1,K518<>\"\"),\"１\",IF(B518>$B$1,\"３\",\"4\")))","v":"4"},"2017-05-17","d",12,"done!","ランチ、SNSチェック",60,{"$f":"IF(OR(J518=\"\",K518=\"\"),\"\",(K518-J518)/TIMEVALUE(\"1:00\")*60)","v":49.999999999999986},{"$f":"IF(H518=\"\",\"\",G518-H518)","v":10.000000000000014},"12:42:00","13:32:00"]
[{"$f":"IF(AND(B519=$B$1,K519=\"\"),\"２\",IF(AND(B519=$B$1,K519<>\"\"),\"１\",IF(B519>$B$1,\"３\",\"4\")))","v":"4"},"2017-05-17",null,8,"done!","橋本氏に定款等送付（テクノス）",10,{"$f":"IF(OR(J519=\"\",K519=\"\"),\"\",(K519-J519)/TIMEVALUE(\"1:00\")*60)","v":29.999999999999893},{"$f":"IF(H519=\"\",\"\",G519-H519)","v":-19.999999999999893},"14:10:00","14:40:00"]
[{"$f":"IF(AND(B520=$B$1,K520=\"\"),\"２\",IF(AND(B520=$B$1,K520<>\"\"),\"１\",IF(B520>$B$1,\"３\",\"4\")))","v":"4"},"2017-05-17","h",14,"done!","gmail、yahooメールチェック（午後）",10,{"$f":"IF(OR(J520=\"\",K520=\"\"),\"\",(K520-J520)/TIMEVALUE(\"1:00\")*60)","v":5.0000000000001421},{"$f":"IF(H520=\"\",\"\",G520-H520)","v":4.9999999999998579},"14:40:00","14:45:00"]
[{"$f":"IF(AND(B521=$B$1,K521=\"\"),\"２\",IF(AND(B521=$B$1,K521<>\"\"),\"１\",IF(B521>$B$1,\"３\",\"4\")))","v":"4"},"2017-05-17","h",14,"done!","STCメールチェック対応午後",20,{"$f":"IF(OR(J521=\"\",K521=\"\"),\"\",(K521-J521)/TIMEVALUE(\"1:00\")*60)","v":0.99999999999999645},{"$f":"IF(H521=\"\",\"\",G521-H521)","v":19.000000000000004},"14:45:00","14:46:00"]
[{"$f":"IF(AND(B522=$B$1,K522=\"\"),\"２\",IF(AND(B522=$B$1,K522<>\"\"),\"１\",IF(B522>$B$1,\"３\",\"4\")))","v":"4"},"2017-05-17",null,11,"done!","ソフトバンク連絡",10,{"$f":"IF(OR(J522=\"\",K522=\"\"),\"\",(K522-J522)/TIMEVALUE(\"1:00\")*60)","v":14.999999999999947},{"$f":"IF(H522=\"\",\"\",G522-H522)","v":-4.9999999999999467},"15:30:00","15:45:00"]
[{"$f":"IF(AND(B523=$B$1,K523=\"\"),\"２\",IF(AND(B523=$B$1,K523<>\"\"),\"１\",IF(B523>$B$1,\"３\",\"4\")))","v":"4"},"2017-05-17","h",17,"done!","STCメールチェック対応ラスト",20,{"$f":"IF(OR(J523=\"\",K523=\"\"),\"\",(K523-J523)/TIMEVALUE(\"1:00\")*60)","v":4.9999999999999822},{"$f":"IF(H523=\"\",\"\",G523-H523)","v":15.000000000000018},"17:30:00","17:35:00"]
[{"$f":"IF(AND(B524=$B$1,K524=\"\"),\"２\",IF(AND(B524=$B$1,K524<>\"\"),\"１\",IF(B524>$B$1,\"３\",\"4\")))","v":"4"},"2017-05-17","d",19,"done!","夕食、SNSチェック",60,{"$f":"IF(OR(J524=\"\",K524=\"\"),\"\",(K524-J524)/TIMEVALUE(\"1:00\")*60)","v":46},{"$f":"IF(H524=\"\",\"\",G524-H524)","v":14},"20:10:00","20:56:00"]
[{"$f":"IF(AND(B525=$B$1,K525=\"\"),\"２\",IF(AND(B525=$B$1,K525<>\"\"),\"１\",IF(B525>$B$1,\"３\",\"4\")))","v":"4"},"2017-05-17","h",21,"done!","ブログ更新",90,{"$f":"IF(OR(J525=\"\",K525=\"\"),\"\",(K525-J525)/TIMEVALUE(\"1:00\")*60)","v":63.999999999999929},{"$f":"IF(H525=\"\",\"\",G525-H525)","v":26.000000000000071},"20:56:00","22:00:00"]
[{"$f":"IF(AND(B526=$B$1,K526=\"\"),\"２\",IF(AND(B526=$B$1,K526<>\"\"),\"１\",IF(B526>$B$1,\"３\",\"4\")))","v":"4"},"2017-05-17","h",19,"done!","gmail、yahooメールチェック（夜）",10,{"$f":"IF(OR(J526=\"\",K526=\"\"),\"\",(K526-J526)/TIMEVALUE(\"1:00\")*60)","v":5.9999999999999787},{"$f":"IF(H526=\"\",\"\",G526-H526)","v":4.0000000000000213},"23:00:00","23:06:00"]
[{"$f":"IF(AND(B527=$B$1,K527=\"\"),\"２\",IF(AND(B527=$B$1,K527<>\"\"),\"１\",IF(B527>$B$1,\"３\",\"4\")))","v":"4"},"2017-05-18","d",6,"done!","朝食、SNSチェック",60,{"$f":"IF(OR(J527=\"\",K527=\"\"),\"\",(K527-J527)/TIMEVALUE(\"1:00\")*60)","v":34.999999999999957},{"$f":"IF(H527=\"\",\"\",G527-H527)","v":25.000000000000043},"06:10:00","06:45:00"]
[{"$f":"IF(AND(B528=$B$1,K528=\"\"),\"２\",IF(AND(B528=$B$1,K528<>\"\"),\"１\",IF(B528>$B$1,\"３\",\"4\")))","v":"4"},"2017-05-18",null,6,"done!","STCへ移動",90,{"$f":"IF(OR(J528=\"\",K528=\"\"),\"\",(K528-J528)/TIMEVALUE(\"1:00\")*60)","v":84.999999999999943},{"$f":"IF(H528=\"\",\"\",G528-H528)","v":5.0000000000000568},"06:45:00","08:10:00"]
[{"$f":"IF(AND(B529=$B$1,K529=\"\"),\"２\",IF(AND(B529=$B$1,K529<>\"\"),\"１\",IF(B529>$B$1,\"３\",\"4\")))","v":"4"},"2017-05-18","d",7,"done!","タスク作成",15,{"$f":"IF(OR(J529=\"\",K529=\"\"),\"\",(K529-J529)/TIMEVALUE(\"1:00\")*60)","v":6.0000000000001386},{"$f":"IF(H529=\"\",\"\",G529-H529)","v":8.9999999999998614},"08:10:00","08:16:00"]
[{"$f":"IF(AND(B530=$B$1,K530=\"\"),\"２\",IF(AND(B530=$B$1,K530<>\"\"),\"１\",IF(B530>$B$1,\"３\",\"4\")))","v":"4"},"2017-05-18","h",8,"done!","gmail、yahooメールチェック（朝）",10,{"$f":"IF(OR(J530=\"\",K530=\"\"),\"\",(K530-J530)/TIMEVALUE(\"1:00\")*60)","v":2.9999999999999094},{"$f":"IF(H530=\"\",\"\",G530-H530)","v":7.0000000000000906},"08:16:00","08:19:00"]
[{"$f":"IF(AND(B531=$B$1,K531=\"\"),\"２\",IF(AND(B531=$B$1,K531<>\"\"),\"１\",IF(B531>$B$1,\"３\",\"4\")))","v":"4"},"2017-05-18",null,8,"done!","PCリモート動作確認",20,{"$f":"IF(OR(J531=\"\",K531=\"\"),\"\",(K531-J531)/TIMEVALUE(\"1:00\")*60)","v":12.000000000000037},{"$f":"IF(H531=\"\",\"\",G531-H531)","v":7.9999999999999627},"08:19:00","08:31:00"]
[{"$f":"IF(AND(B532=$B$1,K532=\"\"),\"２\",IF(AND(B532=$B$1,K532<>\"\"),\"１\",IF(B532>$B$1,\"３\",\"4\")))","v":"4"},"2017-05-18",null,8,"done!","ルフト決算事前日程調整（決算事前、監査法人）",15,{"$f":"IF(OR(J532=\"\",K532=\"\"),\"\",(K532-J532)/TIMEVALUE(\"1:00\")*60)","v":15.000000000000027},{"$f":"IF(H532=\"\",\"\",G532-H532)","v":-2.6645352591003757E-14},"08:31:00","08:46:00"]
[{"$f":"IF(AND(B533=$B$1,K533=\"\"),\"２\",IF(AND(B533=$B$1,K533<>\"\"),\"１\",IF(B533>$B$1,\"３\",\"4\")))","v":"4"},"2017-05-18","h",11,"done!","gmail、yahooメールチェック（午前）",10,{"$f":"IF(OR(J533=\"\",K533=\"\"),\"\",(K533-J533)/TIMEVALUE(\"1:00\")*60)","v":5.0000000000000622},{"$f":"IF(H533=\"\",\"\",G533-H533)","v":4.9999999999999378},"09:55:00","10:00:00"]
[{"$f":"IF(AND(B534=$B$1,K534=\"\"),\"２\",IF(AND(B534=$B$1,K534<>\"\"),\"１\",IF(B534>$B$1,\"３\",\"4\")))","v":"4"},"2017-05-18","d",12,"done!","ランチ、SNSチェック",60,{"$f":"IF(OR(J534=\"\",K534=\"\"),\"\",(K534-J534)/TIMEVALUE(\"1:00\")*60)","v":45},{"$f":"IF(H534=\"\",\"\",G534-H534)","v":15},"12:00:00","12:45:00"]
[{"$f":"IF(AND(B535=$B$1,K535=\"\"),\"２\",IF(AND(B535=$B$1,K535<>\"\"),\"１\",IF(B535>$B$1,\"３\",\"4\")))","v":"4"},"2017-05-18",null,9,"done!","ソート消費税申告書、法人税・決算書確定",180,{"$f":"IF(OR(J535=\"\",K535=\"\"),\"\",(K535-J535)/TIMEVALUE(\"1:00\")*60)","v":420.00000000000006},{"$f":"IF(H535=\"\",\"\",G535-H535)","v":-240.00000000000006},"10:00:00","17:00:00"]
[{"$f":"IF(AND(B536=$B$1,K536=\"\"),\"２\",IF(AND(B536=$B$1,K536<>\"\"),\"１\",IF(B536>$B$1,\"３\",\"4\")))","v":"4"},"2017-05-18",null,17,"done!","大幡さん決算の打ち合わせ",30,{"$f":"IF(OR(J536=\"\",K536=\"\"),\"\",(K536-J536)/TIMEVALUE(\"1:00\")*60)","v":70.000000000000071},{"$f":"IF(H536=\"\",\"\",G536-H536)","v":-40.000000000000071},"17:00:00","18:10:00"]
[{"$f":"IF(AND(B537=$B$1,K537=\"\"),\"２\",IF(AND(B537=$B$1,K537<>\"\"),\"１\",IF(B537>$B$1,\"３\",\"4\")))","v":"4"},"2017-05-18",null,18,"done!","懇親会",300,{"$f":"IF(OR(J537=\"\",K537=\"\"),\"\",(K537-J537)/TIMEVALUE(\"1:00\")*60)","v":299.99999999999989},{"$f":"IF(H537=\"\",\"\",G537-H537)","v":1.1368683772161603E-13},"18:10:00","23:10:00"]
[{"$f":"IF(AND(B538=$B$1,K538=\"\"),\"２\",IF(AND(B538=$B$1,K538<>\"\"),\"１\",IF(B538>$B$1,\"３\",\"4\")))","v":"4"},"2017-05-19","d",6,"done!","朝食、SNSチェック",60,{"$f":"IF(OR(J538=\"\",K538=\"\"),\"\",(K538-J538)/TIMEVALUE(\"1:00\")*60)","v":34.999999999999957},{"$f":"IF(H538=\"\",\"\",G538-H538)","v":25.000000000000043},"06:40:00","07:15:00"]
[{"$f":"IF(AND(B539=$B$1,K539=\"\"),\"２\",IF(AND(B539=$B$1,K539<>\"\"),\"１\",IF(B539>$B$1,\"３\",\"4\")))","v":"4"},"2017-05-19",null,6,"done!","ブログ更新",60,{"$f":"IF(OR(J539=\"\",K539=\"\"),\"\",(K539-J539)/TIMEVALUE(\"1:00\")*60)","v":69.999999999999986},{"$f":"IF(H539=\"\",\"\",G539-H539)","v":-9.9999999999999858},"07:15:00","08:25:00"]
[{"$f":"IF(AND(B540=$B$1,K540=\"\"),\"２\",IF(AND(B540=$B$1,K540<>\"\"),\"１\",IF(B540>$B$1,\"３\",\"4\")))","v":"4"},"2017-05-19","d",7,"done!","タスク作成",15,{"$f":"IF(OR(J540=\"\",K540=\"\"),\"\",(K540-J540)/TIMEVALUE(\"1:00\")*60)","v":7.9999999999999716},{"$f":"IF(H540=\"\",\"\",G540-H540)","v":7.0000000000000284},"08:45:00","08:53:00"]
[{"$f":"IF(AND(B541=$B$1,K541=\"\"),\"２\",IF(AND(B541=$B$1,K541<>\"\"),\"１\",IF(B541>$B$1,\"３\",\"4\")))","v":"4"},"2017-05-19","d",6,"done!","経理処理、交通費記録",15,{"$f":"IF(OR(J541=\"\",K541=\"\"),\"\",(K541-J541)/TIMEVALUE(\"1:00\")*60)","v":3.9999999999999858},{"$f":"IF(H541=\"\",\"\",G541-H541)","v":11.000000000000014},"08:53:00","08:57:00"]
[{"$f":"IF(AND(B542=$B$1,K542=\"\"),\"２\",IF(AND(B542=$B$1,K542<>\"\"),\"１\",IF(B542>$B$1,\"３\",\"4\")))","v":"4"},"2017-05-19","h",8,"done!","gmail、yahooメールチェック（朝）",10,{"$f":"IF(OR(J542=\"\",K542=\"\"),\"\",(K542-J542)/TIMEVALUE(\"1:00\")*60)","v":18.000000000000096},{"$f":"IF(H542=\"\",\"\",G542-H542)","v":-8.0000000000000959},"08:57:00","09:15:00"]
[{"$f":"IF(AND(B543=$B$1,K543=\"\"),\"２\",IF(AND(B543=$B$1,K543<>\"\"),\"１\",IF(B543>$B$1,\"３\",\"4\")))","v":"4"},"2017-05-19",null,8,"done!","鈴木さんお礼メール",5,{"$f":"IF(OR(J543=\"\",K543=\"\"),\"\",(K543-J543)/TIMEVALUE(\"1:00\")*60)","v":8.999999999999968},{"$f":"IF(H543=\"\",\"\",G543-H543)","v":-3.999999999999968},"09:15:00","09:24:00"]
[{"$f":"IF(AND(B544=$B$1,K544=\"\"),\"２\",IF(AND(B544=$B$1,K544<>\"\"),\"１\",IF(B544>$B$1,\"３\",\"4\")))","v":"4"},"2017-05-19",null,8,"done!","STC鈴木氏ソート納税額連絡",20,{"$f":"IF(OR(J544=\"\",K544=\"\"),\"\",(K544-J544)/TIMEVALUE(\"1:00\")*60)","v":24.999999999999993},{"$f":"IF(H544=\"\",\"\",G544-H544)","v":-4.9999999999999929},"09:24:00","09:49:00"]
[{"$f":"IF(AND(B545=$B$1,K545=\"\"),\"２\",IF(AND(B545=$B$1,K545<>\"\"),\"１\",IF(B545>$B$1,\"３\",\"4\")))","v":"4"},"2017-05-19",null,9,"done!","スーツ視聴",45,{"$f":"IF(OR(J545=\"\",K545=\"\"),\"\",(K545-J545)/TIMEVALUE(\"1:00\")*60)","v":50.999999999999979},{"$f":"IF(H545=\"\",\"\",G545-H545)","v":-5.9999999999999787},"09:49:00","10:40:00"]
[{"$f":"IF(AND(B546=$B$1,K546=\"\"),\"２\",IF(AND(B546=$B$1,K546<>\"\"),\"１\",IF(B546>$B$1,\"３\",\"4\")))","v":"4"},"2017-05-19",null,9,"done!","電子申告完了印オーダー（エッサムからIDが届き次第）",20,{"$f":"IF(OR(J546=\"\",K546=\"\"),\"\",(K546-J546)/TIMEVALUE(\"1:00\")*60)","v":33.000000000000043},{"$f":"IF(H546=\"\",\"\",G546-H546)","v":-13.000000000000043},"10:40:00","11:13:00"]
[{"$f":"IF(AND(B547=$B$1,K547=\"\"),\"２\",IF(AND(B547=$B$1,K547<>\"\"),\"１\",IF(B547>$B$1,\"３\",\"4\")))","v":"4"},"2017-05-19","h",10,"done!","STCメールチェック対応午前",20,{"$f":"IF(OR(J547=\"\",K547=\"\"),\"\",(K547-J547)/TIMEVALUE(\"1:00\")*60)","v":0},{"$f":"IF(H547=\"\",\"\",G547-H547)","v":20},"11:13:00","11:13:00"]
[{"$f":"IF(AND(B548=$B$1,K548=\"\"),\"２\",IF(AND(B548=$B$1,K548<>\"\"),\"１\",IF(B548>$B$1,\"３\",\"4\")))","v":"4"},"2017-05-19","h",11,"done!","gmail、yahooメールチェック（午前）",10,{"$f":"IF(OR(J548=\"\",K548=\"\"),\"\",(K548-J548)/TIMEVALUE(\"1:00\")*60)","v":7.9999999999999716},{"$f":"IF(H548=\"\",\"\",G548-H548)","v":2.0000000000000284},"11:13:00","11:21:00"]
[{"$f":"IF(AND(B549=$B$1,K549=\"\"),\"２\",IF(AND(B549=$B$1,K549<>\"\"),\"１\",IF(B549>$B$1,\"３\",\"4\")))","v":"4"},"2017-05-19","m",13,"done!","子会社請求書作成、送付",20,{"$f":"IF(OR(J549=\"\",K549=\"\"),\"\",(K549-J549)/TIMEVALUE(\"1:00\")*60)","v":67},{"$f":"IF(H549=\"\",\"\",G549-H549)","v":-47},"11:45:00","12:52:00"]
[{"$f":"IF(AND(B550=$B$1,K550=\"\"),\"２\",IF(AND(B550=$B$1,K550<>\"\"),\"１\",IF(B550>$B$1,\"３\",\"4\")))","v":"4"},"2017-05-19","d",12,"done!","ランチ、SNSチェック",60,{"$f":"IF(OR(J550=\"\",K550=\"\"),\"\",(K550-J550)/TIMEVALUE(\"1:00\")*60)","v":39.000000000000021},{"$f":"IF(H550=\"\",\"\",G550-H550)","v":20.999999999999979},"12:52:00","13:31:00"]
[{"$f":"IF(AND(B551=$B$1,K551=\"\"),\"２\",IF(AND(B551=$B$1,K551<>\"\"),\"１\",IF(B551>$B$1,\"３\",\"4\")))","v":"4"},"2017-05-19",null,11,"done!","テクノス中間申告",120,{"$f":"IF(OR(J551=\"\",K551=\"\"),\"\",(K551-J551)/TIMEVALUE(\"1:00\")*60)","v":23.999999999999915},{"$f":"IF(H551=\"\",\"\",G551-H551)","v":96.000000000000085},"13:31:00","13:55:00"]
[{"$f":"IF(AND(B552=$B$1,K552=\"\"),\"２\",IF(AND(B552=$B$1,K552<>\"\"),\"１\",IF(B552>$B$1,\"３\",\"4\")))","v":"4"},"2017-05-19","h",14,"done!","STCメールチェック対応午後",20,{"$f":"IF(OR(J552=\"\",K552=\"\"),\"\",(K552-J552)/TIMEVALUE(\"1:00\")*60)","v":4.9999999999999822},{"$f":"IF(H552=\"\",\"\",G552-H552)","v":15.000000000000018},"14:00:00","14:05:00"]
[{"$f":"IF(AND(B553=$B$1,K553=\"\"),\"２\",IF(AND(B553=$B$1,K553<>\"\"),\"１\",IF(B553>$B$1,\"３\",\"4\")))","v":"4"},"2017-05-19",null,13,"done!","ソフトバンク",45,{"$f":"IF(OR(J553=\"\",K553=\"\"),\"\",(K553-J553)/TIMEVALUE(\"1:00\")*60)","v":85.000000000000171},{"$f":"IF(H553=\"\",\"\",G553-H553)","v":-40.000000000000171},"13:55:00","15:20:00"]
[{"$f":"IF(AND(B554=$B$1,K554=\"\"),\"２\",IF(AND(B554=$B$1,K554<>\"\"),\"１\",IF(B554>$B$1,\"３\",\"4\")))","v":"4"},"2017-05-19","h",14,"done!","gmail、yahooメールチェック（午後）",10,{"$f":"IF(OR(J554=\"\",K554=\"\"),\"\",(K554-J554)/TIMEVALUE(\"1:00\")*60)","v":24.999999999999911},{"$f":"IF(H554=\"\",\"\",G554-H554)","v":-14.999999999999911},"15:20:00","15:45:00"]
[{"$f":"IF(AND(B555=$B$1,K555=\"\"),\"２\",IF(AND(B555=$B$1,K555<>\"\"),\"１\",IF(B555>$B$1,\"３\",\"4\")))","v":"4"},"2017-05-19","h",17,"done!","STCメールチェック対応ラスト",20,{"$f":"IF(OR(J555=\"\",K555=\"\"),\"\",(K555-J555)/TIMEVALUE(\"1:00\")*60)","v":10.000000000000124},{"$f":"IF(H555=\"\",\"\",G555-H555)","v":9.9999999999998757},"17:15:00","17:25:00"]
[{"$f":"IF(AND(B556=$B$1,K556=\"\"),\"２\",IF(AND(B556=$B$1,K556<>\"\"),\"１\",IF(B556>$B$1,\"３\",\"4\")))","v":"4"},"2017-05-19","d",19,"done!","夕食、SNSチェック",60,{"$f":"IF(OR(J556=\"\",K556=\"\"),\"\",(K556-J556)/TIMEVALUE(\"1:00\")*60)","v":59.999999999999943},{"$f":"IF(H556=\"\",\"\",G556-H556)","v":5.6843418860808015E-14},"20:20:00","21:20:00"]
[{"$f":"IF(AND(B557=$B$1,K557=\"\"),\"２\",IF(AND(B557=$B$1,K557<>\"\"),\"１\",IF(B557>$B$1,\"３\",\"4\")))","v":"4"},"2017-05-19","h",21,"done!","ブログ更新",90,{"$f":"IF(OR(J557=\"\",K557=\"\"),\"\",(K557-J557)/TIMEVALUE(\"1:00\")*60)","v":100.00000000000013},{"$f":"IF(H557=\"\",\"\",G557-H557)","v":-10.000000000000128},"21:20:00","23:00:00"]
[{"$f":"IF(AND(B558=$B$1,K558=\"\"),\"２\",IF(AND(B558=$B$1,K558<>\"\"),\"１\",IF(B558>$B$1,\"３\",\"4\")))","v":"4"},"2017-05-19","h",19,null,"gmail、yahooメールチェック（夜）",10,{"$f":"IF(OR(J558=\"\",K558=\"\"),\"\",(K558-J558)/TIMEVALUE(\"1:00\")*60)","v":""},{"$f":"IF(H558=\"\",\"\",G558-H558)","v":""}]
[{"$f":"IF(AND(B559=$B$1,K559=\"\"),\"２\",IF(AND(B559=$B$1,K559<>\"\"),\"１\",IF(B559>$B$1,\"３\",\"4\")))","v":"4"},"2017-05-20","d",6,"done!","朝食、SNSチェック",60,{"$f":"IF(OR(J559=\"\",K559=\"\"),\"\",(K559-J559)/TIMEVALUE(\"1:00\")*60)","v":119.99999999999997},{"$f":"IF(H559=\"\",\"\",G559-H559)","v":-59.999999999999972},"07:00:00","09:00:00"]
[{"$f":"IF(AND(B560=$B$1,K560=\"\"),\"２\",IF(AND(B560=$B$1,K560<>\"\"),\"１\",IF(B560>$B$1,\"３\",\"4\")))","v":"4"},"2017-05-20",null,13,"done!","有酸素、トレーニング",60,{"$f":"IF(OR(J560=\"\",K560=\"\"),\"\",(K560-J560)/TIMEVALUE(\"1:00\")*60)","v":74.999999999999972},{"$f":"IF(H560=\"\",\"\",G560-H560)","v":-14.999999999999972},"11:00:00","12:15:00"]
[{"$f":"IF(AND(B561=$B$1,K561=\"\"),\"２\",IF(AND(B561=$B$1,K561<>\"\"),\"１\",IF(B561>$B$1,\"３\",\"4\")))","v":"4"},"2017-05-22","d",6,"done!","朝食、SNSチェック",60,{"$f":"IF(OR(J561=\"\",K561=\"\"),\"\",(K561-J561)/TIMEVALUE(\"1:00\")*60)","v":34.999999999999957},{"$f":"IF(H561=\"\",\"\",G561-H561)","v":25.000000000000043},"06:10:00","06:45:00"]
[{"$f":"IF(AND(B562=$B$1,K562=\"\"),\"２\",IF(AND(B562=$B$1,K562<>\"\"),\"１\",IF(B562>$B$1,\"３\",\"4\")))","v":"4"},"2017-05-22",null,7,"done!","STCへ移動",90,{"$f":"IF(OR(J562=\"\",K562=\"\"),\"\",(K562-J562)/TIMEVALUE(\"1:00\")*60)","v":84.999999999999943},{"$f":"IF(H562=\"\",\"\",G562-H562)","v":5.0000000000000568},"06:45:00","08:10:00"]
[{"$f":"IF(AND(B563=$B$1,K563=\"\"),\"２\",IF(AND(B563=$B$1,K563<>\"\"),\"１\",IF(B563>$B$1,\"３\",\"4\")))","v":"4"},"2017-05-22","d",7,"done!","タスク作成",15,{"$f":"IF(OR(J563=\"\",K563=\"\"),\"\",(K563-J563)/TIMEVALUE(\"1:00\")*60)","v":15.000000000000027},{"$f":"IF(H563=\"\",\"\",G563-H563)","v":-2.6645352591003757E-14},"08:10:00","08:25:00"]
[{"$f":"IF(AND(B564=$B$1,K564=\"\"),\"２\",IF(AND(B564=$B$1,K564<>\"\"),\"１\",IF(B564>$B$1,\"３\",\"4\")))","v":"4"},"2017-05-22",null,8,"done!","テクノスにメール（納付書渡し日）",5,{"$f":"IF(OR(J564=\"\",K564=\"\"),\"\",(K564-J564)/TIMEVALUE(\"1:00\")*60)","v":3.9999999999999858},{"$f":"IF(H564=\"\",\"\",G564-H564)","v":1.0000000000000142},"08:25:00","08:29:00"]
[{"$f":"IF(AND(B565=$B$1,K565=\"\"),\"２\",IF(AND(B565=$B$1,K565<>\"\"),\"１\",IF(B565>$B$1,\"３\",\"4\")))","v":"4"},"2017-05-22","h",9,"done!","gmail、yahooメールチェック（朝）",10,{"$f":"IF(OR(J565=\"\",K565=\"\"),\"\",(K565-J565)/TIMEVALUE(\"1:00\")*60)","v":16.000000000000021},{"$f":"IF(H565=\"\",\"\",G565-H565)","v":-6.0000000000000213},"08:29:00","08:45:00"]
[{"$f":"IF(AND(B566=$B$1,K566=\"\"),\"２\",IF(AND(B566=$B$1,K566<>\"\"),\"１\",IF(B566>$B$1,\"３\",\"4\")))","v":"4"},"2017-05-22",null,9,"done!","STC消費税申告書作成",120,{"$f":"IF(OR(J566=\"\",K566=\"\"),\"\",(K566-J566)/TIMEVALUE(\"1:00\")*60)","v":69.000000000000071},{"$f":"IF(H566=\"\",\"\",G566-H566)","v":50.999999999999929},"08:45:00","09:54:00"]
[{"$f":"IF(AND(B567=$B$1,K567=\"\"),\"２\",IF(AND(B567=$B$1,K567<>\"\"),\"１\",IF(B567>$B$1,\"３\",\"4\")))","v":"4"},"2017-05-22",null,13,"done!","STC中間納付分の伝票起票",60,{"$f":"IF(OR(J567=\"\",K567=\"\"),\"\",(K567-J567)/TIMEVALUE(\"1:00\")*60)","v":67},{"$f":"IF(H567=\"\",\"\",G567-H567)","v":-7},"09:54:00","11:01:00"]
[{"$f":"IF(AND(B568=$B$1,K568=\"\"),\"２\",IF(AND(B568=$B$1,K568<>\"\"),\"１\",IF(B568>$B$1,\"３\",\"4\")))","v":"4"},"2017-05-22",null,11,"done!","ルフト決算チェックリスト作成",90,{"$f":"IF(OR(J568=\"\",K568=\"\"),\"\",(K568-J568)/TIMEVALUE(\"1:00\")*60)","v":28.999999999999979},{"$f":"IF(H568=\"\",\"\",G568-H568)","v":61.000000000000021},"11:01:00","11:30:00"]
[{"$f":"IF(AND(B569=$B$1,K569=\"\"),\"２\",IF(AND(B569=$B$1,K569<>\"\"),\"１\",IF(B569>$B$1,\"３\",\"4\")))","v":"4"},"2017-05-22","h",11,"done!","gmail、yahooメールチェック（午前）",10,{"$f":"IF(OR(J569=\"\",K569=\"\"),\"\",(K569-J569)/TIMEVALUE(\"1:00\")*60)","v":2.9999999999999893},{"$f":"IF(H569=\"\",\"\",G569-H569)","v":7.0000000000000107},"11:30:00","11:33:00"]
[{"$f":"IF(AND(B570=$B$1,K570=\"\"),\"２\",IF(AND(B570=$B$1,K570<>\"\"),\"１\",IF(B570>$B$1,\"３\",\"4\")))","v":"4"},"2017-05-22","d",12,"done!","ランチ、SNSチェック",60,{"$f":"IF(OR(J570=\"\",K570=\"\"),\"\",(K570-J570)/TIMEVALUE(\"1:00\")*60)","v":59.999999999999943},{"$f":"IF(H570=\"\",\"\",G570-H570)","v":5.6843418860808015E-14},"12:00:00","13:00:00"]
[{"$f":"IF(AND(B571=$B$1,K571=\"\"),\"２\",IF(AND(B571=$B$1,K571<>\"\"),\"１\",IF(B571>$B$1,\"３\",\"4\")))","v":"4"},"2017-05-22","h",14,"done!","gmail、yahooメールチェック（午後）",10,{"$f":"IF(OR(J571=\"\",K571=\"\"),\"\",(K571-J571)/TIMEVALUE(\"1:00\")*60)","v":3.0000000000001492},{"$f":"IF(H571=\"\",\"\",G571-H571)","v":6.9999999999998508},"13:45:00","13:48:00"]
[{"$f":"IF(AND(B572=$B$1,K572=\"\"),\"２\",IF(AND(B572=$B$1,K572<>\"\"),\"１\",IF(B572>$B$1,\"３\",\"4\")))","v":"4"},"2017-05-22",null,14,"done!","ソート納付書作成",90,{"$f":"IF(OR(J572=\"\",K572=\"\"),\"\",(K572-J572)/TIMEVALUE(\"1:00\")*60)","v":11.999999999999957},{"$f":"IF(H572=\"\",\"\",G572-H572)","v":78.000000000000043},"13:48:00","14:00:00"]
[{"$f":"IF(AND(B573=$B$1,K573=\"\"),\"２\",IF(AND(B573=$B$1,K573<>\"\"),\"１\",IF(B573>$B$1,\"３\",\"4\")))","v":"4"},"2017-05-22",null,19,"done!","北澤家会食、会食から帰宅",240,{"$f":"IF(OR(J573=\"\",K573=\"\"),\"\",(K573-J573)/TIMEVALUE(\"1:00\")*60)","v":360},{"$f":"IF(H573=\"\",\"\",G573-H573)","v":-120},"18:00:00",1]
[{"$f":"IF(AND(B574=$B$1,K574=\"\"),\"２\",IF(AND(B574=$B$1,K574<>\"\"),\"１\",IF(B574>$B$1,\"３\",\"4\")))","v":"4"},"2017-05-22","h",21,"done!","ブログ更新",90,{"$f":"IF(OR(J574=\"\",K574=\"\"),\"\",(K574-J574)/TIMEVALUE(\"1:00\")*60)","v":180},{"$f":"IF(H574=\"\",\"\",G574-H574)","v":-90},1,1.125]
[{"$f":"IF(AND(B575=$B$1,K575=\"\"),\"２\",IF(AND(B575=$B$1,K575<>\"\"),\"１\",IF(B575>$B$1,\"３\",\"4\")))","v":"4"},"2017-05-23","d",6,"done!","朝食、SNSチェック",60,{"$f":"IF(OR(J575=\"\",K575=\"\"),\"\",(K575-J575)/TIMEVALUE(\"1:00\")*60)","v":58.99999999999995},{"$f":"IF(H575=\"\",\"\",G575-H575)","v":1.0000000000000497},"07:15:00","08:14:00"]
[{"$f":"IF(AND(B576=$B$1,K576=\"\"),\"２\",IF(AND(B576=$B$1,K576<>\"\"),\"１\",IF(B576>$B$1,\"３\",\"4\")))","v":"4"},"2017-05-23","d",7,"done!","タスク作成",15,{"$f":"IF(OR(J576=\"\",K576=\"\"),\"\",(K576-J576)/TIMEVALUE(\"1:00\")*60)","v":11.000000000000041},{"$f":"IF(H576=\"\",\"\",G576-H576)","v":3.9999999999999591},"08:14:00","08:25:00"]
[{"$f":"IF(AND(B577=$B$1,K577=\"\"),\"２\",IF(AND(B577=$B$1,K577<>\"\"),\"１\",IF(B577>$B$1,\"３\",\"4\")))","v":"4"},"2017-05-23","d",6,"done!","経理処理、交通費記録",15,{"$f":"IF(OR(J577=\"\",K577=\"\"),\"\",(K577-J577)/TIMEVALUE(\"1:00\")*60)","v":7.0000000000000551},{"$f":"IF(H577=\"\",\"\",G577-H577)","v":7.9999999999999449},"08:25:00","08:32:00"]
[{"$f":"IF(AND(B578=$B$1,K578=\"\"),\"２\",IF(AND(B578=$B$1,K578<>\"\"),\"１\",IF(B578>$B$1,\"３\",\"4\")))","v":"4"},"2017-05-23","h",9,"done!","gmail、yahooメールチェック（朝）",10,{"$f":"IF(OR(J578=\"\",K578=\"\"),\"\",(K578-J578)/TIMEVALUE(\"1:00\")*60)","v":4.9999999999999023},{"$f":"IF(H578=\"\",\"\",G578-H578)","v":5.0000000000000977},"08:50:00","08:55:00"]
[{"$f":"IF(AND(B579=$B$1,K579=\"\"),\"２\",IF(AND(B579=$B$1,K579<>\"\"),\"１\",IF(B579>$B$1,\"３\",\"4\")))","v":"4"},"2017-05-23","h",10,"done!","STCメールチェック対応午前",20,{"$f":"IF(OR(J579=\"\",K579=\"\"),\"\",(K579-J579)/TIMEVALUE(\"1:00\")*60)","v":15.000000000000027},{"$f":"IF(H579=\"\",\"\",G579-H579)","v":4.9999999999999734},"09:30:00","09:45:00"]
[{"$f":"IF(AND(B580=$B$1,K580=\"\"),\"２\",IF(AND(B580=$B$1,K580<>\"\"),\"１\",IF(B580>$B$1,\"３\",\"4\")))","v":"4"},"2017-05-23",null,9,"done!","ルフト移動",60,{"$f":"IF(OR(J580=\"\",K580=\"\"),\"\",(K580-J580)/TIMEVALUE(\"1:00\")*60)","v":60.000000000000028},{"$f":"IF(H580=\"\",\"\",G580-H580)","v":-2.8421709430404007E-14},"08:55:00","09:55:00"]
[{"$f":"IF(AND(B581=$B$1,K581=\"\"),\"２\",IF(AND(B581=$B$1,K581<>\"\"),\"１\",IF(B581>$B$1,\"３\",\"4\")))","v":"4"},"2017-05-23",null,10,"done!","ルフト決算事前打ち合わせ",120,{"$f":"IF(OR(J581=\"\",K581=\"\"),\"\",(K581-J581)/TIMEVALUE(\"1:00\")*60)","v":139.99999999999997},{"$f":"IF(H581=\"\",\"\",G581-H581)","v":-19.999999999999972},"09:55:00","12:15:00"]
[{"$f":"IF(AND(B582=$B$1,K582=\"\"),\"２\",IF(AND(B582=$B$1,K582<>\"\"),\"１\",IF(B582>$B$1,\"３\",\"4\")))","v":"4"},"2017-05-23",null,12,"done!","ルフトから帰宅",60,{"$f":"IF(OR(J582=\"\",K582=\"\"),\"\",(K582-J582)/TIMEVALUE(\"1:00\")*60)","v":45},{"$f":"IF(H582=\"\",\"\",G582-H582)","v":15},"12:15:00","13:00:00"]
[{"$f":"IF(AND(B583=$B$1,K583=\"\"),\"２\",IF(AND(B583=$B$1,K583<>\"\"),\"１\",IF(B583>$B$1,\"３\",\"4\")))","v":"4"},"2017-05-23",null,13,"done!","テクノス納付書渡し",60,{"$f":"IF(OR(J583=\"\",K583=\"\"),\"\",(K583-J583)/TIMEVALUE(\"1:00\")*60)","v":50.000000000000142},{"$f":"IF(H583=\"\",\"\",G583-H583)","v":9.9999999999998579},"13:00:00","13:50:00"]
[{"$f":"IF(AND(B584=$B$1,K584=\"\"),\"２\",IF(AND(B584=$B$1,K584<>\"\"),\"１\",IF(B584>$B$1,\"３\",\"4\")))","v":"4"},"2017-05-23","d",12,"done!","ランチ、SNSチェック",60,{"$f":"IF(OR(J584=\"\",K584=\"\"),\"\",(K584-J584)/TIMEVALUE(\"1:00\")*60)","v":32.999999999999886},{"$f":"IF(H584=\"\",\"\",G584-H584)","v":27.000000000000114},"13:50:00","14:23:00"]
[{"$f":"IF(AND(B585=$B$1,K585=\"\"),\"２\",IF(AND(B585=$B$1,K585<>\"\"),\"１\",IF(B585>$B$1,\"３\",\"4\")))","v":"4"},"2017-05-23","h",14,"done!","gmail、yahooメールチェック（午後）",10,{"$f":"IF(OR(J585=\"\",K585=\"\"),\"\",(K585-J585)/TIMEVALUE(\"1:00\")*60)","v":27.000000000000064},{"$f":"IF(H585=\"\",\"\",G585-H585)","v":-17.000000000000064},"14:23:00","14:50:00"]
[{"$f":"IF(AND(B586=$B$1,K586=\"\"),\"２\",IF(AND(B586=$B$1,K586<>\"\"),\"１\",IF(B586>$B$1,\"３\",\"4\")))","v":"4"},"2017-05-23","h",14,"done!","STCメールチェック対応午後",20,{"$f":"IF(OR(J586=\"\",K586=\"\"),\"\",(K586-J586)/TIMEVALUE(\"1:00\")*60)","v":4.9999999999999822},{"$f":"IF(H586=\"\",\"\",G586-H586)","v":15.000000000000018},"14:50:00","14:55:00"]
[{"$f":"IF(AND(B587=$B$1,K587=\"\"),\"２\",IF(AND(B587=$B$1,K587<>\"\"),\"１\",IF(B587>$B$1,\"３\",\"4\")))","v":"4"},"2017-05-23","h",17,"done!","STCメールチェック対応ラスト",20,{"$f":"IF(OR(J587=\"\",K587=\"\"),\"\",(K587-J587)/TIMEVALUE(\"1:00\")*60)","v":19.000000000000092},{"$f":"IF(H587=\"\",\"\",G587-H587)","v":0.99999999999990763},"17:10:00","17:29:00"]
[{"$f":"IF(AND(B588=$B$1,K588=\"\"),\"２\",IF(AND(B588=$B$1,K588<>\"\"),\"１\",IF(B588>$B$1,\"３\",\"4\")))","v":"4"},"2017-05-23","d",19,"done!","夕食、SNSチェック",60,{"$f":"IF(OR(J588=\"\",K588=\"\"),\"\",(K588-J588)/TIMEVALUE(\"1:00\")*60)","v":64.999999999999929},{"$f":"IF(H588=\"\",\"\",G588-H588)","v":-4.9999999999999289},"19:30:00","20:35:00"]
[{"$f":"IF(AND(B589=$B$1,K589=\"\"),\"２\",IF(AND(B589=$B$1,K589<>\"\"),\"１\",IF(B589>$B$1,\"３\",\"4\")))","v":"4"},"2017-05-23","h",21,"done!","ブログ更新",90,{"$f":"IF(OR(J589=\"\",K589=\"\"),\"\",(K589-J589)/TIMEVALUE(\"1:00\")*60)","v":145.00000000000011},{"$f":"IF(H589=\"\",\"\",G589-H589)","v":-55.000000000000114},"20:35:00","23:00:00"]
[{"$f":"IF(AND(B590=$B$1,K590=\"\"),\"２\",IF(AND(B590=$B$1,K590<>\"\"),\"１\",IF(B590>$B$1,\"３\",\"4\")))","v":"4"},"2017-05-24","d",6,"done!","朝食、SNSチェック",60,{"$f":"IF(OR(J590=\"\",K590=\"\"),\"\",(K590-J590)/TIMEVALUE(\"1:00\")*60)","v":36.000000000000028},{"$f":"IF(H590=\"\",\"\",G590-H590)","v":23.999999999999972},"08:00:00","08:36:00"]
[{"$f":"IF(AND(B591=$B$1,K591=\"\"),\"２\",IF(AND(B591=$B$1,K591<>\"\"),\"１\",IF(B591>$B$1,\"３\",\"4\")))","v":"4"},"2017-05-24","d",7,"done!","タスク作成",15,{"$f":"IF(OR(J591=\"\",K591=\"\"),\"\",(K591-J591)/TIMEVALUE(\"1:00\")*60)","v":4.9999999999999822},{"$f":"IF(H591=\"\",\"\",G591-H591)","v":10.000000000000018},"08:36:00","08:41:00"]
[{"$f":"IF(AND(B592=$B$1,K592=\"\"),\"２\",IF(AND(B592=$B$1,K592<>\"\"),\"１\",IF(B592>$B$1,\"３\",\"4\")))","v":"4"},"2017-05-24","d",6,"done!","経理処理、交通費記録",15,{"$f":"IF(OR(J592=\"\",K592=\"\"),\"\",(K592-J592)/TIMEVALUE(\"1:00\")*60)","v":1.9999999999999929},{"$f":"IF(H592=\"\",\"\",G592-H592)","v":13.000000000000007},"08:41:00","08:43:00"]
[{"$f":"IF(AND(B593=$B$1,K593=\"\"),\"２\",IF(AND(B593=$B$1,K593<>\"\"),\"１\",IF(B593>$B$1,\"３\",\"4\")))","v":"4"},"2017-05-24",null,7,"done!","小用さんメール",2,{"$f":"IF(OR(J593=\"\",K593=\"\"),\"\",(K593-J593)/TIMEVALUE(\"1:00\")*60)","v":3.9999999999999858},{"$f":"IF(H593=\"\",\"\",G593-H593)","v":-1.9999999999999858},"08:43:00","08:47:00"]
[{"$f":"IF(AND(B594=$B$1,K594=\"\"),\"２\",IF(AND(B594=$B$1,K594<>\"\"),\"１\",IF(B594>$B$1,\"３\",\"4\")))","v":"4"},"2017-05-24","h",9,"done!","gmail、yahooメールチェック（朝）",10,{"$f":"IF(OR(J594=\"\",K594=\"\"),\"\",(K594-J594)/TIMEVALUE(\"1:00\")*60)","v":11.000000000000041},{"$f":"IF(H594=\"\",\"\",G594-H594)","v":-1.0000000000000409},"08:47:00","08:58:00"]
[{"$f":"IF(AND(B595=$B$1,K595=\"\"),\"２\",IF(AND(B595=$B$1,K595<>\"\"),\"１\",IF(B595>$B$1,\"３\",\"4\")))","v":"4"},"2017-05-24",null,9,"done!","ソート勘定内訳書作成",60,{"$f":"IF(OR(J595=\"\",K595=\"\"),\"\",(K595-J595)/TIMEVALUE(\"1:00\")*60)","v":56.999999999999957},{"$f":"IF(H595=\"\",\"\",G595-H595)","v":3.0000000000000426},"08:58:00","09:55:00"]
[{"$f":"IF(AND(B596=$B$1,K596=\"\"),\"２\",IF(AND(B596=$B$1,K596<>\"\"),\"１\",IF(B596>$B$1,\"３\",\"4\")))","v":"4"},"2017-05-24","h",10,"done!","STCメールチェック対応午前",20,{"$f":"IF(OR(J596=\"\",K596=\"\"),\"\",(K596-J596)/TIMEVALUE(\"1:00\")*60)","v":14.00000000000003},{"$f":"IF(H596=\"\",\"\",G596-H596)","v":5.9999999999999698},"09:55:00","10:09:00"]
[{"$f":"IF(AND(B597=$B$1,K597=\"\"),\"２\",IF(AND(B597=$B$1,K597<>\"\"),\"１\",IF(B597>$B$1,\"３\",\"4\")))","v":"4"},"2017-05-24","h",11,"done!","gmail、yahooメールチェック（午前）",10,{"$f":"IF(OR(J597=\"\",K597=\"\"),\"\",(K597-J597)/TIMEVALUE(\"1:00\")*60)","v":5.0000000000000622},{"$f":"IF(H597=\"\",\"\",G597-H597)","v":4.9999999999999378},"11:00:00","11:05:00"]
[{"$f":"IF(AND(B598=$B$1,K598=\"\"),\"２\",IF(AND(B598=$B$1,K598<>\"\"),\"１\",IF(B598>$B$1,\"３\",\"4\")))","v":"4"},"2017-05-24",null,10,"done!","ソート申告書作成",60,{"$f":"IF(OR(J598=\"\",K598=\"\"),\"\",(K598-J598)/TIMEVALUE(\"1:00\")*60)","v":170.99999999999994},{"$f":"IF(H598=\"\",\"\",G598-H598)","v":-110.99999999999994},"10:09:00","13:00:00"]
[{"$f":"IF(AND(B599=$B$1,K599=\"\"),\"２\",IF(AND(B599=$B$1,K599<>\"\"),\"１\",IF(B599>$B$1,\"３\",\"4\")))","v":"4"},"2017-05-24","d",12,"done!","ランチ、SNSチェック",60,{"$f":"IF(OR(J599=\"\",K599=\"\"),\"\",(K599-J599)/TIMEVALUE(\"1:00\")*60)","v":30.000000000000053},{"$f":"IF(H599=\"\",\"\",G599-H599)","v":29.999999999999947},"13:00:00","13:30:00"]
[{"$f":"IF(AND(B600=$B$1,K600=\"\"),\"２\",IF(AND(B600=$B$1,K600<>\"\"),\"１\",IF(B600>$B$1,\"３\",\"4\")))","v":"4"},"2017-05-24",null,17,"done!","橋本税理士の事務所見学",180,{"$f":"IF(OR(J600=\"\",K600=\"\"),\"\",(K600-J600)/TIMEVALUE(\"1:00\")*60)","v":419.99999999999994},{"$f":"IF(H600=\"\",\"\",G600-H600)","v":-239.99999999999994},"16:50:00","23:50:00"]
[{"$f":"IF(AND(B601=$B$1,K601=\"\"),\"２\",IF(AND(B601=$B$1,K601<>\"\"),\"１\",IF(B601>$B$1,\"３\",\"4\")))","v":"4"},"2017-05-25",null,6,"done!","前日のブログ",90,{"$f":"IF(OR(J601=\"\",K601=\"\"),\"\",(K601-J601)/TIMEVALUE(\"1:00\")*60)","v":69.999999999999915},{"$f":"IF(H601=\"\",\"\",G601-H601)","v":20.000000000000085},"06:10:00","07:20:00"]
[{"$f":"IF(AND(B602=$B$1,K602=\"\"),\"２\",IF(AND(B602=$B$1,K602<>\"\"),\"１\",IF(B602>$B$1,\"３\",\"4\")))","v":"4"},"2017-05-25","d",6,"done!","朝食、SNSチェック",60,{"$f":"IF(OR(J602=\"\",K602=\"\"),\"\",(K602-J602)/TIMEVALUE(\"1:00\")*60)","v":35.000000000000036},{"$f":"IF(H602=\"\",\"\",G602-H602)","v":24.999999999999964},"07:20:00","07:55:00"]
[{"$f":"IF(AND(B603=$B$1,K603=\"\"),\"２\",IF(AND(B603=$B$1,K603<>\"\"),\"１\",IF(B603>$B$1,\"３\",\"4\")))","v":"4"},"2017-05-25",null,6,"done!","STCへ移動",90,{"$f":"IF(OR(J603=\"\",K603=\"\"),\"\",(K603-J603)/TIMEVALUE(\"1:00\")*60)","v":100.00000000000004},{"$f":"IF(H603=\"\",\"\",G603-H603)","v":-10.000000000000043},"07:55:00","09:35:00"]
[{"$f":"IF(AND(B604=$B$1,K604=\"\"),\"２\",IF(AND(B604=$B$1,K604<>\"\"),\"１\",IF(B604>$B$1,\"３\",\"4\")))","v":"4"},"2017-05-25","d",7,"done!","タスク作成",15,{"$f":"IF(OR(J604=\"\",K604=\"\"),\"\",(K604-J604)/TIMEVALUE(\"1:00\")*60)","v":15.999999999999943},{"$f":"IF(H604=\"\",\"\",G604-H604)","v":-0.99999999999994316},"09:35:00","09:51:00"]
[{"$f":"IF(AND(B605=$B$1,K605=\"\"),\"２\",IF(AND(B605=$B$1,K605<>\"\"),\"１\",IF(B605>$B$1,\"３\",\"4\")))","v":"4"},"2017-05-25","d",6,"done!","経理処理、交通費記録",15,{"$f":"IF(OR(J605=\"\",K605=\"\"),\"\",(K605-J605)/TIMEVALUE(\"1:00\")*60)","v":1.9999999999999929},{"$f":"IF(H605=\"\",\"\",G605-H605)","v":13.000000000000007},"09:51:00","09:53:00"]
[{"$f":"IF(AND(B606=$B$1,K606=\"\"),\"２\",IF(AND(B606=$B$1,K606<>\"\"),\"１\",IF(B606>$B$1,\"３\",\"4\")))","v":"4"},"2017-05-25",null,11,"done!","産業資材越替さん打ち合わせ",15,{"$f":"IF(OR(J606=\"\",K606=\"\"),\"\",(K606-J606)/TIMEVALUE(\"1:00\")*60)","v":9.9999999999999645},{"$f":"IF(H606=\"\",\"\",G606-H606)","v":5.0000000000000355},"10:00:00","10:10:00"]
[{"$f":"IF(AND(B607=$B$1,K607=\"\"),\"２\",IF(AND(B607=$B$1,K607<>\"\"),\"１\",IF(B607>$B$1,\"３\",\"4\")))","v":"4"},"2017-05-25",null,9,"done!","橋本さんお礼メール",5,{"$f":"IF(OR(J607=\"\",K607=\"\"),\"\",(K607-J607)/TIMEVALUE(\"1:00\")*60)","v":38.000000000000028},{"$f":"IF(H607=\"\",\"\",G607-H607)","v":-33.000000000000028},"10:10:00","10:48:00"]
[{"$f":"IF(AND(B608=$B$1,K608=\"\"),\"２\",IF(AND(B608=$B$1,K608<>\"\"),\"１\",IF(B608>$B$1,\"３\",\"4\")))","v":"4"},"2017-05-25",null,9,"done!","回覧物確認",30,{"$f":"IF(OR(J608=\"\",K608=\"\"),\"\",(K608-J608)/TIMEVALUE(\"1:00\")*60)","v":11.999999999999957},{"$f":"IF(H608=\"\",\"\",G608-H608)","v":18.000000000000043},"10:48:00","11:00:00"]
[{"$f":"IF(AND(B609=$B$1,K609=\"\"),\"２\",IF(AND(B609=$B$1,K609<>\"\"),\"１\",IF(B609>$B$1,\"３\",\"4\")))","v":"4"},"2017-05-25",null,11,"done!","産業資材田中さん打ち合わせ",30,{"$f":"IF(OR(J609=\"\",K609=\"\"),\"\",(K609-J609)/TIMEVALUE(\"1:00\")*60)","v":30.000000000000053},{"$f":"IF(H609=\"\",\"\",G609-H609)","v":-5.3290705182007514E-14},"11:00:00","11:30:00"]
[{"$f":"IF(AND(B610=$B$1,K610=\"\"),\"２\",IF(AND(B610=$B$1,K610<>\"\"),\"１\",IF(B610>$B$1,\"３\",\"4\")))","v":"4"},"2017-05-25","h",9,"done!","gmail、yahooメールチェック（朝）",10,{"$f":"IF(OR(J610=\"\",K610=\"\"),\"\",(K610-J610)/TIMEVALUE(\"1:00\")*60)","v":4.9999999999999822},{"$f":"IF(H610=\"\",\"\",G610-H610)","v":5.0000000000000178},"11:30:00","11:35:00"]
[{"$f":"IF(AND(B611=$B$1,K611=\"\"),\"２\",IF(AND(B611=$B$1,K611<>\"\"),\"１\",IF(B611>$B$1,\"３\",\"4\")))","v":"4"},"2017-05-25","d",12,"done!","ランチ、SNSチェック",60,{"$f":"IF(OR(J611=\"\",K611=\"\"),\"\",(K611-J611)/TIMEVALUE(\"1:00\")*60)","v":30.000000000000053},{"$f":"IF(H611=\"\",\"\",G611-H611)","v":29.999999999999947},"12:00:00","12:30:00"]
[{"$f":"IF(AND(B612=$B$1,K612=\"\"),\"２\",IF(AND(B612=$B$1,K612<>\"\"),\"１\",IF(B612>$B$1,\"３\",\"4\")))","v":"4"},"2017-05-25",null,10,"done!","ソート内訳書作成",120,{"$f":"IF(OR(J612=\"\",K612=\"\"),\"\",(K612-J612)/TIMEVALUE(\"1:00\")*60)","v":90},{"$f":"IF(H612=\"\",\"\",G612-H612)","v":30},"12:30:00","14:00:00"]
[{"$f":"IF(AND(B613=$B$1,K613=\"\"),\"２\",IF(AND(B613=$B$1,K613<>\"\"),\"１\",IF(B613>$B$1,\"３\",\"4\")))","v":"4"},"2017-05-25","h",14,"done!","STCメールチェック対応午後",20,{"$f":"IF(OR(J613=\"\",K613=\"\"),\"\",(K613-J613)/TIMEVALUE(\"1:00\")*60)","v":9.9999999999999645},{"$f":"IF(H613=\"\",\"\",G613-H613)","v":10.000000000000036},"14:00:00","14:10:00"]
[{"$f":"IF(AND(B614=$B$1,K614=\"\"),\"２\",IF(AND(B614=$B$1,K614<>\"\"),\"１\",IF(B614>$B$1,\"３\",\"4\")))","v":"4"},"2017-05-25",null,19,"done!","小用さん会食",180,{"$f":"IF(OR(J614=\"\",K614=\"\"),\"\",(K614-J614)/TIMEVALUE(\"1:00\")*60)","v":194.99999999999994},{"$f":"IF(H614=\"\",\"\",G614-H614)","v":-14.999999999999943},"18:45:00","22:00:00"]
[{"$f":"IF(AND(B615=$B$1,K615=\"\"),\"２\",IF(AND(B615=$B$1,K615<>\"\"),\"１\",IF(B615>$B$1,\"３\",\"4\")))","v":"4"},"2017-05-25",null,22,"done!","会食から帰宅",90,{"$f":"IF(OR(J615=\"\",K615=\"\"),\"\",(K615-J615)/TIMEVALUE(\"1:00\")*60)","v":70.000000000000071},{"$f":"IF(H615=\"\",\"\",G615-H615)","v":19.999999999999929},"22:00:00","23:10:00"]
[{"$f":"IF(AND(B616=$B$1,K616=\"\"),\"２\",IF(AND(B616=$B$1,K616<>\"\"),\"１\",IF(B616>$B$1,\"３\",\"4\")))","v":"4"},"2017-05-25","h",21,"done!","ブログ更新",90,{"$f":"IF(OR(J616=\"\",K616=\"\"),\"\",(K616-J616)/TIMEVALUE(\"1:00\")*60)","v":139.99999999999997},{"$f":"IF(H616=\"\",\"\",G616-H616)","v":-49.999999999999972},"23:10:00",1.0625]
[{"$f":"IF(AND(B617=$B$1,K617=\"\"),\"２\",IF(AND(B617=$B$1,K617<>\"\"),\"１\",IF(B617>$B$1,\"３\",\"4\")))","v":"4"},"2017-05-26","d",6,"done!","朝食、SNSチェック",60,{"$f":"IF(OR(J617=\"\",K617=\"\"),\"\",(K617-J617)/TIMEVALUE(\"1:00\")*60)","v":35.000000000000036},{"$f":"IF(H617=\"\",\"\",G617-H617)","v":24.999999999999964},"07:15:00","07:50:00"]
[{"$f":"IF(AND(B618=$B$1,K618=\"\"),\"２\",IF(AND(B618=$B$1,K618<>\"\"),\"１\",IF(B618>$B$1,\"３\",\"4\")))","v":"4"},"2017-05-26",null,8,"done!","紗彩送り",30,{"$f":"IF(OR(J618=\"\",K618=\"\"),\"\",(K618-J618)/TIMEVALUE(\"1:00\")*60)","v":34.999999999999957},{"$f":"IF(H618=\"\",\"\",G618-H618)","v":-4.9999999999999574},"07:50:00","08:25:00"]
[{"$f":"IF(AND(B619=$B$1,K619=\"\"),\"２\",IF(AND(B619=$B$1,K619<>\"\"),\"１\",IF(B619>$B$1,\"３\",\"4\")))","v":"4"},"2017-05-26",null,8,"done!","尚子送り",20,{"$f":"IF(OR(J619=\"\",K619=\"\"),\"\",(K619-J619)/TIMEVALUE(\"1:00\")*60)","v":21.000000000000007},{"$f":"IF(H619=\"\",\"\",G619-H619)","v":-1.0000000000000071},"08:45:00","09:06:00"]
[{"$f":"IF(AND(B620=$B$1,K620=\"\"),\"２\",IF(AND(B620=$B$1,K620<>\"\"),\"１\",IF(B620>$B$1,\"３\",\"4\")))","v":"4"},"2017-05-26","d",7,"done!","タスク作成",15,{"$f":"IF(OR(J620=\"\",K620=\"\"),\"\",(K620-J620)/TIMEVALUE(\"1:00\")*60)","v":5.0000000000000622},{"$f":"IF(H620=\"\",\"\",G620-H620)","v":9.9999999999999378},"09:06:00","09:11:00"]
[{"$f":"IF(AND(B621=$B$1,K621=\"\"),\"２\",IF(AND(B621=$B$1,K621<>\"\"),\"１\",IF(B621>$B$1,\"３\",\"4\")))","v":"4"},"2017-05-26","d",6,"done!","経理処理、交通費記録",15,{"$f":"IF(OR(J621=\"\",K621=\"\"),\"\",(K621-J621)/TIMEVALUE(\"1:00\")*60)","v":3.9999999999999858},{"$f":"IF(H621=\"\",\"\",G621-H621)","v":11.000000000000014},"09:11:00","09:15:00"]
[{"$f":"IF(AND(B622=$B$1,K622=\"\"),\"２\",IF(AND(B622=$B$1,K622<>\"\"),\"１\",IF(B622>$B$1,\"３\",\"4\")))","v":"4"},"2017-05-26","h",9,"done!","gmail、yahooメールチェック（朝）",10,{"$f":"IF(OR(J622=\"\",K622=\"\"),\"\",(K622-J622)/TIMEVALUE(\"1:00\")*60)","v":35.000000000000036},{"$f":"IF(H622=\"\",\"\",G622-H622)","v":-25.000000000000036},"09:15:00","09:50:00"]
[{"$f":"IF(AND(B623=$B$1,K623=\"\"),\"２\",IF(AND(B623=$B$1,K623<>\"\"),\"１\",IF(B623>$B$1,\"３\",\"4\")))","v":"4"},"2017-05-26","h",10,"done!","STCメールチェック対応午前",20,{"$f":"IF(OR(J623=\"\",K623=\"\"),\"\",(K623-J623)/TIMEVALUE(\"1:00\")*60)","v":41.000000000000014},{"$f":"IF(H623=\"\",\"\",G623-H623)","v":-21.000000000000014},"09:50:00","10:31:00"]
[{"$f":"IF(AND(B624=$B$1,K624=\"\"),\"２\",IF(AND(B624=$B$1,K624<>\"\"),\"１\",IF(B624>$B$1,\"３\",\"4\")))","v":"4"},"2017-05-26","m",9,"done!","5/25家賃振り込み（STコンサル）",10,{"$f":"IF(OR(J624=\"\",K624=\"\"),\"\",(K624-J624)/TIMEVALUE(\"1:00\")*60)","v":5.9999999999999787},{"$f":"IF(H624=\"\",\"\",G624-H624)","v":4.0000000000000213},"10:31:00","10:37:00"]
[{"$f":"IF(AND(B625=$B$1,K625=\"\"),\"２\",IF(AND(B625=$B$1,K625<>\"\"),\"１\",IF(B625>$B$1,\"３\",\"4\")))","v":"4"},"2017-05-26","d",12,"done!","ランチ、SNSチェック",60,{"$f":"IF(OR(J625=\"\",K625=\"\"),\"\",(K625-J625)/TIMEVALUE(\"1:00\")*60)","v":60.000000000000107},{"$f":"IF(H625=\"\",\"\",G625-H625)","v":-1.0658141036401503E-13},"13:00:00","14:00:00"]
[{"$f":"IF(AND(B626=$B$1,K626=\"\"),\"２\",IF(AND(B626=$B$1,K626<>\"\"),\"１\",IF(B626>$B$1,\"３\",\"4\")))","v":"4"},"2017-05-26",null,13,"done!","テクノス中間申告（e-Tax）",120,{"$f":"IF(OR(J626=\"\",K626=\"\"),\"\",(K626-J626)/TIMEVALUE(\"1:00\")*60)","v":80.000000000000028},{"$f":"IF(H626=\"\",\"\",G626-H626)","v":39.999999999999972},"14:00:00","15:20:00"]
[{"$f":"IF(AND(B627=$B$1,K627=\"\"),\"２\",IF(AND(B627=$B$1,K627<>\"\"),\"１\",IF(B627>$B$1,\"３\",\"4\")))","v":"4"},"2017-05-26",null,13,"done!","トレーニング",60,{"$f":"IF(OR(J627=\"\",K627=\"\"),\"\",(K627-J627)/TIMEVALUE(\"1:00\")*60)","v":80.000000000000028},{"$f":"IF(H627=\"\",\"\",G627-H627)","v":-20.000000000000028},"15:20:00","16:40:00"]
[{"$f":"IF(AND(B628=$B$1,K628=\"\"),\"２\",IF(AND(B628=$B$1,K628<>\"\"),\"１\",IF(B628>$B$1,\"３\",\"4\")))","v":"4"},"2017-05-26","h",17,"done!","STCメールチェック対応ラスト",20,{"$f":"IF(OR(J628=\"\",K628=\"\"),\"\",(K628-J628)/TIMEVALUE(\"1:00\")*60)","v":10.000000000000124},{"$f":"IF(H628=\"\",\"\",G628-H628)","v":9.9999999999998757},"16:50:00","17:00:00"]
[{"$f":"IF(AND(B629=$B$1,K629=\"\"),\"２\",IF(AND(B629=$B$1,K629<>\"\"),\"１\",IF(B629>$B$1,\"３\",\"4\")))","v":"4"},"2017-05-26","d",19,"done!","夕食、SNSチェック",60,{"$f":"IF(OR(J629=\"\",K629=\"\"),\"\",(K629-J629)/TIMEVALUE(\"1:00\")*60)","v":79.999999999999872},{"$f":"IF(H629=\"\",\"\",G629-H629)","v":-19.999999999999872},"20:00:00","21:20:00"]
[{"$f":"IF(AND(B630=$B$1,K630=\"\"),\"２\",IF(AND(B630=$B$1,K630<>\"\"),\"１\",IF(B630>$B$1,\"３\",\"4\")))","v":"4"},"2017-05-26","h",21,"done!","ブログ更新",90,{"$f":"IF(OR(J630=\"\",K630=\"\"),\"\",(K630-J630)/TIMEVALUE(\"1:00\")*60)","v":150.00000000000011},{"$f":"IF(H630=\"\",\"\",G630-H630)","v":-60.000000000000114},"22:30:00",1.0416666666666667]
[{"$f":"IF(AND(B631=$B$1,K631=\"\"),\"２\",IF(AND(B631=$B$1,K631<>\"\"),\"１\",IF(B631>$B$1,\"３\",\"4\")))","v":"4"},"2017-05-29","d",6,"done!","朝食、SNSチェック",60,{"$f":"IF(OR(J631=\"\",K631=\"\"),\"\",(K631-J631)/TIMEVALUE(\"1:00\")*60)","v":65.000000000000014},{"$f":"IF(H631=\"\",\"\",G631-H631)","v":-5.0000000000000142},"06:40:00","07:45:00"]
[{"$f":"IF(AND(B632=$B$1,K632=\"\"),\"２\",IF(AND(B632=$B$1,K632<>\"\"),\"１\",IF(B632>$B$1,\"３\",\"4\")))","v":"4"},"2017-05-29","d",7,"done!","タスク作成",15,{"$f":"IF(OR(J632=\"\",K632=\"\"),\"\",(K632-J632)/TIMEVALUE(\"1:00\")*60)","v":3.9999999999999858},{"$f":"IF(H632=\"\",\"\",G632-H632)","v":11.000000000000014},"07:45:00","07:49:00"]
[{"$f":"IF(AND(B633=$B$1,K633=\"\"),\"２\",IF(AND(B633=$B$1,K633<>\"\"),\"１\",IF(B633>$B$1,\"３\",\"4\")))","v":"4"},"2017-05-29","m",9,"done!","STコンサルから給与振込",15,{"$f":"IF(OR(J633=\"\",K633=\"\"),\"\",(K633-J633)/TIMEVALUE(\"1:00\")*60)","v":42.000000000000014},{"$f":"IF(H633=\"\",\"\",G633-H633)","v":-27.000000000000014},"07:49:00","08:31:00"]
[{"$f":"IF(AND(B634=$B$1,K634=\"\"),\"２\",IF(AND(B634=$B$1,K634<>\"\"),\"１\",IF(B634>$B$1,\"３\",\"4\")))","v":"4"},"2017-05-29",null,8,"done!","三洋テクノス地方税申告",60,{"$f":"IF(OR(J634=\"\",K634=\"\"),\"\",(K634-J634)/TIMEVALUE(\"1:00\")*60)","v":92.999999999999986},{"$f":"IF(H634=\"\",\"\",G634-H634)","v":-32.999999999999986},"08:31:00","10:04:00"]
[{"$f":"IF(AND(B635=$B$1,K635=\"\"),\"２\",IF(AND(B635=$B$1,K635<>\"\"),\"１\",IF(B635>$B$1,\"３\",\"4\")))","v":"4"},"2017-05-29","h",10,"done!","STCメールチェック対応午前",20,{"$f":"IF(OR(J635=\"\",K635=\"\"),\"\",(K635-J635)/TIMEVALUE(\"1:00\")*60)","v":2.9999999999999893},{"$f":"IF(H635=\"\",\"\",G635-H635)","v":17.000000000000011},"10:04:00","10:07:00"]
[{"$f":"IF(AND(B636=$B$1,K636=\"\"),\"２\",IF(AND(B636=$B$1,K636<>\"\"),\"１\",IF(B636>$B$1,\"３\",\"4\")))","v":"4"},"2017-05-29","h",9,"done!","gmail、yahooメールチェック（朝）",10,{"$f":"IF(OR(J636=\"\",K636=\"\"),\"\",(K636-J636)/TIMEVALUE(\"1:00\")*60)","v":19.000000000000014},{"$f":"IF(H636=\"\",\"\",G636-H636)","v":-9.0000000000000142},"10:07:00","10:26:00"]
[{"$f":"IF(AND(B637=$B$1,K637=\"\"),\"２\",IF(AND(B637=$B$1,K637<>\"\"),\"１\",IF(B637>$B$1,\"３\",\"4\")))","v":"4"},"2017-05-29","h",11,"done!","gmail、yahooメールチェック（午前）",10,{"$f":"IF(OR(J637=\"\",K637=\"\"),\"\",(K637-J637)/TIMEVALUE(\"1:00\")*60)","v":3.9999999999999858},{"$f":"IF(H637=\"\",\"\",G637-H637)","v":6.0000000000000142},"10:26:00","10:30:00"]
[{"$f":"IF(AND(B638=$B$1,K638=\"\"),\"２\",IF(AND(B638=$B$1,K638<>\"\"),\"１\",IF(B638>$B$1,\"３\",\"4\")))","v":"4"},"2017-05-29",null,10,"done!","ソート内訳書、申告書最終確認",120,{"$f":"IF(OR(J638=\"\",K638=\"\"),\"\",(K638-J638)/TIMEVALUE(\"1:00\")*60)","v":90},{"$f":"IF(H638=\"\",\"\",G638-H638)","v":30},"10:30:00","12:00:00"]
[{"$f":"IF(AND(B639=$B$1,K639=\"\"),\"２\",IF(AND(B639=$B$1,K639<>\"\"),\"１\",IF(B639>$B$1,\"３\",\"4\")))","v":"4"},"2017-05-29",null,12,"done!","トレーニング",90,{"$f":"IF(OR(J639=\"\",K639=\"\"),\"\",(K639-J639)/TIMEVALUE(\"1:00\")*60)","v":94.999999999999986},{"$f":"IF(H639=\"\",\"\",G639-H639)","v":-4.9999999999999858},"12:05:00","13:40:00"]
[{"$f":"IF(AND(B640=$B$1,K640=\"\"),\"２\",IF(AND(B640=$B$1,K640<>\"\"),\"１\",IF(B640>$B$1,\"３\",\"4\")))","v":"4"},"2017-05-29","d",12,"done!","ランチ、SNSチェック",60,{"$f":"IF(OR(J640=\"\",K640=\"\"),\"\",(K640-J640)/TIMEVALUE(\"1:00\")*60)","v":22.000000000000082},{"$f":"IF(H640=\"\",\"\",G640-H640)","v":37.999999999999915},"13:40:00","14:02:00"]
[{"$f":"IF(AND(B641=$B$1,K641=\"\"),\"２\",IF(AND(B641=$B$1,K641<>\"\"),\"１\",IF(B641>$B$1,\"３\",\"4\")))","v":"4"},"2017-05-29","h",14,"done!","STCメールチェック対応午後",20,{"$f":"IF(OR(J641=\"\",K641=\"\"),\"\",(K641-J641)/TIMEVALUE(\"1:00\")*60)","v":1.9999999999999929},{"$f":"IF(H641=\"\",\"\",G641-H641)","v":18.000000000000007},"14:02:00","14:04:00"]
[{"$f":"IF(AND(B642=$B$1,K642=\"\"),\"２\",IF(AND(B642=$B$1,K642<>\"\"),\"１\",IF(B642>$B$1,\"３\",\"4\")))","v":"4"},"2017-05-29",null,12,"done!","事務キチ買い物",90,{"$f":"IF(OR(J642=\"\",K642=\"\"),\"\",(K642-J642)/TIMEVALUE(\"1:00\")*60)","v":62.999999999999936},{"$f":"IF(H642=\"\",\"\",G642-H642)","v":27.000000000000064},"14:04:00","15:07:00"]
[{"$f":"IF(AND(B643=$B$1,K643=\"\"),\"２\",IF(AND(B643=$B$1,K643<>\"\"),\"１\",IF(B643>$B$1,\"３\",\"4\")))","v":"4"},"2017-05-29","h",14,"done!","gmail、yahooメールチェック（午後）",10,{"$f":"IF(OR(J643=\"\",K643=\"\"),\"\",(K643-J643)/TIMEVALUE(\"1:00\")*60)","v":6.9999999999999751},{"$f":"IF(H643=\"\",\"\",G643-H643)","v":3.0000000000000249},"15:07:00","15:14:00"]
[{"$f":"IF(AND(B644=$B$1,K644=\"\"),\"２\",IF(AND(B644=$B$1,K644<>\"\"),\"１\",IF(B644>$B$1,\"３\",\"4\")))","v":"4"},"2017-05-29",null,12,"done!","各種振込関係",45,{"$f":"IF(OR(J644=\"\",K644=\"\"),\"\",(K644-J644)/TIMEVALUE(\"1:00\")*60)","v":54.999999999999964},{"$f":"IF(H644=\"\",\"\",G644-H644)","v":-9.9999999999999645},"15:14:00","16:09:00"]
[{"$f":"IF(AND(B645=$B$1,K645=\"\"),\"２\",IF(AND(B645=$B$1,K645<>\"\"),\"１\",IF(B645>$B$1,\"３\",\"4\")))","v":"4"},"2017-05-29","h",17,"done!","gmail、yahooメールチェック（夕方）",10,{"$f":"IF(OR(J645=\"\",K645=\"\"),\"\",(K645-J645)/TIMEVALUE(\"1:00\")*60)","v":3.9999999999999858},{"$f":"IF(H645=\"\",\"\",G645-H645)","v":6.0000000000000142},"16:50:00","16:54:00"]
[{"$f":"IF(AND(B646=$B$1,K646=\"\"),\"２\",IF(AND(B646=$B$1,K646<>\"\"),\"１\",IF(B646>$B$1,\"３\",\"4\")))","v":"4"},"2017-05-29","h",17,"done!","STCメールチェック対応ラスト",20,{"$f":"IF(OR(J646=\"\",K646=\"\"),\"\",(K646-J646)/TIMEVALUE(\"1:00\")*60)","v":1.999999999999833},{"$f":"IF(H646=\"\",\"\",G646-H646)","v":18.000000000000167},"17:03:00","17:05:00"]
[{"$f":"IF(AND(B647=$B$1,K647=\"\"),\"２\",IF(AND(B647=$B$1,K647<>\"\"),\"１\",IF(B647>$B$1,\"３\",\"4\")))","v":"4"},"2017-05-29","h",21,"done!","ブログ更新",90,{"$f":"IF(OR(J647=\"\",K647=\"\"),\"\",(K647-J647)/TIMEVALUE(\"1:00\")*60)","v":174.00000000000017},{"$f":"IF(H647=\"\",\"\",G647-H647)","v":-84.000000000000171},"17:05:00","19:59:00"]
[{"$f":"IF(AND(B648=$B$1,K648=\"\"),\"２\",IF(AND(B648=$B$1,K648<>\"\"),\"１\",IF(B648>$B$1,\"３\",\"4\")))","v":"4"},"2017-05-29","d",19,"done!","夕食、SNSチェック",60,{"$f":"IF(OR(J648=\"\",K648=\"\"),\"\",(K648-J648)/TIMEVALUE(\"1:00\")*60)","v":91},{"$f":"IF(H648=\"\",\"\",G648-H648)","v":-31},"19:59:00","21:30:00"]
[{"$f":"IF(AND(B649=$B$1,K649=\"\"),\"２\",IF(AND(B649=$B$1,K649<>\"\"),\"１\",IF(B649>$B$1,\"３\",\"4\")))","v":"4"},"2017-05-29","h",20,"done!","gmail、yahooメールチェック（夜）",10,{"$f":"IF(OR(J649=\"\",K649=\"\"),\"\",(K649-J649)/TIMEVALUE(\"1:00\")*60)","v":0.99999999999983658},{"$f":"IF(H649=\"\",\"\",G649-H649)","v":9.0000000000001634},"21:30:00","21:31:00"]
[{"$f":"IF(AND(B650=$B$1,K650=\"\"),\"２\",IF(AND(B650=$B$1,K650<>\"\"),\"１\",IF(B650>$B$1,\"３\",\"4\")))","v":"4"},"2017-05-29",null,22,"done!","紗彩迎え",30,{"$f":"IF(OR(J650=\"\",K650=\"\"),\"\",(K650-J650)/TIMEVALUE(\"1:00\")*60)","v":24.999999999999911},{"$f":"IF(H650=\"\",\"\",G650-H650)","v":5.0000000000000888},"22:25:00","22:50:00"]
[{"$f":"IF(AND(B651=$B$1,K651=\"\"),\"２\",IF(AND(B651=$B$1,K651<>\"\"),\"１\",IF(B651>$B$1,\"３\",\"4\")))","v":"4"},"2017-05-29","d",15,"done!","ワニ氏セミナー視聴",90,{"$f":"IF(OR(J651=\"\",K651=\"\"),\"\",(K651-J651)/TIMEVALUE(\"1:00\")*60)","v":89.000000000000171},{"$f":"IF(H651=\"\",\"\",G651-H651)","v":0.99999999999982947},"21:31:00","23:00:00"]
[{"$f":"IF(AND(B652=$B$1,K652=\"\"),\"２\",IF(AND(B652=$B$1,K652<>\"\"),\"１\",IF(B652>$B$1,\"３\",\"4\")))","v":"4"},"2017-05-30","d",6,"done!","朝食、SNSチェック",60,{"$f":"IF(OR(J652=\"\",K652=\"\"),\"\",(K652-J652)/TIMEVALUE(\"1:00\")*60)","v":34.999999999999957},{"$f":"IF(H652=\"\",\"\",G652-H652)","v":25.000000000000043},"06:10:00","06:45:00"]
[{"$f":"IF(AND(B653=$B$1,K653=\"\"),\"２\",IF(AND(B653=$B$1,K653<>\"\"),\"１\",IF(B653>$B$1,\"３\",\"4\")))","v":"4"},"2017-05-30",null,7,"done!","STCへ移動",90,{"$f":"IF(OR(J653=\"\",K653=\"\"),\"\",(K653-J653)/TIMEVALUE(\"1:00\")*60)","v":84.999999999999943},{"$f":"IF(H653=\"\",\"\",G653-H653)","v":5.0000000000000568},"06:45:00","08:10:00"]
[{"$f":"IF(AND(B654=$B$1,K654=\"\"),\"２\",IF(AND(B654=$B$1,K654<>\"\"),\"１\",IF(B654>$B$1,\"３\",\"4\")))","v":"4"},"2017-05-30","d",7,"done!","タスク作成",15,{"$f":"IF(OR(J654=\"\",K654=\"\"),\"\",(K654-J654)/TIMEVALUE(\"1:00\")*60)","v":15.000000000000027},{"$f":"IF(H654=\"\",\"\",G654-H654)","v":-2.6645352591003757E-14},"08:10:00","08:25:00"]
[{"$f":"IF(AND(B655=$B$1,K655=\"\"),\"２\",IF(AND(B655=$B$1,K655<>\"\"),\"１\",IF(B655>$B$1,\"３\",\"4\")))","v":"4"},"2017-05-30",null,7,"done!","STCスケジュール入力",15,{"$f":"IF(OR(J655=\"\",K655=\"\"),\"\",(K655-J655)/TIMEVALUE(\"1:00\")*60)","v":8.0000000000000515},{"$f":"IF(H655=\"\",\"\",G655-H655)","v":6.9999999999999485},"08:25:00","08:33:00"]
[{"$f":"IF(AND(B656=$B$1,K656=\"\"),\"２\",IF(AND(B656=$B$1,K656<>\"\"),\"１\",IF(B656>$B$1,\"３\",\"4\")))","v":"4"},"2017-05-30","h",9,"done!","gmail、yahooメールチェック（朝）",10,{"$f":"IF(OR(J656=\"\",K656=\"\"),\"\",(K656-J656)/TIMEVALUE(\"1:00\")*60)","v":5.9999999999999787},{"$f":"IF(H656=\"\",\"\",G656-H656)","v":4.0000000000000213},"08:33:00","08:39:00"]
[{"$f":"IF(AND(B657=$B$1,K657=\"\"),\"２\",IF(AND(B657=$B$1,K657<>\"\"),\"１\",IF(B657>$B$1,\"３\",\"4\")))","v":"4"},"2017-05-30",null,10,"done!","STC中間申告",60,{"$f":"IF(OR(J657=\"\",K657=\"\"),\"\",(K657-J657)/TIMEVALUE(\"1:00\")*60)","v":101.99999999999996},{"$f":"IF(H657=\"\",\"\",G657-H657)","v":-41.999999999999957},"09:00:00","10:42:00"]
[{"$f":"IF(AND(B658=$B$1,K658=\"\"),\"２\",IF(AND(B658=$B$1,K658<>\"\"),\"１\",IF(B658>$B$1,\"３\",\"4\")))","v":"4"},"2017-05-30",null,10,"done!","回覧資料確認",15,{"$f":"IF(OR(J658=\"\",K658=\"\"),\"\",(K658-J658)/TIMEVALUE(\"1:00\")*60)","v":13.000000000000034},{"$f":"IF(H658=\"\",\"\",G658-H658)","v":1.9999999999999662},"10:42:00","10:55:00"]
[{"$f":"IF(AND(B659=$B$1,K659=\"\"),\"２\",IF(AND(B659=$B$1,K659<>\"\"),\"１\",IF(B659>$B$1,\"３\",\"4\")))","v":"4"},"2017-05-30","h",11,"done!","gmail、yahooメールチェック（午前）",10,{"$f":"IF(OR(J659=\"\",K659=\"\"),\"\",(K659-J659)/TIMEVALUE(\"1:00\")*60)","v":4.9999999999999822},{"$f":"IF(H659=\"\",\"\",G659-H659)","v":5.0000000000000178},"10:55:00","11:00:00"]
[{"$f":"IF(AND(B660=$B$1,K660=\"\"),\"２\",IF(AND(B660=$B$1,K660<>\"\"),\"１\",IF(B660>$B$1,\"３\",\"4\")))","v":"4"},"2017-05-30","d",12,"done!","ランチ、SNSチェック",60,{"$f":"IF(OR(J660=\"\",K660=\"\"),\"\",(K660-J660)/TIMEVALUE(\"1:00\")*60)","v":40.000000000000014},{"$f":"IF(H660=\"\",\"\",G660-H660)","v":19.999999999999986},"12:00:00","12:40:00"]
[{"$f":"IF(AND(B661=$B$1,K661=\"\"),\"２\",IF(AND(B661=$B$1,K661<>\"\"),\"１\",IF(B661>$B$1,\"３\",\"4\")))","v":"4"},"2017-05-30",null,9,"done!","ソート申告書提出",120,{"$f":"IF(OR(J661=\"\",K661=\"\"),\"\",(K661-J661)/TIMEVALUE(\"1:00\")*60)","v":293.99999999999989},{"$f":"IF(H661=\"\",\"\",G661-H661)","v":-173.99999999999989},"12:40:00","17:34:00"]
[{"$f":"IF(AND(B662=$B$1,K662=\"\"),\"２\",IF(AND(B662=$B$1,K662<>\"\"),\"１\",IF(B662>$B$1,\"３\",\"4\")))","v":"4"},"2017-05-30",null,18,"done!","STCから帰宅",90,{"$f":"IF(OR(J662=\"\",K662=\"\"),\"\",(K662-J662)/TIMEVALUE(\"1:00\")*60)","v":64.999999999999929},{"$f":"IF(H662=\"\",\"\",G662-H662)","v":25.000000000000071},"18:30:00","19:35:00"]
[{"$f":"IF(AND(B663=$B$1,K663=\"\"),\"２\",IF(AND(B663=$B$1,K663<>\"\"),\"１\",IF(B663>$B$1,\"３\",\"4\")))","v":"4"},"2017-05-30","d",19,"done!","夕食、SNSチェック",60,{"$f":"IF(OR(J663=\"\",K663=\"\"),\"\",(K663-J663)/TIMEVALUE(\"1:00\")*60)","v":85.000000000000014},{"$f":"IF(H663=\"\",\"\",G663-H663)","v":-25.000000000000014},"19:35:00","21:00:00"]
[{"$f":"IF(AND(B664=$B$1,K664=\"\"),\"２\",IF(AND(B664=$B$1,K664<>\"\"),\"１\",IF(B664>$B$1,\"３\",\"4\")))","v":"4"},"2017-05-30","h",21,"done!","ブログ更新",90,{"$f":"IF(OR(J664=\"\",K664=\"\"),\"\",(K664-J664)/TIMEVALUE(\"1:00\")*60)","v":209.99999999999989},{"$f":"IF(H664=\"\",\"\",G664-H664)","v":-119.99999999999989},"21:00:00",1.0208333333333333]
[{"$f":"IF(AND(B665=$B$1,K665=\"\"),\"２\",IF(AND(B665=$B$1,K665<>\"\"),\"１\",IF(B665>$B$1,\"３\",\"4\")))","v":"4"},"2017-05-31","d",6,"done!","朝食、SNSチェック",60,{"$f":"IF(OR(J665=\"\",K665=\"\"),\"\",(K665-J665)/TIMEVALUE(\"1:00\")*60)","v":61.000000000000021},{"$f":"IF(H665=\"\",\"\",G665-H665)","v":-1.0000000000000213},"07:10:00","08:11:00"]
[{"$f":"IF(AND(B666=$B$1,K666=\"\"),\"２\",IF(AND(B666=$B$1,K666<>\"\"),\"１\",IF(B666>$B$1,\"３\",\"4\")))","v":"4"},"2017-05-31","d",7,"done!","タスク作成",15,{"$f":"IF(OR(J666=\"\",K666=\"\"),\"\",(K666-J666)/TIMEVALUE(\"1:00\")*60)","v":5.9999999999999787},{"$f":"IF(H666=\"\",\"\",G666-H666)","v":9.0000000000000213},"08:11:00","08:17:00"]
[{"$f":"IF(AND(B667=$B$1,K667=\"\"),\"２\",IF(AND(B667=$B$1,K667<>\"\"),\"１\",IF(B667>$B$1,\"３\",\"4\")))","v":"4"},"2017-05-31","d",6,"done!","経理処理、交通費記録",15,{"$f":"IF(OR(J667=\"\",K667=\"\"),\"\",(K667-J667)/TIMEVALUE(\"1:00\")*60)","v":3.0000000000000693},{"$f":"IF(H667=\"\",\"\",G667-H667)","v":11.999999999999931},"08:17:00","08:20:00"]
[{"$f":"IF(AND(B668=$B$1,K668=\"\"),\"２\",IF(AND(B668=$B$1,K668<>\"\"),\"１\",IF(B668>$B$1,\"３\",\"4\")))","v":"4"},"2017-05-31",null,9,"done!","STコンサルの役員借入金、個人事業の整理",60,{"$f":"IF(OR(J668=\"\",K668=\"\"),\"\",(K668-J668)/TIMEVALUE(\"1:00\")*60)","v":189.99999999999997},{"$f":"IF(H668=\"\",\"\",G668-H668)","v":-129.99999999999997},"08:20:00","11:30:00"]
[{"$f":"IF(AND(B669=$B$1,K669=\"\"),\"２\",IF(AND(B669=$B$1,K669<>\"\"),\"１\",IF(B669>$B$1,\"３\",\"4\")))","v":"4"},"2017-05-31",null,11,"done!","給与振り込み実施",30,{"$f":"IF(OR(J669=\"\",K669=\"\"),\"\",(K669-J669)/TIMEVALUE(\"1:00\")*60)","v":32.999999999999964},{"$f":"IF(H669=\"\",\"\",G669-H669)","v":-2.9999999999999645},"11:30:00","12:03:00"]
[{"$f":"IF(AND(B670=$B$1,K670=\"\"),\"２\",IF(AND(B670=$B$1,K670<>\"\"),\"１\",IF(B670>$B$1,\"３\",\"4\")))","v":"4"},"2017-05-31","h",10,"done!","STCメールチェック対応午前",20,{"$f":"IF(OR(J670=\"\",K670=\"\"),\"\",(K670-J670)/TIMEVALUE(\"1:00\")*60)","v":3.9999999999999858},{"$f":"IF(H670=\"\",\"\",G670-H670)","v":16.000000000000014},"12:03:00","12:07:00"]
[{"$f":"IF(AND(B671=$B$1,K671=\"\"),\"２\",IF(AND(B671=$B$1,K671<>\"\"),\"１\",IF(B671>$B$1,\"３\",\"4\")))","v":"4"},"2017-05-31","h",11,"done!","gmail、yahooメールチェック（午前）",10,{"$f":"IF(OR(J671=\"\",K671=\"\"),\"\",(K671-J671)/TIMEVALUE(\"1:00\")*60)","v":28.00000000000006},{"$f":"IF(H671=\"\",\"\",G671-H671)","v":-18.00000000000006},"12:07:00","12:35:00"]
[{"$f":"IF(AND(B672=$B$1,K672=\"\"),\"２\",IF(AND(B672=$B$1,K672<>\"\"),\"１\",IF(B672>$B$1,\"３\",\"4\")))","v":"4"},"2017-05-31","d",12,"done!","ランチ、SNSチェック",60,{"$f":"IF(OR(J672=\"\",K672=\"\"),\"\",(K672-J672)/TIMEVALUE(\"1:00\")*60)","v":14.999999999999947},{"$f":"IF(H672=\"\",\"\",G672-H672)","v":45.000000000000057},"12:35:00","12:50:00"]
[{"$f":"IF(AND(B673=$B$1,K673=\"\"),\"２\",IF(AND(B673=$B$1,K673<>\"\"),\"１\",IF(B673>$B$1,\"３\",\"4\")))","v":"4"},"2017-05-31",null,15,"done!","CFコーチセミナー検討、申し込み",60,{"$f":"IF(OR(J673=\"\",K673=\"\"),\"\",(K673-J673)/TIMEVALUE(\"1:00\")*60)","v":70.000000000000071},{"$f":"IF(H673=\"\",\"\",G673-H673)","v":-10.000000000000071},"12:50:00","14:00:00"]
[{"$f":"IF(AND(B674=$B$1,K674=\"\"),\"２\",IF(AND(B674=$B$1,K674<>\"\"),\"１\",IF(B674>$B$1,\"３\",\"4\")))","v":"4"},"2017-05-31","h",14,"done!","STCメールチェック対応午後",20,{"$f":"IF(OR(J674=\"\",K674=\"\"),\"\",(K674-J674)/TIMEVALUE(\"1:00\")*60)","v":6.9999999999999751},{"$f":"IF(H674=\"\",\"\",G674-H674)","v":13.000000000000025},"14:05:00","14:12:00"]
[{"$f":"IF(AND(B675=$B$1,K675=\"\"),\"２\",IF(AND(B675=$B$1,K675<>\"\"),\"１\",IF(B675>$B$1,\"３\",\"4\")))","v":"4"},"2017-05-31","h",14,"done!","gmail、yahooメールチェック（午後）",10,{"$f":"IF(OR(J675=\"\",K675=\"\"),\"\",(K675-J675)/TIMEVALUE(\"1:00\")*60)","v":2.9999999999999893},{"$f":"IF(H675=\"\",\"\",G675-H675)","v":7.0000000000000107},"14:12:00","14:15:00"]
[{"$f":"IF(AND(B676=$B$1,K676=\"\"),\"２\",IF(AND(B676=$B$1,K676<>\"\"),\"１\",IF(B676>$B$1,\"３\",\"4\")))","v":"4"},"2017-05-31",null,15,"done!","渋谷へ移動",90,{"$f":"IF(OR(J676=\"\",K676=\"\"),\"\",(K676-J676)/TIMEVALUE(\"1:00\")*60)","v":90},{"$f":"IF(H676=\"\",\"\",G676-H676)","v":0},"15:30:00","17:00:00"]
[{"$f":"IF(AND(B677=$B$1,K677=\"\"),\"２\",IF(AND(B677=$B$1,K677<>\"\"),\"１\",IF(B677>$B$1,\"３\",\"4\")))","v":"4"},"2017-05-31","h",17,"done!","STCメールチェック対応ラスト",20,{"$f":"IF(OR(J677=\"\",K677=\"\"),\"\",(K677-J677)/TIMEVALUE(\"1:00\")*60)","v":10.000000000000124},{"$f":"IF(H677=\"\",\"\",G677-H677)","v":9.9999999999998757},"18:00:00","18:10:00"]
[{"$f":"IF(AND(B678=$B$1,K678=\"\"),\"２\",IF(AND(B678=$B$1,K678<>\"\"),\"１\",IF(B678>$B$1,\"３\",\"4\")))","v":"4"},"2017-05-31",null,17,"done!","グリッジ打合せ",60,{"$f":"IF(OR(J678=\"\",K678=\"\"),\"\",(K678-J678)/TIMEVALUE(\"1:00\")*60)","v":70.000000000000071},{"$f":"IF(H678=\"\",\"\",G678-H678)","v":-10.000000000000071},"17:00:00","18:10:00"]
[{"$f":"IF(AND(B679=$B$1,K679=\"\"),\"２\",IF(AND(B679=$B$1,K679<>\"\"),\"１\",IF(B679>$B$1,\"３\",\"4\")))","v":"4"},"2017-05-31","h",17,"done!","gmail、yahooメールチェック（夕方）",10,{"$f":"IF(OR(J679=\"\",K679=\"\"),\"\",(K679-J679)/TIMEVALUE(\"1:00\")*60)","v":4.9999999999998224},{"$f":"IF(H679=\"\",\"\",G679-H679)","v":5.0000000000001776},"18:10:00","18:15:00"]
[{"$f":"IF(AND(B680=$B$1,K680=\"\"),\"２\",IF(AND(B680=$B$1,K680<>\"\"),\"１\",IF(B680>$B$1,\"３\",\"4\")))","v":"4"},"2017-05-31",null,19,"done!","監査法人飲み会",180,{"$f":"IF(OR(J680=\"\",K680=\"\"),\"\",(K680-J680)/TIMEVALUE(\"1:00\")*60)","v":259.99999999999989},{"$f":"IF(H680=\"\",\"\",G680-H680)","v":-79.999999999999886},"18:10:00","22:30:00"]
[{"$f":"IF(AND(B681=$B$1,K681=\"\"),\"２\",IF(AND(B681=$B$1,K681<>\"\"),\"１\",IF(B681>$B$1,\"３\",\"4\")))","v":"4"},"2017-05-31","h",20,"done!","gmail、yahooメールチェック（夜）",10,{"$f":"IF(OR(J681=\"\",K681=\"\"),\"\",(K681-J681)/TIMEVALUE(\"1:00\")*60)","v":4.9999999999998224},{"$f":"IF(H681=\"\",\"\",G681-H681)","v":5.0000000000001776},"23:00:00","23:05:00"]
[{"$f":"IF(AND(B682=$B$1,K682=\"\"),\"２\",IF(AND(B682=$B$1,K682<>\"\"),\"１\",IF(B682>$B$1,\"３\",\"4\")))","v":"4"},"2017-05-31",null,22,"done!","飲み会から帰宅",90,{"$f":"IF(OR(J682=\"\",K682=\"\"),\"\",(K682-J682)/TIMEVALUE(\"1:00\")*60)","v":75.000000000000057},{"$f":"IF(H682=\"\",\"\",G682-H682)","v":14.999999999999943},"22:30:00","23:45:00"]
[{"$f":"IF(AND(B683=$B$1,K683=\"\"),\"２\",IF(AND(B683=$B$1,K683<>\"\"),\"１\",IF(B683>$B$1,\"３\",\"4\")))","v":"4"},"2017-05-31","h",21,"done!","ブログ更新",90,{"$f":"IF(OR(J683=\"\",K683=\"\"),\"\",(K683-J683)/TIMEVALUE(\"1:00\")*60)","v":134.99999999999983},{"$f":"IF(H683=\"\",\"\",G683-H683)","v":-44.999999999999829},"23:45:00",1.0833333333333333]
[{"$f":"IF(AND(B684=$B$1,K684=\"\"),\"２\",IF(AND(B684=$B$1,K684<>\"\"),\"１\",IF(B684>$B$1,\"３\",\"4\")))","v":"4"},"2017-06-01","d",6,"done!","朝食、SNSチェック",60,{"$f":"IF(OR(J684=\"\",K684=\"\"),\"\",(K684-J684)/TIMEVALUE(\"1:00\")*60)","v":45},{"$f":"IF(H684=\"\",\"\",G684-H684)","v":15},"08:45:00","09:30:00"]
[{"$f":"IF(AND(B685=$B$1,K685=\"\"),\"２\",IF(AND(B685=$B$1,K685<>\"\"),\"１\",IF(B685>$B$1,\"３\",\"4\")))","v":"4"},"2017-06-01","d",7,"done!","タスク作成",15,{"$f":"IF(OR(J685=\"\",K685=\"\"),\"\",(K685-J685)/TIMEVALUE(\"1:00\")*60)","v":5.9999999999999787},{"$f":"IF(H685=\"\",\"\",G685-H685)","v":9.0000000000000213},"09:30:00","09:36:00"]
[{"$f":"IF(AND(B686=$B$1,K686=\"\"),\"２\",IF(AND(B686=$B$1,K686<>\"\"),\"１\",IF(B686>$B$1,\"３\",\"4\")))","v":"4"},"2017-06-01",null,9,"done!","ブログ修正",15,{"$f":"IF(OR(J686=\"\",K686=\"\"),\"\",(K686-J686)/TIMEVALUE(\"1:00\")*60)","v":7.9999999999999716},{"$f":"IF(H686=\"\",\"\",G686-H686)","v":7.0000000000000284},"09:36:00","09:44:00"]
[{"$f":"IF(AND(B687=$B$1,K687=\"\"),\"２\",IF(AND(B687=$B$1,K687<>\"\"),\"１\",IF(B687>$B$1,\"３\",\"4\")))","v":"4"},"2017-06-01","h",9,"done!","gmail、yahooメールチェック（朝）",10,{"$f":"IF(OR(J687=\"\",K687=\"\"),\"\",(K687-J687)/TIMEVALUE(\"1:00\")*60)","v":60.000000000000028},{"$f":"IF(H687=\"\",\"\",G687-H687)","v":-50.000000000000028},"09:44:00","10:44:00"]
[{"$f":"IF(AND(B688=$B$1,K688=\"\"),\"２\",IF(AND(B688=$B$1,K688<>\"\"),\"１\",IF(B688>$B$1,\"３\",\"4\")))","v":"4"},"2017-06-01","h",10,"done!","STCメールチェック対応午前",20,{"$f":"IF(OR(J688=\"\",K688=\"\"),\"\",(K688-J688)/TIMEVALUE(\"1:00\")*60)","v":1.0000000000000764},{"$f":"IF(H688=\"\",\"\",G688-H688)","v":18.999999999999922},"10:44:00","10:45:00"]
[{"$f":"IF(AND(B689=$B$1,K689=\"\"),\"２\",IF(AND(B689=$B$1,K689<>\"\"),\"１\",IF(B689>$B$1,\"３\",\"4\")))","v":"4"},"2017-06-01","m",13,"done!","STC請求書作成、送付",20,{"$f":"IF(OR(J689=\"\",K689=\"\"),\"\",(K689-J689)/TIMEVALUE(\"1:00\")*60)","v":43.999999999999922},{"$f":"IF(H689=\"\",\"\",G689-H689)","v":-23.999999999999922},"10:45:00","11:29:00"]
[{"$f":"IF(AND(B690=$B$1,K690=\"\"),\"２\",IF(AND(B690=$B$1,K690<>\"\"),\"１\",IF(B690>$B$1,\"３\",\"4\")))","v":"4"},"2017-06-01","h",11,"done!","gmail、yahooメールチェック（午前）",10,{"$f":"IF(OR(J690=\"\",K690=\"\"),\"\",(K690-J690)/TIMEVALUE(\"1:00\")*60)","v":2.0000000000000728},{"$f":"IF(H690=\"\",\"\",G690-H690)","v":7.9999999999999272},"11:29:00","11:31:00"]
[{"$f":"IF(AND(B691=$B$1,K691=\"\"),\"２\",IF(AND(B691=$B$1,K691<>\"\"),\"１\",IF(B691>$B$1,\"３\",\"4\")))","v":"4"},"2017-06-01",null,15,"done!","ファイル整理",15,{"$f":"IF(OR(J691=\"\",K691=\"\"),\"\",(K691-J691)/TIMEVALUE(\"1:00\")*60)","v":55.000000000000043},{"$f":"IF(H691=\"\",\"\",G691-H691)","v":-40.000000000000043},"11:31:00","12:26:00"]
[{"$f":"IF(AND(B692=$B$1,K692=\"\"),\"２\",IF(AND(B692=$B$1,K692<>\"\"),\"１\",IF(B692>$B$1,\"３\",\"4\")))","v":"4"},"2017-06-01",null,11,"done!","ソート申告書印刷など整理",60,{"$f":"IF(OR(J692=\"\",K692=\"\"),\"\",(K692-J692)/TIMEVALUE(\"1:00\")*60)","v":77.999999999999886},{"$f":"IF(H692=\"\",\"\",G692-H692)","v":-17.999999999999886},"12:26:00","13:44:00"]
[{"$f":"IF(AND(B693=$B$1,K693=\"\"),\"２\",IF(AND(B693=$B$1,K693<>\"\"),\"１\",IF(B693>$B$1,\"３\",\"4\")))","v":"4"},"2017-06-01","d",12,"done!","ランチ、SNSチェック",60,{"$f":"IF(OR(J693=\"\",K693=\"\"),\"\",(K693-J693)/TIMEVALUE(\"1:00\")*60)","v":22.000000000000082},{"$f":"IF(H693=\"\",\"\",G693-H693)","v":37.999999999999915},"13:44:00","14:06:00"]
[{"$f":"IF(AND(B694=$B$1,K694=\"\"),\"２\",IF(AND(B694=$B$1,K694<>\"\"),\"１\",IF(B694>$B$1,\"３\",\"4\")))","v":"4"},"2017-06-01","h",14,"done!","STCメールチェック対応午後",20,{"$f":"IF(OR(J694=\"\",K694=\"\"),\"\",(K694-J694)/TIMEVALUE(\"1:00\")*60)","v":1.9999999999999929},{"$f":"IF(H694=\"\",\"\",G694-H694)","v":18.000000000000007},"14:06:00","14:08:00"]
[{"$f":"IF(AND(B695=$B$1,K695=\"\"),\"２\",IF(AND(B695=$B$1,K695<>\"\"),\"１\",IF(B695>$B$1,\"３\",\"4\")))","v":"4"},"2017-06-01",null,12,"done!","ゴルフ練習",90,{"$f":"IF(OR(J695=\"\",K695=\"\"),\"\",(K695-J695)/TIMEVALUE(\"1:00\")*60)","v":107.99999999999994},{"$f":"IF(H695=\"\",\"\",G695-H695)","v":-17.999999999999943},"14:08:00","15:56:00"]
[{"$f":"IF(AND(B696=$B$1,K696=\"\"),\"２\",IF(AND(B696=$B$1,K696<>\"\"),\"１\",IF(B696>$B$1,\"３\",\"4\")))","v":"4"},"2017-06-01","h",14,"done!","gmail、yahooメールチェック（午後）",10,{"$f":"IF(OR(J696=\"\",K696=\"\"),\"\",(K696-J696)/TIMEVALUE(\"1:00\")*60)","v":40.000000000000178},{"$f":"IF(H696=\"\",\"\",G696-H696)","v":-30.000000000000178},"15:56:00","16:36:00"]
[{"$f":"IF(AND(B697=$B$1,K697=\"\"),\"２\",IF(AND(B697=$B$1,K697<>\"\"),\"１\",IF(B697>$B$1,\"３\",\"4\")))","v":"4"},"2017-06-01","h",17,"done!","gmail、yahooメールチェック（夕方）",10,{"$f":"IF(OR(J697=\"\",K697=\"\"),\"\",(K697-J697)/TIMEVALUE(\"1:00\")*60)","v":""},{"$f":"IF(H697=\"\",\"\",G697-H697)","v":""},null,"17:32:00"]
[{"$f":"IF(AND(B698=$B$1,K698=\"\"),\"２\",IF(AND(B698=$B$1,K698<>\"\"),\"１\",IF(B698>$B$1,\"３\",\"4\")))","v":"4"},"2017-06-01","h",17,"done!","STCメールチェック対応ラスト",20,{"$f":"IF(OR(J698=\"\",K698=\"\"),\"\",(K698-J698)/TIMEVALUE(\"1:00\")*60)","v":22.000000000000082},{"$f":"IF(H698=\"\",\"\",G698-H698)","v":-2.0000000000000817},"17:10:00","17:32:00"]
[{"$f":"IF(AND(B699=$B$1,K699=\"\"),\"２\",IF(AND(B699=$B$1,K699<>\"\"),\"１\",IF(B699>$B$1,\"３\",\"4\")))","v":"4"},"2017-06-01","d",19,"done!","夕食、SNSチェック",60,{"$f":"IF(OR(J699=\"\",K699=\"\"),\"\",(K699-J699)/TIMEVALUE(\"1:00\")*60)","v":30.000000000000053},{"$f":"IF(H699=\"\",\"\",G699-H699)","v":29.999999999999947},"20:15:00","20:45:00"]
[{"$f":"IF(AND(B700=$B$1,K700=\"\"),\"２\",IF(AND(B700=$B$1,K700<>\"\"),\"１\",IF(B700>$B$1,\"３\",\"4\")))","v":"4"},"2017-06-01","h",21,"done!","ブログ更新",90,{"$f":"IF(OR(J700=\"\",K700=\"\"),\"\",(K700-J700)/TIMEVALUE(\"1:00\")*60)","v":153.99999999999994},{"$f":"IF(H700=\"\",\"\",G700-H700)","v":-63.999999999999943},"20:45:00","23:19:00"]
[{"$f":"IF(AND(B701=$B$1,K701=\"\"),\"２\",IF(AND(B701=$B$1,K701<>\"\"),\"１\",IF(B701>$B$1,\"３\",\"4\")))","v":"4"},"2017-06-01","h",20,"done!","gmail、yahooメールチェック（夜）",10,{"$f":"IF(OR(J701=\"\",K701=\"\"),\"\",(K701-J701)/TIMEVALUE(\"1:00\")*60)","v":6.0000000000001386},{"$f":"IF(H701=\"\",\"\",G701-H701)","v":3.9999999999998614},"23:19:00","23:25:00"]
[{"$f":"IF(AND(B702=$B$1,K702=\"\"),\"２\",IF(AND(B702=$B$1,K702<>\"\"),\"１\",IF(B702>$B$1,\"３\",\"4\")))","v":"4"},"2017-06-02","d",6,"done!","朝食、SNSチェック",60,{"$f":"IF(OR(J702=\"\",K702=\"\"),\"\",(K702-J702)/TIMEVALUE(\"1:00\")*60)","v":27.999999999999979},{"$f":"IF(H702=\"\",\"\",G702-H702)","v":32.000000000000021},"07:10:00","07:38:00"]
[{"$f":"IF(AND(B703=$B$1,K703=\"\"),\"２\",IF(AND(B703=$B$1,K703<>\"\"),\"１\",IF(B703>$B$1,\"３\",\"4\")))","v":"4"},"2017-06-02","d",6,"done!","経理処理、交通費記録",15,{"$f":"IF(OR(J703=\"\",K703=\"\"),\"\",(K703-J703)/TIMEVALUE(\"1:00\")*60)","v":6.0000000000000586},{"$f":"IF(H703=\"\",\"\",G703-H703)","v":8.9999999999999414},"07:38:00","07:44:00"]
[{"$f":"IF(AND(B704=$B$1,K704=\"\"),\"２\",IF(AND(B704=$B$1,K704<>\"\"),\"１\",IF(B704>$B$1,\"３\",\"4\")))","v":"4"},"2017-06-02","d",7,"done!","タスク作成",15,{"$f":"IF(OR(J704=\"\",K704=\"\"),\"\",(K704-J704)/TIMEVALUE(\"1:00\")*60)","v":3.9999999999999858},{"$f":"IF(H704=\"\",\"\",G704-H704)","v":11.000000000000014},"07:44:00","07:48:00"]
[{"$f":"IF(AND(B705=$B$1,K705=\"\"),\"２\",IF(AND(B705=$B$1,K705<>\"\"),\"１\",IF(B705>$B$1,\"３\",\"4\")))","v":"4"},"2017-06-02",null,9,"done!","原価計算書籍",90,{"$f":"IF(OR(J705=\"\",K705=\"\"),\"\",(K705-J705)/TIMEVALUE(\"1:00\")*60)","v":77.000000000000043},{"$f":"IF(H705=\"\",\"\",G705-H705)","v":12.999999999999957},"07:48:00","09:05:00"]
[{"$f":"IF(AND(B706=$B$1,K706=\"\"),\"２\",IF(AND(B706=$B$1,K706<>\"\"),\"１\",IF(B706>$B$1,\"３\",\"4\")))","v":"4"},"2017-06-02","h",9,"done!","gmail、yahooメールチェック（朝）",10,{"$f":"IF(OR(J706=\"\",K706=\"\"),\"\",(K706-J706)/TIMEVALUE(\"1:00\")*60)","v":14.999999999999947},{"$f":"IF(H706=\"\",\"\",G706-H706)","v":-4.9999999999999467},"09:05:00","09:20:00"]
[{"$f":"IF(AND(B707=$B$1,K707=\"\"),\"２\",IF(AND(B707=$B$1,K707<>\"\"),\"１\",IF(B707>$B$1,\"３\",\"4\")))","v":"4"},"2017-06-02","h",10,"done!","STCメールチェック対応午前",20,{"$f":"IF(OR(J707=\"\",K707=\"\"),\"\",(K707-J707)/TIMEVALUE(\"1:00\")*60)","v":10.000000000000124},{"$f":"IF(H707=\"\",\"\",G707-H707)","v":9.9999999999998757},"09:40:00","09:50:00"]
[{"$f":"IF(AND(B708=$B$1,K708=\"\"),\"２\",IF(AND(B708=$B$1,K708<>\"\"),\"１\",IF(B708>$B$1,\"３\",\"4\")))","v":"4"},"2017-06-02",null,10,"done!","ソート原価計算検討",120,{"$f":"IF(OR(J708=\"\",K708=\"\"),\"\",(K708-J708)/TIMEVALUE(\"1:00\")*60)","v":66.999999999999915},{"$f":"IF(H708=\"\",\"\",G708-H708)","v":53.000000000000085},"09:50:00","10:57:00"]
[{"$f":"IF(AND(B709=$B$1,K709=\"\"),\"２\",IF(AND(B709=$B$1,K709<>\"\"),\"１\",IF(B709>$B$1,\"３\",\"4\")))","v":"4"},"2017-06-02",null,11,"done!","トレーニング",60,{"$f":"IF(OR(J709=\"\",K709=\"\"),\"\",(K709-J709)/TIMEVALUE(\"1:00\")*60)","v":93.000000000000071},{"$f":"IF(H709=\"\",\"\",G709-H709)","v":-33.000000000000071},"10:57:00","12:30:00"]
[{"$f":"IF(AND(B710=$B$1,K710=\"\"),\"２\",IF(AND(B710=$B$1,K710<>\"\"),\"１\",IF(B710>$B$1,\"３\",\"4\")))","v":"4"},"2017-06-02","h",11,"done!","gmail、yahooメールチェック（午前）",10,{"$f":"IF(OR(J710=\"\",K710=\"\"),\"\",(K710-J710)/TIMEVALUE(\"1:00\")*60)","v":4.9999999999999822},{"$f":"IF(H710=\"\",\"\",G710-H710)","v":5.0000000000000178},"12:30:00","12:35:00"]
[{"$f":"IF(AND(B711=$B$1,K711=\"\"),\"２\",IF(AND(B711=$B$1,K711<>\"\"),\"１\",IF(B711>$B$1,\"３\",\"4\")))","v":"4"},"2017-06-02","d",12,"done!","ランチ、SNSチェック",60,{"$f":"IF(OR(J711=\"\",K711=\"\"),\"\",(K711-J711)/TIMEVALUE(\"1:00\")*60)","v":41.000000000000014},{"$f":"IF(H711=\"\",\"\",G711-H711)","v":18.999999999999986},"12:35:00","13:16:00"]
[{"$f":"IF(AND(B712=$B$1,K712=\"\"),\"２\",IF(AND(B712=$B$1,K712<>\"\"),\"１\",IF(B712>$B$1,\"３\",\"4\")))","v":"4"},"2017-06-02","h",14,"done!","STCメールチェック対応午後",20,{"$f":"IF(OR(J712=\"\",K712=\"\"),\"\",(K712-J712)/TIMEVALUE(\"1:00\")*60)","v":1.9999999999999929},{"$f":"IF(H712=\"\",\"\",G712-H712)","v":18.000000000000007},"13:48:00","13:50:00"]
[{"$f":"IF(AND(B713=$B$1,K713=\"\"),\"２\",IF(AND(B713=$B$1,K713<>\"\"),\"１\",IF(B713>$B$1,\"３\",\"4\")))","v":"4"},"2017-06-02","h",14,"done!","gmail、yahooメールチェック（午後）",10,{"$f":"IF(OR(J713=\"\",K713=\"\"),\"\",(K713-J713)/TIMEVALUE(\"1:00\")*60)","v":1.9999999999999929},{"$f":"IF(H713=\"\",\"\",G713-H713)","v":8.0000000000000071},"13:55:00","13:57:00"]
[{"$f":"IF(AND(B714=$B$1,K714=\"\"),\"２\",IF(AND(B714=$B$1,K714<>\"\"),\"１\",IF(B714>$B$1,\"３\",\"4\")))","v":"4"},"2017-06-02",null,13,"done!","テクノス月次訪問",240,{"$f":"IF(OR(J714=\"\",K714=\"\"),\"\",(K714-J714)/TIMEVALUE(\"1:00\")*60)","v":236.99999999999994},{"$f":"IF(H714=\"\",\"\",G714-H714)","v":3.0000000000000568},"13:50:00","17:47:00"]
[{"$f":"IF(AND(B715=$B$1,K715=\"\"),\"２\",IF(AND(B715=$B$1,K715<>\"\"),\"１\",IF(B715>$B$1,\"３\",\"4\")))","v":"4"},"2017-06-02","h",17,"done!","gmail、yahooメールチェック（夕方）",10,{"$f":"IF(OR(J715=\"\",K715=\"\"),\"\",(K715-J715)/TIMEVALUE(\"1:00\")*60)","v":7.9999999999999716},{"$f":"IF(H715=\"\",\"\",G715-H715)","v":2.0000000000000284},"17:47:00","17:55:00"]
[{"$f":"IF(AND(B716=$B$1,K716=\"\"),\"２\",IF(AND(B716=$B$1,K716<>\"\"),\"１\",IF(B716>$B$1,\"３\",\"4\")))","v":"4"},"2017-06-02","h",17,"done!","STCメールチェック対応ラスト",20,{"$f":"IF(OR(J716=\"\",K716=\"\"),\"\",(K716-J716)/TIMEVALUE(\"1:00\")*60)","v":22.000000000000082},{"$f":"IF(H716=\"\",\"\",G716-H716)","v":-2.0000000000000817},"17:55:00","18:17:00"]
[{"$f":"IF(AND(B717=$B$1,K717=\"\"),\"２\",IF(AND(B717=$B$1,K717<>\"\"),\"１\",IF(B717>$B$1,\"３\",\"4\")))","v":"4"},"2017-06-02","d",19,"done!","夕食、SNSチェック",60,{"$f":"IF(OR(J717=\"\",K717=\"\"),\"\",(K717-J717)/TIMEVALUE(\"1:00\")*60)","v":119.00000000000006},{"$f":"IF(H717=\"\",\"\",G717-H717)","v":-59.000000000000057},"19:20:00","21:19:00"]
[{"$f":"IF(AND(B718=$B$1,K718=\"\"),\"２\",IF(AND(B718=$B$1,K718<>\"\"),\"１\",IF(B718>$B$1,\"３\",\"4\")))","v":"4"},"2017-06-02",null,22,"done!","紗彩迎え",30,{"$f":"IF(OR(J718=\"\",K718=\"\"),\"\",(K718-J718)/TIMEVALUE(\"1:00\")*60)","v":25.000000000000071},{"$f":"IF(H718=\"\",\"\",G718-H718)","v":4.9999999999999289},"22:05:00","22:30:00"]
[{"$f":"IF(AND(B719=$B$1,K719=\"\"),\"２\",IF(AND(B719=$B$1,K719<>\"\"),\"１\",IF(B719>$B$1,\"３\",\"4\")))","v":"4"},"2017-06-02","h",21,"done!","ブログ更新",90,{"$f":"IF(OR(J719=\"\",K719=\"\"),\"\",(K719-J719)/TIMEVALUE(\"1:00\")*60)","v":330.99999999999994},{"$f":"IF(H719=\"\",\"\",G719-H719)","v":-240.99999999999994},"18:00:00","23:31:00"]
[{"$f":"IF(AND(B720=$B$1,K720=\"\"),\"２\",IF(AND(B720=$B$1,K720<>\"\"),\"１\",IF(B720>$B$1,\"３\",\"4\")))","v":"4"},"2017-06-02","h",20,"done!","gmail、yahooメールチェック（夜）",10,{"$f":"IF(OR(J720=\"\",K720=\"\"),\"\",(K720-J720)/TIMEVALUE(\"1:00\")*60)","v":1.0000000000001563},{"$f":"IF(H720=\"\",\"\",G720-H720)","v":8.9999999999998437},"23:31:00","23:32:00"]
[{"$f":"IF(AND(B721=$B$1,K721=\"\"),\"２\",IF(AND(B721=$B$1,K721<>\"\"),\"１\",IF(B721>$B$1,\"３\",\"4\")))","v":"4"},"2017-06-05","d",6,"done!","朝食、SNSチェック",60,{"$f":"IF(OR(J721=\"\",K721=\"\"),\"\",(K721-J721)/TIMEVALUE(\"1:00\")*60)","v":34.999999999999957},{"$f":"IF(H721=\"\",\"\",G721-H721)","v":25.000000000000043},"06:10:00","06:45:00"]
[{"$f":"IF(AND(B722=$B$1,K722=\"\"),\"２\",IF(AND(B722=$B$1,K722<>\"\"),\"１\",IF(B722>$B$1,\"３\",\"4\")))","v":"4"},"2017-06-05",null,7,"done!","STCへ移動",90,{"$f":"IF(OR(J722=\"\",K722=\"\"),\"\",(K722-J722)/TIMEVALUE(\"1:00\")*60)","v":84.999999999999943},{"$f":"IF(H722=\"\",\"\",G722-H722)","v":5.0000000000000568},"06:45:00","08:10:00"]
[{"$f":"IF(AND(B723=$B$1,K723=\"\"),\"２\",IF(AND(B723=$B$1,K723<>\"\"),\"１\",IF(B723>$B$1,\"３\",\"4\")))","v":"4"},"2017-06-05","d",7,"done!","タスク作成",15,{"$f":"IF(OR(J723=\"\",K723=\"\"),\"\",(K723-J723)/TIMEVALUE(\"1:00\")*60)","v":12.000000000000117},{"$f":"IF(H723=\"\",\"\",G723-H723)","v":2.9999999999998828},"08:10:00","08:22:00"]
[{"$f":"IF(AND(B724=$B$1,K724=\"\"),\"２\",IF(AND(B724=$B$1,K724<>\"\"),\"１\",IF(B724>$B$1,\"３\",\"4\")))","v":"4"},"2017-06-05",null,8,"done!","横井さんメール返信",15,{"$f":"IF(OR(J724=\"\",K724=\"\"),\"\",(K724-J724)/TIMEVALUE(\"1:00\")*60)","v":3.9999999999999858},{"$f":"IF(H724=\"\",\"\",G724-H724)","v":11.000000000000014},"08:22:00","08:26:00"]
[{"$f":"IF(AND(B725=$B$1,K725=\"\"),\"２\",IF(AND(B725=$B$1,K725<>\"\"),\"１\",IF(B725>$B$1,\"３\",\"4\")))","v":"4"},"2017-06-05","h",9,"done!","gmail、yahooメールチェック（朝）",10,{"$f":"IF(OR(J725=\"\",K725=\"\"),\"\",(K725-J725)/TIMEVALUE(\"1:00\")*60)","v":7.9999999999999716},{"$f":"IF(H725=\"\",\"\",G725-H725)","v":2.0000000000000284},"08:26:00","08:34:00"]
[{"$f":"IF(AND(B726=$B$1,K726=\"\"),\"２\",IF(AND(B726=$B$1,K726<>\"\"),\"１\",IF(B726>$B$1,\"３\",\"4\")))","v":"4"},"2017-06-05",null,9,"done!","STC回覧物確認",30,{"$f":"IF(OR(J726=\"\",K726=\"\"),\"\",(K726-J726)/TIMEVALUE(\"1:00\")*60)","v":20.999999999999925},{"$f":"IF(H726=\"\",\"\",G726-H726)","v":9.0000000000000746},"08:34:00","08:55:00"]
[{"$f":"IF(AND(B727=$B$1,K727=\"\"),\"２\",IF(AND(B727=$B$1,K727<>\"\"),\"１\",IF(B727>$B$1,\"３\",\"4\")))","v":"4"},"2017-06-05",null,11,"done!","グリッジデータアップ",90,{"$f":"IF(OR(J727=\"\",K727=\"\"),\"\",(K727-J727)/TIMEVALUE(\"1:00\")*60)","v":141.00000000000014},{"$f":"IF(H727=\"\",\"\",G727-H727)","v":-51.000000000000142},"08:55:00","11:16:00"]
[{"$f":"IF(AND(B728=$B$1,K728=\"\"),\"２\",IF(AND(B728=$B$1,K728<>\"\"),\"１\",IF(B728>$B$1,\"３\",\"4\")))","v":"4"},"2017-06-05","h",11,"done!","gmail、yahooメールチェック（午前）",10,{"$f":"IF(OR(J728=\"\",K728=\"\"),\"\",(K728-J728)/TIMEVALUE(\"1:00\")*60)","v":13.99999999999995},{"$f":"IF(H728=\"\",\"\",G728-H728)","v":-3.9999999999999503},"11:16:00","11:30:00"]
[{"$f":"IF(AND(B729=$B$1,K729=\"\"),\"２\",IF(AND(B729=$B$1,K729<>\"\"),\"１\",IF(B729>$B$1,\"３\",\"4\")))","v":"4"},"2017-06-05","d",12,"done!","ランチ、SNSチェック",60,{"$f":"IF(OR(J729=\"\",K729=\"\"),\"\",(K729-J729)/TIMEVALUE(\"1:00\")*60)","v":24.999999999999911},{"$f":"IF(H729=\"\",\"\",G729-H729)","v":35.000000000000085},"12:00:00","12:25:00"]
[{"$f":"IF(AND(B730=$B$1,K730=\"\"),\"２\",IF(AND(B730=$B$1,K730<>\"\"),\"１\",IF(B730>$B$1,\"３\",\"4\")))","v":"4"},"2017-06-05",null,14,"done!","STCワークシートチェック",30,{"$f":"IF(OR(J730=\"\",K730=\"\"),\"\",(K730-J730)/TIMEVALUE(\"1:00\")*60)","v":9.9999999999999645},{"$f":"IF(H730=\"\",\"\",G730-H730)","v":20.000000000000036},"13:30:00","13:40:00"]
[{"$f":"IF(AND(B731=$B$1,K731=\"\"),\"２\",IF(AND(B731=$B$1,K731<>\"\"),\"１\",IF(B731>$B$1,\"３\",\"4\")))","v":"4"},"2017-06-05","h",14,"done!","gmail、yahooメールチェック（午後）",10,{"$f":"IF(OR(J731=\"\",K731=\"\"),\"\",(K731-J731)/TIMEVALUE(\"1:00\")*60)","v":9.9999999999999645},{"$f":"IF(H731=\"\",\"\",G731-H731)","v":3.5527136788005009E-14},"14:00:00","14:10:00"]
[{"$f":"IF(AND(B732=$B$1,K732=\"\"),\"２\",IF(AND(B732=$B$1,K732<>\"\"),\"１\",IF(B732>$B$1,\"３\",\"4\")))","v":"4"},"2017-06-05","h",17,"done!","gmail、yahooメールチェック（夕方）",10,{"$f":"IF(OR(J732=\"\",K732=\"\"),\"\",(K732-J732)/TIMEVALUE(\"1:00\")*60)","v":9.9999999999999645},{"$f":"IF(H732=\"\",\"\",G732-H732)","v":3.5527136788005009E-14},"17:00:00","17:10:00"]
[{"$f":"IF(AND(B733=$B$1,K733=\"\"),\"２\",IF(AND(B733=$B$1,K733<>\"\"),\"１\",IF(B733>$B$1,\"３\",\"4\")))","v":"4"},"2017-06-05",null,18,"done!","STCから帰宅",90,{"$f":"IF(OR(J733=\"\",K733=\"\"),\"\",(K733-J733)/TIMEVALUE(\"1:00\")*60)","v":79.999999999999872},{"$f":"IF(H733=\"\",\"\",G733-H733)","v":10.000000000000128},"18:30:00","19:50:00"]
[{"$f":"IF(AND(B734=$B$1,K734=\"\"),\"２\",IF(AND(B734=$B$1,K734<>\"\"),\"１\",IF(B734>$B$1,\"３\",\"4\")))","v":"4"},"2017-06-05","d",19,"done!","夕食、SNSチェック",60,{"$f":"IF(OR(J734=\"\",K734=\"\"),\"\",(K734-J734)/TIMEVALUE(\"1:00\")*60)","v":59.999999999999943},{"$f":"IF(H734=\"\",\"\",G734-H734)","v":5.6843418860808015E-14},"20:20:00","21:20:00"]
[{"$f":"IF(AND(B735=$B$1,K735=\"\"),\"２\",IF(AND(B735=$B$1,K735<>\"\"),\"１\",IF(B735>$B$1,\"３\",\"4\")))","v":"4"},"2017-06-05",null,22,"done!","紗彩迎え",30,{"$f":"IF(OR(J735=\"\",K735=\"\"),\"\",(K735-J735)/TIMEVALUE(\"1:00\")*60)","v":19.999999999999929},{"$f":"IF(H735=\"\",\"\",G735-H735)","v":10.000000000000071},"22:40:00","23:00:00"]
[{"$f":"IF(AND(B736=$B$1,K736=\"\"),\"２\",IF(AND(B736=$B$1,K736<>\"\"),\"１\",IF(B736>$B$1,\"３\",\"4\")))","v":"4"},"2017-06-05","h",21,"done!","ブログ更新",120,{"$f":"IF(OR(J736=\"\",K736=\"\"),\"\",(K736-J736)/TIMEVALUE(\"1:00\")*60)","v":144.00000000000011},{"$f":"IF(H736=\"\",\"\",G736-H736)","v":-24.000000000000114},"21:20:00","23:44:00"]
[{"$f":"IF(AND(B737=$B$1,K737=\"\"),\"２\",IF(AND(B737=$B$1,K737<>\"\"),\"１\",IF(B737>$B$1,\"３\",\"4\")))","v":"4"},"2017-06-06","d",6,"done!","朝食、SNSチェック",60,{"$f":"IF(OR(J737=\"\",K737=\"\"),\"\",(K737-J737)/TIMEVALUE(\"1:00\")*60)","v":54.999999999999964},{"$f":"IF(H737=\"\",\"\",G737-H737)","v":5.0000000000000355},"07:15:00","08:10:00"]
[{"$f":"IF(AND(B738=$B$1,K738=\"\"),\"２\",IF(AND(B738=$B$1,K738<>\"\"),\"１\",IF(B738>$B$1,\"３\",\"4\")))","v":"4"},"2017-06-06","d",7,"done!","タスク作成",15,{"$f":"IF(OR(J738=\"\",K738=\"\"),\"\",(K738-J738)/TIMEVALUE(\"1:00\")*60)","v":11.000000000000041},{"$f":"IF(H738=\"\",\"\",G738-H738)","v":3.9999999999999591},"08:10:00","08:21:00"]
[{"$f":"IF(AND(B739=$B$1,K739=\"\"),\"２\",IF(AND(B739=$B$1,K739<>\"\"),\"１\",IF(B739>$B$1,\"３\",\"4\")))","v":"4"},"2017-06-06","d",6,"done!","経理処理、交通費記録",15,{"$f":"IF(OR(J739=\"\",K739=\"\"),\"\",(K739-J739)/TIMEVALUE(\"1:00\")*60)","v":1.9999999999999929},{"$f":"IF(H739=\"\",\"\",G739-H739)","v":13.000000000000007},"08:21:00","08:23:00"]
[{"$f":"IF(AND(B740=$B$1,K740=\"\"),\"２\",IF(AND(B740=$B$1,K740<>\"\"),\"１\",IF(B740>$B$1,\"３\",\"4\")))","v":"4"},"2017-06-06",null,8,"done!","税理士会研修申し込み",5,{"$f":"IF(OR(J740=\"\",K740=\"\"),\"\",(K740-J740)/TIMEVALUE(\"1:00\")*60)","v":5.9999999999999787},{"$f":"IF(H740=\"\",\"\",G740-H740)","v":-0.99999999999997868},"08:23:00","08:29:00"]
[{"$f":"IF(AND(B741=$B$1,K741=\"\"),\"２\",IF(AND(B741=$B$1,K741<>\"\"),\"１\",IF(B741>$B$1,\"３\",\"4\")))","v":"4"},"2017-06-06",null,8,"done!","グリッジ金澤さんメール",20,{"$f":"IF(OR(J741=\"\",K741=\"\"),\"\",(K741-J741)/TIMEVALUE(\"1:00\")*60)","v":59.000000000000028},{"$f":"IF(H741=\"\",\"\",G741-H741)","v":-39.000000000000028},"08:29:00","09:28:00"]
[{"$f":"IF(AND(B742=$B$1,K742=\"\"),\"２\",IF(AND(B742=$B$1,K742<>\"\"),\"１\",IF(B742>$B$1,\"３\",\"4\")))","v":"4"},"2017-06-06","h",9,"done!","gmail、yahooメールチェック（朝）",10,{"$f":"IF(OR(J742=\"\",K742=\"\"),\"\",(K742-J742)/TIMEVALUE(\"1:00\")*60)","v":9.9999999999999645},{"$f":"IF(H742=\"\",\"\",G742-H742)","v":3.5527136788005009E-14},"09:28:00","09:38:00"]
[{"$f":"IF(AND(B743=$B$1,K743=\"\"),\"２\",IF(AND(B743=$B$1,K743<>\"\"),\"１\",IF(B743>$B$1,\"３\",\"4\")))","v":"4"},"2017-06-06","d",15,"done!","ワニ氏セミナー視聴",90,{"$f":"IF(OR(J743=\"\",K743=\"\"),\"\",(K743-J743)/TIMEVALUE(\"1:00\")*60)","v":69.000000000000071},{"$f":"IF(H743=\"\",\"\",G743-H743)","v":20.999999999999929},"09:38:00","10:47:00"]
[{"$f":"IF(AND(B744=$B$1,K744=\"\"),\"２\",IF(AND(B744=$B$1,K744<>\"\"),\"１\",IF(B744>$B$1,\"３\",\"4\")))","v":"4"},"2017-06-06","h",10,"done!","STCメールチェック対応午前",20,{"$f":"IF(OR(J744=\"\",K744=\"\"),\"\",(K744-J744)/TIMEVALUE(\"1:00\")*60)","v":4.9999999999999822},{"$f":"IF(H744=\"\",\"\",G744-H744)","v":15.000000000000018},"10:47:00","10:52:00"]
[{"$f":"IF(AND(B745=$B$1,K745=\"\"),\"２\",IF(AND(B745=$B$1,K745<>\"\"),\"１\",IF(B745>$B$1,\"３\",\"4\")))","v":"4"},"2017-06-06","h",11,"done!","gmail、yahooメールチェック（午前）",10,{"$f":"IF(OR(J745=\"\",K745=\"\"),\"\",(K745-J745)/TIMEVALUE(\"1:00\")*60)","v":0.99999999999999645},{"$f":"IF(H745=\"\",\"\",G745-H745)","v":9.0000000000000036},"10:52:00","10:53:00"]
[{"$f":"IF(AND(B746=$B$1,K746=\"\"),\"２\",IF(AND(B746=$B$1,K746<>\"\"),\"１\",IF(B746>$B$1,\"３\",\"4\")))","v":"4"},"2017-06-06",null,11,"done!","ゴルフ練習",90,{"$f":"IF(OR(J746=\"\",K746=\"\"),\"\",(K746-J746)/TIMEVALUE(\"1:00\")*60)","v":94.999999999999986},{"$f":"IF(H746=\"\",\"\",G746-H746)","v":-4.9999999999999858},"11:15:00","12:50:00"]
[{"$f":"IF(AND(B747=$B$1,K747=\"\"),\"２\",IF(AND(B747=$B$1,K747<>\"\"),\"１\",IF(B747>$B$1,\"３\",\"4\")))","v":"4"},"2017-06-06","d",12,"done!","ランチ、SNSチェック",60,{"$f":"IF(OR(J747=\"\",K747=\"\"),\"\",(K747-J747)/TIMEVALUE(\"1:00\")*60)","v":41.000000000000014},{"$f":"IF(H747=\"\",\"\",G747-H747)","v":18.999999999999986},"12:50:00","13:31:00"]
[{"$f":"IF(AND(B748=$B$1,K748=\"\"),\"２\",IF(AND(B748=$B$1,K748<>\"\"),\"１\",IF(B748>$B$1,\"３\",\"4\")))","v":"4"},"2017-06-06","h",14,"done!","gmail、yahooメールチェック（午後）",10,{"$f":"IF(OR(J748=\"\",K748=\"\"),\"\",(K748-J748)/TIMEVALUE(\"1:00\")*60)","v":33.000000000000043},{"$f":"IF(H748=\"\",\"\",G748-H748)","v":-23.000000000000043},"13:31:00","14:04:00"]
[{"$f":"IF(AND(B749=$B$1,K749=\"\"),\"２\",IF(AND(B749=$B$1,K749<>\"\"),\"１\",IF(B749>$B$1,\"３\",\"4\")))","v":"4"},"2017-06-06","h",14,"done!","STCメールチェック対応午後",20,{"$f":"IF(OR(J749=\"\",K749=\"\"),\"\",(K749-J749)/TIMEVALUE(\"1:00\")*60)","v":0.99999999999999645},{"$f":"IF(H749=\"\",\"\",G749-H749)","v":19.000000000000004},"14:04:00","14:05:00"]
[{"$f":"IF(AND(B750=$B$1,K750=\"\"),\"２\",IF(AND(B750=$B$1,K750<>\"\"),\"１\",IF(B750>$B$1,\"３\",\"4\")))","v":"4"},"2017-06-06",null,12,"done!","トレーニング",90,{"$f":"IF(OR(J750=\"\",K750=\"\"),\"\",(K750-J750)/TIMEVALUE(\"1:00\")*60)","v":99.999999999999972},{"$f":"IF(H750=\"\",\"\",G750-H750)","v":-9.9999999999999716},"14:05:00","15:45:00"]
[{"$f":"IF(AND(B751=$B$1,K751=\"\"),\"２\",IF(AND(B751=$B$1,K751<>\"\"),\"１\",IF(B751>$B$1,\"３\",\"4\")))","v":"4"},"2017-06-06","h",17,"done!","gmail、yahooメールチェック（夕方）",10,{"$f":"IF(OR(J751=\"\",K751=\"\"),\"\",(K751-J751)/TIMEVALUE(\"1:00\")*60)","v":6.0000000000001386},{"$f":"IF(H751=\"\",\"\",G751-H751)","v":3.9999999999998614},"16:45:00","16:51:00"]
[{"$f":"IF(AND(B752=$B$1,K752=\"\"),\"２\",IF(AND(B752=$B$1,K752<>\"\"),\"１\",IF(B752>$B$1,\"３\",\"4\")))","v":"4"},"2017-06-06","h",17,"done!","STCメールチェック対応ラスト",20,{"$f":"IF(OR(J752=\"\",K752=\"\"),\"\",(K752-J752)/TIMEVALUE(\"1:00\")*60)","v":48.999999999999986},{"$f":"IF(H752=\"\",\"\",G752-H752)","v":-28.999999999999986},"16:51:00","17:40:00"]
[{"$f":"IF(AND(B753=$B$1,K753=\"\"),\"２\",IF(AND(B753=$B$1,K753<>\"\"),\"１\",IF(B753>$B$1,\"３\",\"4\")))","v":"4"},"2017-06-06","h",20,"done!","gmail、yahooメールチェック（夜）",10,{"$f":"IF(OR(J753=\"\",K753=\"\"),\"\",(K753-J753)/TIMEVALUE(\"1:00\")*60)","v":4.9999999999999822},{"$f":"IF(H753=\"\",\"\",G753-H753)","v":5.0000000000000178},"19:00:00","19:05:00"]
[{"$f":"IF(AND(B754=$B$1,K754=\"\"),\"２\",IF(AND(B754=$B$1,K754<>\"\"),\"１\",IF(B754>$B$1,\"３\",\"4\")))","v":"4"},"2017-06-06","d",19,"done!","夕食、SNSチェック",60,{"$f":"IF(OR(J754=\"\",K754=\"\"),\"\",(K754-J754)/TIMEVALUE(\"1:00\")*60)","v":96.999999999999972},{"$f":"IF(H754=\"\",\"\",G754-H754)","v":-36.999999999999972},"20:00:00","21:37:00"]
[{"$f":"IF(AND(B755=$B$1,K755=\"\"),\"２\",IF(AND(B755=$B$1,K755<>\"\"),\"１\",IF(B755>$B$1,\"３\",\"4\")))","v":"4"},"2017-06-06","h",21,"done!","ブログ更新",120,{"$f":"IF(OR(J755=\"\",K755=\"\"),\"\",(K755-J755)/TIMEVALUE(\"1:00\")*60)","v":152.00000000000026},{"$f":"IF(H755=\"\",\"\",G755-H755)","v":-32.000000000000256},"22:00:00",1.0222222222222224]
[{"$f":"IF(AND(B756=$B$1,K756=\"\"),\"２\",IF(AND(B756=$B$1,K756<>\"\"),\"１\",IF(B756>$B$1,\"３\",\"4\")))","v":"4"},"2017-06-07","d",6,"done!","朝食、SNSチェック",60,{"$f":"IF(OR(J756=\"\",K756=\"\"),\"\",(K756-J756)/TIMEVALUE(\"1:00\")*60)","v":67.000000000000085},{"$f":"IF(H756=\"\",\"\",G756-H756)","v":-7.0000000000000853},"07:15:00","08:22:00"]
[{"$f":"IF(AND(B757=$B$1,K757=\"\"),\"２\",IF(AND(B757=$B$1,K757<>\"\"),\"１\",IF(B757>$B$1,\"３\",\"4\")))","v":"4"},"2017-06-07","d",7,"done!","タスク作成",15,{"$f":"IF(OR(J757=\"\",K757=\"\"),\"\",(K757-J757)/TIMEVALUE(\"1:00\")*60)","v":4.9999999999999023},{"$f":"IF(H757=\"\",\"\",G757-H757)","v":10.000000000000098},"08:22:00","08:27:00"]
[{"$f":"IF(AND(B758=$B$1,K758=\"\"),\"２\",IF(AND(B758=$B$1,K758<>\"\"),\"１\",IF(B758>$B$1,\"３\",\"4\")))","v":"4"},"2017-06-07","h",9,"done!","gmail、yahooメールチェック（朝）",10,{"$f":"IF(OR(J758=\"\",K758=\"\"),\"\",(K758-J758)/TIMEVALUE(\"1:00\")*60)","v":20.000000000000007},{"$f":"IF(H758=\"\",\"\",G758-H758)","v":-10.000000000000007},"08:27:00","08:47:00"]
[{"$f":"IF(AND(B759=$B$1,K759=\"\"),\"２\",IF(AND(B759=$B$1,K759<>\"\"),\"１\",IF(B759>$B$1,\"３\",\"4\")))","v":"4"},"2017-06-07","d",10,"done!","給与計算授業視聴１",60,{"$f":"IF(OR(J759=\"\",K759=\"\"),\"\",(K759-J759)/TIMEVALUE(\"1:00\")*60)","v":54.00000000000005},{"$f":"IF(H759=\"\",\"\",G759-H759)","v":5.9999999999999503},"08:47:00","09:41:00"]
[{"$f":"IF(AND(B760=$B$1,K760=\"\"),\"２\",IF(AND(B760=$B$1,K760<>\"\"),\"１\",IF(B760>$B$1,\"３\",\"4\")))","v":"4"},"2017-06-07","h",10,"done!","STCメールチェック対応午前",20,{"$f":"IF(OR(J760=\"\",K760=\"\"),\"\",(K760-J760)/TIMEVALUE(\"1:00\")*60)","v":1.9999999999999929},{"$f":"IF(H760=\"\",\"\",G760-H760)","v":18.000000000000007},"09:41:00","09:43:00"]
[{"$f":"IF(AND(B761=$B$1,K761=\"\"),\"２\",IF(AND(B761=$B$1,K761<>\"\"),\"１\",IF(B761>$B$1,\"３\",\"4\")))","v":"4"},"2017-06-07","h",11,"done!","gmail、yahooメールチェック（午前）",10,{"$f":"IF(OR(J761=\"\",K761=\"\"),\"\",(K761-J761)/TIMEVALUE(\"1:00\")*60)","v":3.0000000000000693},{"$f":"IF(H761=\"\",\"\",G761-H761)","v":6.9999999999999307},"10:13:00","10:16:00"]
[{"$f":"IF(AND(B762=$B$1,K762=\"\"),\"２\",IF(AND(B762=$B$1,K762<>\"\"),\"１\",IF(B762>$B$1,\"３\",\"4\")))","v":"4"},"2017-06-07","d",19,"done!","読書",30,{"$f":"IF(OR(J762=\"\",K762=\"\"),\"\",(K762-J762)/TIMEVALUE(\"1:00\")*60)","v":29.999999999999972},{"$f":"IF(H762=\"\",\"\",G762-H762)","v":2.8421709430404007E-14},"10:30:00","11:00:00"]
[{"$f":"IF(AND(B763=$B$1,K763=\"\"),\"２\",IF(AND(B763=$B$1,K763<>\"\"),\"１\",IF(B763>$B$1,\"３\",\"4\")))","v":"4"},"2017-06-07",null,11,"done!","白畑ランチ",150,{"$f":"IF(OR(J763=\"\",K763=\"\"),\"\",(K763-J763)/TIMEVALUE(\"1:00\")*60)","v":140.00000000000006},{"$f":"IF(H763=\"\",\"\",G763-H763)","v":9.9999999999999432},"10:25:00","12:45:00"]
[{"$f":"IF(AND(B764=$B$1,K764=\"\"),\"２\",IF(AND(B764=$B$1,K764<>\"\"),\"１\",IF(B764>$B$1,\"３\",\"4\")))","v":"4"},"2017-06-07","h",14,"done!","gmail、yahooメールチェック（午後）",10,{"$f":"IF(OR(J764=\"\",K764=\"\"),\"\",(K764-J764)/TIMEVALUE(\"1:00\")*60)","v":5.0000000000001421},{"$f":"IF(H764=\"\",\"\",G764-H764)","v":4.9999999999998579},"13:45:00","13:50:00"]
[{"$f":"IF(AND(B765=$B$1,K765=\"\"),\"２\",IF(AND(B765=$B$1,K765<>\"\"),\"１\",IF(B765>$B$1,\"３\",\"4\")))","v":"4"},"2017-06-07","h",14,"done!","STCメールチェック対応午後",20,{"$f":"IF(OR(J765=\"\",K765=\"\"),\"\",(K765-J765)/TIMEVALUE(\"1:00\")*60)","v":4.9999999999998224},{"$f":"IF(H765=\"\",\"\",G765-H765)","v":15.000000000000178},"13:50:00","13:55:00"]
[{"$f":"IF(AND(B766=$B$1,K766=\"\"),\"２\",IF(AND(B766=$B$1,K766<>\"\"),\"１\",IF(B766>$B$1,\"３\",\"4\")))","v":"4"},"2017-06-07",null,14,"done!","ルフト打ち合わせ",120,{"$f":"IF(OR(J766=\"\",K766=\"\"),\"\",(K766-J766)/TIMEVALUE(\"1:00\")*60)","v":254.99999999999989},{"$f":"IF(H766=\"\",\"\",G766-H766)","v":-134.99999999999989},"14:00:00","18:15:00"]
[{"$f":"IF(AND(B767=$B$1,K767=\"\"),\"２\",IF(AND(B767=$B$1,K767<>\"\"),\"１\",IF(B767>$B$1,\"３\",\"4\")))","v":"4"},"2017-06-07","h",17,"done!","STCメールチェック対応ラスト",20,{"$f":"IF(OR(J767=\"\",K767=\"\"),\"\",(K767-J767)/TIMEVALUE(\"1:00\")*60)","v":3.0000000000001492},{"$f":"IF(H767=\"\",\"\",G767-H767)","v":16.999999999999851},"18:15:00","18:18:00"]
[{"$f":"IF(AND(B768=$B$1,K768=\"\"),\"２\",IF(AND(B768=$B$1,K768<>\"\"),\"１\",IF(B768>$B$1,\"３\",\"4\")))","v":"4"},"2017-06-07","h",17,"done!","gmail、yahooメールチェック（夕方）",10,{"$f":"IF(OR(J768=\"\",K768=\"\"),\"\",(K768-J768)/TIMEVALUE(\"1:00\")*60)","v":12.999999999999794},{"$f":"IF(H768=\"\",\"\",G768-H768)","v":-2.9999999999997939},"18:18:00","18:31:00"]
[{"$f":"IF(AND(B769=$B$1,K769=\"\"),\"２\",IF(AND(B769=$B$1,K769<>\"\"),\"１\",IF(B769>$B$1,\"３\",\"4\")))","v":"4"},"2017-06-07","d",19,"done!","夕食、SNSチェック",60,{"$f":"IF(OR(J769=\"\",K769=\"\"),\"\",(K769-J769)/TIMEVALUE(\"1:00\")*60)","v":45},{"$f":"IF(H769=\"\",\"\",G769-H769)","v":15},"20:30:00","21:15:00"]
[{"$f":"IF(AND(B770=$B$1,K770=\"\"),\"２\",IF(AND(B770=$B$1,K770<>\"\"),\"１\",IF(B770>$B$1,\"３\",\"4\")))","v":"4"},"2017-06-07","h",21,"done!","ブログ更新",120,{"$f":"IF(OR(J770=\"\",K770=\"\"),\"\",(K770-J770)/TIMEVALUE(\"1:00\")*60)","v":227.99999999999983},{"$f":"IF(H770=\"\",\"\",G770-H770)","v":-107.99999999999983},"18:40:00","22:28:00"]
[{"$f":"IF(AND(B771=$B$1,K771=\"\"),\"２\",IF(AND(B771=$B$1,K771<>\"\"),\"１\",IF(B771>$B$1,\"３\",\"4\")))","v":"4"},"2017-06-07","h",20,"done!","gmail、yahooメールチェック（夜）",10,{"$f":"IF(OR(J771=\"\",K771=\"\"),\"\",(K771-J771)/TIMEVALUE(\"1:00\")*60)","v":1.0000000000001563},{"$f":"IF(H771=\"\",\"\",G771-H771)","v":8.9999999999998437},"22:28:00","22:29:00"]
[{"$f":"IF(AND(B772=$B$1,K772=\"\"),\"２\",IF(AND(B772=$B$1,K772<>\"\"),\"１\",IF(B772>$B$1,\"３\",\"4\")))","v":"4"},"2017-06-08","d",6,"done!","朝食、SNSチェック",60,{"$f":"IF(OR(J772=\"\",K772=\"\"),\"\",(K772-J772)/TIMEVALUE(\"1:00\")*60)","v":29.999999999999972},{"$f":"IF(H772=\"\",\"\",G772-H772)","v":30.000000000000028},"06:15:00","06:45:00"]
[{"$f":"IF(AND(B773=$B$1,K773=\"\"),\"２\",IF(AND(B773=$B$1,K773<>\"\"),\"１\",IF(B773>$B$1,\"３\",\"4\")))","v":"4"},"2017-06-08","d",19,"done!","読書",30,{"$f":"IF(OR(J773=\"\",K773=\"\"),\"\",(K773-J773)/TIMEVALUE(\"1:00\")*60)","v":29.999999999999972},{"$f":"IF(H773=\"\",\"\",G773-H773)","v":2.8421709430404007E-14},"07:05:00","07:35:00"]
[{"$f":"IF(AND(B774=$B$1,K774=\"\"),\"２\",IF(AND(B774=$B$1,K774<>\"\"),\"１\",IF(B774>$B$1,\"３\",\"4\")))","v":"4"},"2017-06-08",null,7,"done!","STCへ移動",90,{"$f":"IF(OR(J774=\"\",K774=\"\"),\"\",(K774-J774)/TIMEVALUE(\"1:00\")*60)","v":84.999999999999943},{"$f":"IF(H774=\"\",\"\",G774-H774)","v":5.0000000000000568},"06:45:00","08:10:00"]
[{"$f":"IF(AND(B775=$B$1,K775=\"\"),\"２\",IF(AND(B775=$B$1,K775<>\"\"),\"１\",IF(B775>$B$1,\"３\",\"4\")))","v":"4"},"2017-06-08","d",7,"done!","タスク作成",15,{"$f":"IF(OR(J775=\"\",K775=\"\"),\"\",(K775-J775)/TIMEVALUE(\"1:00\")*60)","v":13.000000000000034},{"$f":"IF(H775=\"\",\"\",G775-H775)","v":1.9999999999999662},"08:10:00","08:23:00"]
[{"$f":"IF(AND(B776=$B$1,K776=\"\"),\"２\",IF(AND(B776=$B$1,K776<>\"\"),\"１\",IF(B776>$B$1,\"３\",\"4\")))","v":"4"},"2017-06-08","d",6,"done!","経理処理、交通費記録",15,{"$f":"IF(OR(J776=\"\",K776=\"\"),\"\",(K776-J776)/TIMEVALUE(\"1:00\")*60)","v":5.0000000000000622},{"$f":"IF(H776=\"\",\"\",G776-H776)","v":9.9999999999999378},"08:23:00","08:28:00"]
[{"$f":"IF(AND(B777=$B$1,K777=\"\"),\"２\",IF(AND(B777=$B$1,K777<>\"\"),\"１\",IF(B777>$B$1,\"３\",\"4\")))","v":"4"},"2017-06-08","h",9,"done!","gmail、yahooメールチェック（朝）",10,{"$f":"IF(OR(J777=\"\",K777=\"\"),\"\",(K777-J777)/TIMEVALUE(\"1:00\")*60)","v":16.99999999999994},{"$f":"IF(H777=\"\",\"\",G777-H777)","v":-6.9999999999999396},"08:28:00","08:45:00"]
[{"$f":"IF(AND(B778=$B$1,K778=\"\"),\"２\",IF(AND(B778=$B$1,K778<>\"\"),\"１\",IF(B778>$B$1,\"３\",\"4\")))","v":"4"},"2017-06-08",null,8,"done!","ルフト労働保険料の計上方法検討、連絡",60,{"$f":"IF(OR(J778=\"\",K778=\"\"),\"\",(K778-J778)/TIMEVALUE(\"1:00\")*60)","v":56.000000000000043},{"$f":"IF(H778=\"\",\"\",G778-H778)","v":3.9999999999999574},"10:15:00","11:11:00"]
[{"$f":"IF(AND(B779=$B$1,K779=\"\"),\"２\",IF(AND(B779=$B$1,K779<>\"\"),\"１\",IF(B779>$B$1,\"３\",\"4\")))","v":"4"},"2017-06-08",null,8,"done!","ルフト見積実効税率算定",20,{"$f":"IF(OR(J779=\"\",K779=\"\"),\"\",(K779-J779)/TIMEVALUE(\"1:00\")*60)","v":5.0000000000000622},{"$f":"IF(H779=\"\",\"\",G779-H779)","v":14.999999999999938},"11:11:00","11:16:00"]
[{"$f":"IF(AND(B780=$B$1,K780=\"\"),\"２\",IF(AND(B780=$B$1,K780<>\"\"),\"１\",IF(B780>$B$1,\"３\",\"4\")))","v":"4"},"2017-06-08","h",11,"done!","gmail、yahooメールチェック（午前）",10,{"$f":"IF(OR(J780=\"\",K780=\"\"),\"\",(K780-J780)/TIMEVALUE(\"1:00\")*60)","v":14.999999999999947},{"$f":"IF(H780=\"\",\"\",G780-H780)","v":-4.9999999999999467},"11:16:00","11:31:00"]
[{"$f":"IF(AND(B781=$B$1,K781=\"\"),\"２\",IF(AND(B781=$B$1,K781<>\"\"),\"１\",IF(B781>$B$1,\"３\",\"4\")))","v":"4"},"2017-06-08",null,11,"done!","テクノス合併登記の見積書作成",30,{"$f":"IF(OR(J781=\"\",K781=\"\"),\"\",(K781-J781)/TIMEVALUE(\"1:00\")*60)","v":38.999999999999943},{"$f":"IF(H781=\"\",\"\",G781-H781)","v":-8.9999999999999432},"11:31:00","12:10:00"]
[{"$f":"IF(AND(B782=$B$1,K782=\"\"),\"２\",IF(AND(B782=$B$1,K782<>\"\"),\"１\",IF(B782>$B$1,\"３\",\"4\")))","v":"4"},"2017-06-08","d",12,"done!","ランチ、SNSチェック",60,{"$f":"IF(OR(J782=\"\",K782=\"\"),\"\",(K782-J782)/TIMEVALUE(\"1:00\")*60)","v":46},{"$f":"IF(H782=\"\",\"\",G782-H782)","v":14},"12:10:00","12:56:00"]
[{"$f":"IF(AND(B783=$B$1,K783=\"\"),\"２\",IF(AND(B783=$B$1,K783<>\"\"),\"１\",IF(B783>$B$1,\"３\",\"4\")))","v":"4"},"2017-06-08",null,10,"done!","STS打合せ議題をピックアップ",30,{"$f":"IF(OR(J783=\"\",K783=\"\"),\"\",(K783-J783)/TIMEVALUE(\"1:00\")*60)","v":33.000000000000043},{"$f":"IF(H783=\"\",\"\",G783-H783)","v":-3.0000000000000426},"12:56:00","13:29:00"]
[{"$f":"IF(AND(B784=$B$1,K784=\"\"),\"２\",IF(AND(B784=$B$1,K784<>\"\"),\"１\",IF(B784>$B$1,\"３\",\"4\")))","v":"4"},"2017-06-08","h",14,"done!","gmail、yahooメールチェック（午後）",10,{"$f":"IF(OR(J784=\"\",K784=\"\"),\"\",(K784-J784)/TIMEVALUE(\"1:00\")*60)","v":5.9999999999999787},{"$f":"IF(H784=\"\",\"\",G784-H784)","v":4.0000000000000213},"13:45:00","13:51:00"]
[{"$f":"IF(AND(B785=$B$1,K785=\"\"),\"２\",IF(AND(B785=$B$1,K785<>\"\"),\"１\",IF(B785>$B$1,\"３\",\"4\")))","v":"4"},"2017-06-08",null,15,"done!","在庫評価減資料の確認",45,{"$f":"IF(OR(J785=\"\",K785=\"\"),\"\",(K785-J785)/TIMEVALUE(\"1:00\")*60)","v":27.000000000000064},{"$f":"IF(H785=\"\",\"\",G785-H785)","v":17.999999999999936},"13:51:00","14:18:00"]
[{"$f":"IF(AND(B786=$B$1,K786=\"\"),\"２\",IF(AND(B786=$B$1,K786<>\"\"),\"１\",IF(B786>$B$1,\"３\",\"4\")))","v":"4"},"2017-06-08",null,10,"done!","STS打合せ内容のすり合わせ",30,{"$f":"IF(OR(J786=\"\",K786=\"\"),\"\",(K786-J786)/TIMEVALUE(\"1:00\")*60)","v":40.000000000000014},{"$f":"IF(H786=\"\",\"\",G786-H786)","v":-10.000000000000014},"15:15:00","15:55:00"]
[{"$f":"IF(AND(B787=$B$1,K787=\"\"),\"２\",IF(AND(B787=$B$1,K787<>\"\"),\"１\",IF(B787>$B$1,\"３\",\"4\")))","v":"4"},"2017-06-08","h",17,"done!","gmail、yahooメールチェック（夕方）",10,{"$f":"IF(OR(J787=\"\",K787=\"\"),\"\",(K787-J787)/TIMEVALUE(\"1:00\")*60)","v":9.9999999999999645},{"$f":"IF(H787=\"\",\"\",G787-H787)","v":3.5527136788005009E-14},"17:00:00","17:10:00"]
[{"$f":"IF(AND(B788=$B$1,K788=\"\"),\"２\",IF(AND(B788=$B$1,K788<>\"\"),\"１\",IF(B788>$B$1,\"３\",\"4\")))","v":"4"},"2017-06-08",null,18,"done!","STC歓迎会",180,{"$f":"IF(OR(J788=\"\",K788=\"\"),\"\",(K788-J788)/TIMEVALUE(\"1:00\")*60)","v":310.00000000000017},{"$f":"IF(H788=\"\",\"\",G788-H788)","v":-130.00000000000017},"17:50:00","23:00:00"]
[{"$f":"IF(AND(B789=$B$1,K789=\"\"),\"２\",IF(AND(B789=$B$1,K789<>\"\"),\"１\",IF(B789>$B$1,\"３\",\"4\")))","v":"4"},"2017-06-08","h",20,"done!","gmail、yahooメールチェック（夜）",10,{"$f":"IF(OR(J789=\"\",K789=\"\"),\"\",(K789-J789)/TIMEVALUE(\"1:00\")*60)","v":9.9999999999999645},{"$f":"IF(H789=\"\",\"\",G789-H789)","v":3.5527136788005009E-14},"23:00:00","23:10:00"]
[{"$f":"IF(AND(B790=$B$1,K790=\"\"),\"２\",IF(AND(B790=$B$1,K790<>\"\"),\"１\",IF(B790>$B$1,\"３\",\"4\")))","v":"4"},"2017-06-08",null,22,"done!","STCから帰宅",90,{"$f":"IF(OR(J790=\"\",K790=\"\"),\"\",(K790-J790)/TIMEVALUE(\"1:00\")*60)","v":59.999999999999943},{"$f":"IF(H790=\"\",\"\",G790-H790)","v":30.000000000000057},"23:10:00",1.0069444444444444]
[{"$f":"IF(AND(B791=$B$1,K791=\"\"),\"２\",IF(AND(B791=$B$1,K791<>\"\"),\"１\",IF(B791>$B$1,\"３\",\"4\")))","v":"4"},"2017-06-08","h",21,"done!","ブログ更新",120,{"$f":"IF(OR(J791=\"\",K791=\"\"),\"\",(K791-J791)/TIMEVALUE(\"1:00\")*60)","v":80.000000000000028},{"$f":"IF(H791=\"\",\"\",G791-H791)","v":39.999999999999972},1.0069444444444444,1.0625]
[{"$f":"IF(AND(B792=$B$1,K792=\"\"),\"２\",IF(AND(B792=$B$1,K792<>\"\"),\"１\",IF(B792>$B$1,\"３\",\"4\")))","v":"4"},"2017-06-09","d",6,"done!","朝食、SNSチェック",60,{"$f":"IF(OR(J792=\"\",K792=\"\"),\"\",(K792-J792)/TIMEVALUE(\"1:00\")*60)","v":39.999999999999936},{"$f":"IF(H792=\"\",\"\",G792-H792)","v":20.000000000000064},"07:30:00","08:10:00"]
[{"$f":"IF(AND(B793=$B$1,K793=\"\"),\"２\",IF(AND(B793=$B$1,K793<>\"\"),\"１\",IF(B793>$B$1,\"３\",\"4\")))","v":"4"},"2017-06-09","d",7,"done!","タスク作成",15,{"$f":"IF(OR(J793=\"\",K793=\"\"),\"\",(K793-J793)/TIMEVALUE(\"1:00\")*60)","v":8.0000000000001315},{"$f":"IF(H793=\"\",\"\",G793-H793)","v":6.9999999999998685},"08:10:00","08:18:00"]
[{"$f":"IF(AND(B794=$B$1,K794=\"\"),\"２\",IF(AND(B794=$B$1,K794<>\"\"),\"１\",IF(B794>$B$1,\"３\",\"4\")))","v":"4"},"2017-06-09","d",6,"done!","経理処理、交通費記録",15,{"$f":"IF(OR(J794=\"\",K794=\"\"),\"\",(K794-J794)/TIMEVALUE(\"1:00\")*60)","v":1.9999999999999929},{"$f":"IF(H794=\"\",\"\",G794-H794)","v":13.000000000000007},"08:18:00","08:20:00"]
[{"$f":"IF(AND(B795=$B$1,K795=\"\"),\"２\",IF(AND(B795=$B$1,K795<>\"\"),\"１\",IF(B795>$B$1,\"３\",\"4\")))","v":"4"},"2017-06-09",null,8,"done!","テクノス見積書作成",10,{"$f":"IF(OR(J795=\"\",K795=\"\"),\"\",(K795-J795)/TIMEVALUE(\"1:00\")*60)","v":5.0000000000000622},{"$f":"IF(H795=\"\",\"\",G795-H795)","v":4.9999999999999378},"08:25:00","08:30:00"]
[{"$f":"IF(AND(B796=$B$1,K796=\"\"),\"２\",IF(AND(B796=$B$1,K796<>\"\"),\"１\",IF(B796>$B$1,\"３\",\"4\")))","v":"4"},"2017-06-09",null,8,"done!","facebookアップ",15,{"$f":"IF(OR(J796=\"\",K796=\"\"),\"\",(K796-J796)/TIMEVALUE(\"1:00\")*60)","v":20.999999999999925},{"$f":"IF(H796=\"\",\"\",G796-H796)","v":-5.9999999999999254},"08:20:00","08:41:00"]
[{"$f":"IF(AND(B797=$B$1,K797=\"\"),\"２\",IF(AND(B797=$B$1,K797<>\"\"),\"１\",IF(B797>$B$1,\"３\",\"4\")))","v":"4"},"2017-06-09","h",10,"done!","STCメールチェック対応午前",20,{"$f":"IF(OR(J797=\"\",K797=\"\"),\"\",(K797-J797)/TIMEVALUE(\"1:00\")*60)","v":4.9999999999999822},{"$f":"IF(H797=\"\",\"\",G797-H797)","v":15.000000000000018},"10:00:00","10:05:00"]
[{"$f":"IF(AND(B798=$B$1,K798=\"\"),\"２\",IF(AND(B798=$B$1,K798<>\"\"),\"１\",IF(B798>$B$1,\"３\",\"4\")))","v":"4"},"2017-06-09","h",11,"done!","gmail、yahooメールチェック（午前）",10,{"$f":"IF(OR(J798=\"\",K798=\"\"),\"\",(K798-J798)/TIMEVALUE(\"1:00\")*60)","v":4.9999999999999822},{"$f":"IF(H798=\"\",\"\",G798-H798)","v":5.0000000000000178},"12:40:00","12:45:00"]
[{"$f":"IF(AND(B799=$B$1,K799=\"\"),\"２\",IF(AND(B799=$B$1,K799<>\"\"),\"１\",IF(B799>$B$1,\"３\",\"4\")))","v":"4"},"2017-06-09",null,9,"done!","テクノス給与、賞与計算",180,{"$f":"IF(OR(J799=\"\",K799=\"\"),\"\",(K799-J799)/TIMEVALUE(\"1:00\")*60)","v":304.99999999999989},{"$f":"IF(H799=\"\",\"\",G799-H799)","v":-124.99999999999989},"08:50:00","13:55:00"]
[{"$f":"IF(AND(B800=$B$1,K800=\"\"),\"２\",IF(AND(B800=$B$1,K800<>\"\"),\"１\",IF(B800>$B$1,\"３\",\"4\")))","v":"4"},"2017-06-09","d",12,"done!","ランチ、SNSチェック",60,{"$f":"IF(OR(J800=\"\",K800=\"\"),\"\",(K800-J800)/TIMEVALUE(\"1:00\")*60)","v":16.000000000000103},{"$f":"IF(H800=\"\",\"\",G800-H800)","v":43.999999999999901},"13:55:00","14:11:00"]
[{"$f":"IF(AND(B801=$B$1,K801=\"\"),\"２\",IF(AND(B801=$B$1,K801<>\"\"),\"１\",IF(B801>$B$1,\"３\",\"4\")))","v":"4"},"2017-06-09","h",14,"done!","STCメールチェック対応午後",20,{"$f":"IF(OR(J801=\"\",K801=\"\"),\"\",(K801-J801)/TIMEVALUE(\"1:00\")*60)","v":3.9999999999999858},{"$f":"IF(H801=\"\",\"\",G801-H801)","v":16.000000000000014},"14:11:00","14:15:00"]
[{"$f":"IF(AND(B802=$B$1,K802=\"\"),\"２\",IF(AND(B802=$B$1,K802<>\"\"),\"１\",IF(B802>$B$1,\"３\",\"4\")))","v":"4"},"2017-06-09","h",14,"done!","gmail、yahooメールチェック（午後）",10,{"$f":"IF(OR(J802=\"\",K802=\"\"),\"\",(K802-J802)/TIMEVALUE(\"1:00\")*60)","v":12.999999999999954},{"$f":"IF(H802=\"\",\"\",G802-H802)","v":-2.9999999999999538},"14:15:00","14:28:00"]
[{"$f":"IF(AND(B803=$B$1,K803=\"\"),\"２\",IF(AND(B803=$B$1,K803<>\"\"),\"１\",IF(B803>$B$1,\"３\",\"4\")))","v":"4"},"2017-06-09",null,14,"done!","ゴルフ練習",90,{"$f":"IF(OR(J803=\"\",K803=\"\"),\"\",(K803-J803)/TIMEVALUE(\"1:00\")*60)","v":102.00000000000011},{"$f":"IF(H803=\"\",\"\",G803-H803)","v":-12.000000000000114},"14:28:00","16:10:00"]
[{"$f":"IF(AND(B804=$B$1,K804=\"\"),\"２\",IF(AND(B804=$B$1,K804<>\"\"),\"１\",IF(B804>$B$1,\"３\",\"4\")))","v":"4"},"2017-06-09","h",17,"done!","gmail、yahooメールチェック（夕方）",10,{"$f":"IF(OR(J804=\"\",K804=\"\"),\"\",(K804-J804)/TIMEVALUE(\"1:00\")*60)","v":17.999999999999776},{"$f":"IF(H804=\"\",\"\",G804-H804)","v":-7.9999999999997762},"16:10:00","16:28:00"]
[{"$f":"IF(AND(B805=$B$1,K805=\"\"),\"２\",IF(AND(B805=$B$1,K805<>\"\"),\"１\",IF(B805>$B$1,\"３\",\"4\")))","v":"4"},"2017-06-09","h",17,"done!","STCメールチェック対応ラスト",20,{"$f":"IF(OR(J805=\"\",K805=\"\"),\"\",(K805-J805)/TIMEVALUE(\"1:00\")*60)","v":141.00000000000014},{"$f":"IF(H805=\"\",\"\",G805-H805)","v":-121.00000000000014},"16:28:00","18:49:00"]
[{"$f":"IF(AND(B806=$B$1,K806=\"\"),\"２\",IF(AND(B806=$B$1,K806<>\"\"),\"１\",IF(B806>$B$1,\"３\",\"4\")))","v":"4"},"2017-06-09","h",20,"done!","gmail、yahooメールチェック（夜）",10,{"$f":"IF(OR(J806=\"\",K806=\"\"),\"\",(K806-J806)/TIMEVALUE(\"1:00\")*60)","v":9.9999999999999645},{"$f":"IF(H806=\"\",\"\",G806-H806)","v":3.5527136788005009E-14},"20:00:00","20:10:00"]
[{"$f":"IF(AND(B807=$B$1,K807=\"\"),\"２\",IF(AND(B807=$B$1,K807<>\"\"),\"１\",IF(B807>$B$1,\"３\",\"4\")))","v":"4"},"2017-06-09","d",19,"done!","夕食、SNSチェック",60,{"$f":"IF(OR(J807=\"\",K807=\"\"),\"\",(K807-J807)/TIMEVALUE(\"1:00\")*60)","v":59.000000000000114},{"$f":"IF(H807=\"\",\"\",G807-H807)","v":0.99999999999988631},"20:15:00","21:14:00"]
[{"$f":"IF(AND(B808=$B$1,K808=\"\"),\"２\",IF(AND(B808=$B$1,K808<>\"\"),\"１\",IF(B808>$B$1,\"３\",\"4\")))","v":"4"},"2017-06-09","h",21,"done!","ブログ更新",120,{"$f":"IF(OR(J808=\"\",K808=\"\"),\"\",(K808-J808)/TIMEVALUE(\"1:00\")*60)","v":147.9999999999998},{"$f":"IF(H808=\"\",\"\",G808-H808)","v":-27.999999999999801},"21:14:00","23:42:00"]
[{"$f":"IF(AND(B809=$B$1,K809=\"\"),\"２\",IF(AND(B809=$B$1,K809<>\"\"),\"１\",IF(B809>$B$1,\"３\",\"4\")))","v":"4"},"2017-06-12","d",6,"done!","朝食、SNSチェック",60,{"$f":"IF(OR(J809=\"\",K809=\"\"),\"\",(K809-J809)/TIMEVALUE(\"1:00\")*60)","v":105.99999999999994},{"$f":"IF(H809=\"\",\"\",G809-H809)","v":-45.999999999999943},"06:20:00","08:06:00"]
[{"$f":"IF(AND(B810=$B$1,K810=\"\"),\"２\",IF(AND(B810=$B$1,K810<>\"\"),\"１\",IF(B810>$B$1,\"３\",\"4\")))","v":"4"},"2017-06-12","d",7,"done!","タスク作成",15,{"$f":"IF(OR(J810=\"\",K810=\"\"),\"\",(K810-J810)/TIMEVALUE(\"1:00\")*60)","v":7.9999999999999716},{"$f":"IF(H810=\"\",\"\",G810-H810)","v":7.0000000000000284},"08:06:00","08:14:00"]
[{"$f":"IF(AND(B811=$B$1,K811=\"\"),\"２\",IF(AND(B811=$B$1,K811<>\"\"),\"１\",IF(B811>$B$1,\"３\",\"4\")))","v":"4"},"2017-06-12",null,8,"done!","森田さんメール返信",15,{"$f":"IF(OR(J811=\"\",K811=\"\"),\"\",(K811-J811)/TIMEVALUE(\"1:00\")*60)","v":22.000000000000082},{"$f":"IF(H811=\"\",\"\",G811-H811)","v":-7.0000000000000817},"08:14:00","08:36:00"]
[{"$f":"IF(AND(B812=$B$1,K812=\"\"),\"２\",IF(AND(B812=$B$1,K812<>\"\"),\"１\",IF(B812>$B$1,\"３\",\"4\")))","v":"4"},"2017-06-12","h",9,"done!","gmail、yahooメールチェック（朝）",10,{"$f":"IF(OR(J812=\"\",K812=\"\"),\"\",(K812-J812)/TIMEVALUE(\"1:00\")*60)","v":14.00000000000003},{"$f":"IF(H812=\"\",\"\",G812-H812)","v":-4.0000000000000302},"08:36:00","08:50:00"]
[{"$f":"IF(AND(B813=$B$1,K813=\"\"),\"２\",IF(AND(B813=$B$1,K813<>\"\"),\"１\",IF(B813>$B$1,\"３\",\"4\")))","v":"4"},"2017-06-12","h",10,"done!","STCメールチェック対応午前",20,{"$f":"IF(OR(J813=\"\",K813=\"\"),\"\",(K813-J813)/TIMEVALUE(\"1:00\")*60)","v":4.9999999999999822},{"$f":"IF(H813=\"\",\"\",G813-H813)","v":15.000000000000018},"09:25:00","09:30:00"]
[{"$f":"IF(AND(B814=$B$1,K814=\"\"),\"２\",IF(AND(B814=$B$1,K814<>\"\"),\"１\",IF(B814>$B$1,\"３\",\"4\")))","v":"4"},"2017-06-12","h",11,"done!","gmail、yahooメールチェック（午前）",10,{"$f":"IF(OR(J814=\"\",K814=\"\"),\"\",(K814-J814)/TIMEVALUE(\"1:00\")*60)","v":9.9999999999999645},{"$f":"IF(H814=\"\",\"\",G814-H814)","v":3.5527136788005009E-14},"10:00:00","10:10:00"]
[{"$f":"IF(AND(B815=$B$1,K815=\"\"),\"２\",IF(AND(B815=$B$1,K815<>\"\"),\"１\",IF(B815>$B$1,\"３\",\"4\")))","v":"4"},"2017-06-12",null,9,"done!","トレーニング",90,{"$f":"IF(OR(J815=\"\",K815=\"\"),\"\",(K815-J815)/TIMEVALUE(\"1:00\")*60)","v":95.000000000000057},{"$f":"IF(H815=\"\",\"\",G815-H815)","v":-5.0000000000000568},"09:30:00","11:05:00"]
[{"$f":"IF(AND(B816=$B$1,K816=\"\"),\"２\",IF(AND(B816=$B$1,K816<>\"\"),\"１\",IF(B816>$B$1,\"３\",\"4\")))","v":"4"},"2017-06-12","d",19,"done!","読書",30,{"$f":"IF(OR(J816=\"\",K816=\"\"),\"\",(K816-J816)/TIMEVALUE(\"1:00\")*60)","v":30.000000000000053},{"$f":"IF(H816=\"\",\"\",G816-H816)","v":-5.3290705182007514E-14},"11:50:00","12:20:00"]
[{"$f":"IF(AND(B817=$B$1,K817=\"\"),\"２\",IF(AND(B817=$B$1,K817<>\"\"),\"１\",IF(B817>$B$1,\"３\",\"4\")))","v":"4"},"2017-06-12","d",12,"done!","ランチ、SNSチェック",60,{"$f":"IF(OR(J817=\"\",K817=\"\"),\"\",(K817-J817)/TIMEVALUE(\"1:00\")*60)","v":34.999999999999872},{"$f":"IF(H817=\"\",\"\",G817-H817)","v":25.000000000000128},"12:20:00","12:55:00"]
[{"$f":"IF(AND(B818=$B$1,K818=\"\"),\"２\",IF(AND(B818=$B$1,K818<>\"\"),\"１\",IF(B818>$B$1,\"３\",\"4\")))","v":"4"},"2017-06-12",null,11,"done!","エッサムでファイル購入",180,{"$f":"IF(OR(J818=\"\",K818=\"\"),\"\",(K818-J818)/TIMEVALUE(\"1:00\")*60)","v":182},{"$f":"IF(H818=\"\",\"\",G818-H818)","v":-2},"11:05:00","14:07:00"]
[{"$f":"IF(AND(B819=$B$1,K819=\"\"),\"２\",IF(AND(B819=$B$1,K819<>\"\"),\"１\",IF(B819>$B$1,\"３\",\"4\")))","v":"4"},"2017-06-12","h",14,"done!","gmail、yahooメールチェック（午後）",10,{"$f":"IF(OR(J819=\"\",K819=\"\"),\"\",(K819-J819)/TIMEVALUE(\"1:00\")*60)","v":7.9999999999999716},{"$f":"IF(H819=\"\",\"\",G819-H819)","v":2.0000000000000284},"14:07:00","14:15:00"]
[{"$f":"IF(AND(B820=$B$1,K820=\"\"),\"２\",IF(AND(B820=$B$1,K820<>\"\"),\"１\",IF(B820>$B$1,\"３\",\"4\")))","v":"4"},"2017-06-12","h",14,"done!","STCメールチェック対応午後",20,{"$f":"IF(OR(J820=\"\",K820=\"\"),\"\",(K820-J820)/TIMEVALUE(\"1:00\")*60)","v":43.000000000000007},{"$f":"IF(H820=\"\",\"\",G820-H820)","v":-23.000000000000007},"14:15:00","14:58:00"]
[{"$f":"IF(AND(B821=$B$1,K821=\"\"),\"２\",IF(AND(B821=$B$1,K821<>\"\"),\"１\",IF(B821>$B$1,\"３\",\"4\")))","v":"4"},"2017-06-12",null,13,"done!","弥生問い合わせ（販売のデータ共有）",20,{"$f":"IF(OR(J821=\"\",K821=\"\"),\"\",(K821-J821)/TIMEVALUE(\"1:00\")*60)","v":15.000000000000107},{"$f":"IF(H821=\"\",\"\",G821-H821)","v":4.9999999999998934},"15:15:00","15:30:00"]
[{"$f":"IF(AND(B822=$B$1,K822=\"\"),\"２\",IF(AND(B822=$B$1,K822<>\"\"),\"１\",IF(B822>$B$1,\"３\",\"4\")))","v":"4"},"2017-06-12","h",17,"done!","STCメールチェック対応ラスト",20,{"$f":"IF(OR(J822=\"\",K822=\"\"),\"\",(K822-J822)/TIMEVALUE(\"1:00\")*60)","v":4.9999999999998224},{"$f":"IF(H822=\"\",\"\",G822-H822)","v":15.000000000000178},"16:40:00","16:45:00"]
[{"$f":"IF(AND(B823=$B$1,K823=\"\"),\"２\",IF(AND(B823=$B$1,K823<>\"\"),\"１\",IF(B823>$B$1,\"３\",\"4\")))","v":"4"},"2017-06-12","h",17,"done!","gmail、yahooメールチェック（夕方）",10,{"$f":"IF(OR(J823=\"\",K823=\"\"),\"\",(K823-J823)/TIMEVALUE(\"1:00\")*60)","v":4.9999999999999822},{"$f":"IF(H823=\"\",\"\",G823-H823)","v":5.0000000000000178},"16:45:00","16:50:00"]
[{"$f":"IF(AND(B824=$B$1,K824=\"\"),\"２\",IF(AND(B824=$B$1,K824<>\"\"),\"１\",IF(B824>$B$1,\"３\",\"4\")))","v":"4"},"2017-06-12","h",21,"done!","ブログ更新",120,{"$f":"IF(OR(J824=\"\",K824=\"\"),\"\",(K824-J824)/TIMEVALUE(\"1:00\")*60)","v":180},{"$f":"IF(H824=\"\",\"\",G824-H824)","v":-60},"17:00:00","20:00:00"]
[{"$f":"IF(AND(B825=$B$1,K825=\"\"),\"２\",IF(AND(B825=$B$1,K825<>\"\"),\"１\",IF(B825>$B$1,\"３\",\"4\")))","v":"4"},"2017-06-12","d",19,"done!","夕食、SNSチェック",60,{"$f":"IF(OR(J825=\"\",K825=\"\"),\"\",(K825-J825)/TIMEVALUE(\"1:00\")*60)","v":55.000000000000128},{"$f":"IF(H825=\"\",\"\",G825-H825)","v":4.9999999999998721},"20:15:00","21:10:00"]
[{"$f":"IF(AND(B826=$B$1,K826=\"\"),\"２\",IF(AND(B826=$B$1,K826<>\"\"),\"１\",IF(B826>$B$1,\"３\",\"4\")))","v":"4"},"2017-06-12","h",20,"done!","gmail、yahooメールチェック（夜）",10,{"$f":"IF(OR(J826=\"\",K826=\"\"),\"\",(K826-J826)/TIMEVALUE(\"1:00\")*60)","v":4.9999999999999822},{"$f":"IF(H826=\"\",\"\",G826-H826)","v":5.0000000000000178},"22:00:00","22:05:00"]
[{"$f":"IF(AND(B827=$B$1,K827=\"\"),\"２\",IF(AND(B827=$B$1,K827<>\"\"),\"１\",IF(B827>$B$1,\"３\",\"4\")))","v":"4"},"2017-06-12","d",21,"done!","ホームページ作成",10,{"$f":"IF(OR(J827=\"\",K827=\"\"),\"\",(K827-J827)/TIMEVALUE(\"1:00\")*60)","v":20.000000000000249},{"$f":"IF(H827=\"\",\"\",G827-H827)","v":-10.000000000000249},"22:20:00","22:40:00"]
[{"$f":"IF(AND(B828=$B$1,K828=\"\"),\"２\",IF(AND(B828=$B$1,K828<>\"\"),\"１\",IF(B828>$B$1,\"３\",\"4\")))","v":"4"},"2017-06-13",null,7,"done!","紗彩送り",30,{"$f":"IF(OR(J828=\"\",K828=\"\"),\"\",(K828-J828)/TIMEVALUE(\"1:00\")*60)","v":30.000000000000053},{"$f":"IF(H828=\"\",\"\",G828-H828)","v":-5.3290705182007514E-14},"07:10:00","07:40:00"]
[{"$f":"IF(AND(B829=$B$1,K829=\"\"),\"２\",IF(AND(B829=$B$1,K829<>\"\"),\"１\",IF(B829>$B$1,\"３\",\"4\")))","v":"4"},"2017-06-13","d",6,"done!","朝食、SNSチェック",60,{"$f":"IF(OR(J829=\"\",K829=\"\"),\"\",(K829-J829)/TIMEVALUE(\"1:00\")*60)","v":59.999999999999943},{"$f":"IF(H829=\"\",\"\",G829-H829)","v":5.6843418860808015E-14},"07:40:00","08:40:00"]
[{"$f":"IF(AND(B830=$B$1,K830=\"\"),\"２\",IF(AND(B830=$B$1,K830<>\"\"),\"１\",IF(B830>$B$1,\"３\",\"4\")))","v":"4"},"2017-06-13","d",7,"done!","タスク作成",15,{"$f":"IF(OR(J830=\"\",K830=\"\"),\"\",(K830-J830)/TIMEVALUE(\"1:00\")*60)","v":2.9999999999999893},{"$f":"IF(H830=\"\",\"\",G830-H830)","v":12.000000000000011},"08:40:00","08:43:00"]
[{"$f":"IF(AND(B831=$B$1,K831=\"\"),\"２\",IF(AND(B831=$B$1,K831<>\"\"),\"１\",IF(B831>$B$1,\"３\",\"4\")))","v":"4"},"2017-06-13","d",6,"done!","経理処理、交通費記録",15,{"$f":"IF(OR(J831=\"\",K831=\"\"),\"\",(K831-J831)/TIMEVALUE(\"1:00\")*60)","v":5.0000000000000622},{"$f":"IF(H831=\"\",\"\",G831-H831)","v":9.9999999999999378},"08:43:00","08:48:00"]
[{"$f":"IF(AND(B832=$B$1,K832=\"\"),\"２\",IF(AND(B832=$B$1,K832<>\"\"),\"１\",IF(B832>$B$1,\"３\",\"4\")))","v":"4"},"2017-06-13","h",9,"done!","gmail、yahooメールチェック（朝）",10,{"$f":"IF(OR(J832=\"\",K832=\"\"),\"\",(K832-J832)/TIMEVALUE(\"1:00\")*60)","v":21.000000000000007},{"$f":"IF(H832=\"\",\"\",G832-H832)","v":-11.000000000000007},"08:48:00","09:09:00"]
[{"$f":"IF(AND(B833=$B$1,K833=\"\"),\"２\",IF(AND(B833=$B$1,K833<>\"\"),\"１\",IF(B833>$B$1,\"３\",\"4\")))","v":"4"},"2017-06-13",null,10,"done!","JDL打合せ",90,{"$f":"IF(OR(J833=\"\",K833=\"\"),\"\",(K833-J833)/TIMEVALUE(\"1:00\")*60)","v":95.000000000000057},{"$f":"IF(H833=\"\",\"\",G833-H833)","v":-5.0000000000000568},"09:45:00","11:20:00"]
[{"$f":"IF(AND(B834=$B$1,K834=\"\"),\"２\",IF(AND(B834=$B$1,K834<>\"\"),\"１\",IF(B834>$B$1,\"３\",\"4\")))","v":"4"},"2017-06-13",null,11,"done!","郵便局手紙受領",30,{"$f":"IF(OR(J834=\"\",K834=\"\"),\"\",(K834-J834)/TIMEVALUE(\"1:00\")*60)","v":32.999999999999886},{"$f":"IF(H834=\"\",\"\",G834-H834)","v":-2.9999999999998863},"11:20:00","11:53:00"]
[{"$f":"IF(AND(B835=$B$1,K835=\"\"),\"２\",IF(AND(B835=$B$1,K835<>\"\"),\"１\",IF(B835>$B$1,\"３\",\"4\")))","v":"4"},"2017-06-13","h",10,"done!","STCメールチェック対応午前",20,{"$f":"IF(OR(J835=\"\",K835=\"\"),\"\",(K835-J835)/TIMEVALUE(\"1:00\")*60)","v":42.000000000000092},{"$f":"IF(H835=\"\",\"\",G835-H835)","v":-22.000000000000092},"11:53:00","12:35:00"]
[{"$f":"IF(AND(B836=$B$1,K836=\"\"),\"２\",IF(AND(B836=$B$1,K836<>\"\"),\"１\",IF(B836>$B$1,\"３\",\"4\")))","v":"4"},"2017-06-13","h",11,"done!","gmail、yahooメールチェック（午前）",10,{"$f":"IF(OR(J836=\"\",K836=\"\"),\"\",(K836-J836)/TIMEVALUE(\"1:00\")*60)","v":5.9999999999999787},{"$f":"IF(H836=\"\",\"\",G836-H836)","v":4.0000000000000213},"12:35:00","12:41:00"]
[{"$f":"IF(AND(B837=$B$1,K837=\"\"),\"２\",IF(AND(B837=$B$1,K837<>\"\"),\"１\",IF(B837>$B$1,\"３\",\"4\")))","v":"4"},"2017-06-13","d",12,"done!","ランチ、SNSチェック",60,{"$f":"IF(OR(J837=\"\",K837=\"\"),\"\",(K837-J837)/TIMEVALUE(\"1:00\")*60)","v":53.999999999999972},{"$f":"IF(H837=\"\",\"\",G837-H837)","v":6.0000000000000284},"12:41:00","13:35:00"]
[{"$f":"IF(AND(B838=$B$1,K838=\"\"),\"２\",IF(AND(B838=$B$1,K838<>\"\"),\"１\",IF(B838>$B$1,\"３\",\"4\")))","v":"4"},"2017-06-13","h",14,"done!","STCメールチェック対応午後",20,{"$f":"IF(OR(J838=\"\",K838=\"\"),\"\",(K838-J838)/TIMEVALUE(\"1:00\")*60)","v":1.9999999999999929},{"$f":"IF(H838=\"\",\"\",G838-H838)","v":18.000000000000007},"14:20:00","14:22:00"]
[{"$f":"IF(AND(B839=$B$1,K839=\"\"),\"２\",IF(AND(B839=$B$1,K839<>\"\"),\"１\",IF(B839>$B$1,\"３\",\"4\")))","v":"4"},"2017-06-13","h",14,"done!","gmail、yahooメールチェック（午後）",10,{"$f":"IF(OR(J839=\"\",K839=\"\"),\"\",(K839-J839)/TIMEVALUE(\"1:00\")*60)","v":2.9999999999999893},{"$f":"IF(H839=\"\",\"\",G839-H839)","v":7.0000000000000107},"14:22:00","14:25:00"]
[{"$f":"IF(AND(B840=$B$1,K840=\"\"),\"２\",IF(AND(B840=$B$1,K840<>\"\"),\"１\",IF(B840>$B$1,\"３\",\"4\")))","v":"4"},"2017-06-13","h",17,"done!","STCメールチェック対応ラスト",20,{"$f":"IF(OR(J840=\"\",K840=\"\"),\"\",(K840-J840)/TIMEVALUE(\"1:00\")*60)","v":4.9999999999998224},{"$f":"IF(H840=\"\",\"\",G840-H840)","v":15.000000000000178},"17:25:00","17:30:00"]
[{"$f":"IF(AND(B841=$B$1,K841=\"\"),\"２\",IF(AND(B841=$B$1,K841<>\"\"),\"１\",IF(B841>$B$1,\"３\",\"4\")))","v":"4"},"2017-06-13","h",17,"done!","gmail、yahooメールチェック（夕方）",10,{"$f":"IF(OR(J841=\"\",K841=\"\"),\"\",(K841-J841)/TIMEVALUE(\"1:00\")*60)","v":0.99999999999999645},{"$f":"IF(H841=\"\",\"\",G841-H841)","v":9.0000000000000036},"17:30:00","17:31:00"]
[{"$f":"IF(AND(B842=$B$1,K842=\"\"),\"２\",IF(AND(B842=$B$1,K842<>\"\"),\"１\",IF(B842>$B$1,\"３\",\"4\")))","v":"4"},"2017-06-13","d",19,"done!","夕食、SNSチェック",60,{"$f":"IF(OR(J842=\"\",K842=\"\"),\"\",(K842-J842)/TIMEVALUE(\"1:00\")*60)","v":59.999999999999943},{"$f":"IF(H842=\"\",\"\",G842-H842)","v":5.6843418860808015E-14},"20:40:00","21:40:00"]
[{"$f":"IF(AND(B843=$B$1,K843=\"\"),\"２\",IF(AND(B843=$B$1,K843<>\"\"),\"１\",IF(B843>$B$1,\"３\",\"4\")))","v":"4"},"2017-06-13","h",21,"done!","ブログ更新",120,{"$f":"IF(OR(J843=\"\",K843=\"\"),\"\",(K843-J843)/TIMEVALUE(\"1:00\")*60)","v":300.00000000000006},{"$f":"IF(H843=\"\",\"\",G843-H843)","v":-180.00000000000006},"18:00:00","23:00:00"]
[{"$f":"IF(AND(B844=$B$1,K844=\"\"),\"２\",IF(AND(B844=$B$1,K844<>\"\"),\"１\",IF(B844>$B$1,\"３\",\"4\")))","v":"4"},"2017-06-13","h",20,"done!","gmail、yahooメールチェック（夜）",10,{"$f":"IF(OR(J844=\"\",K844=\"\"),\"\",(K844-J844)/TIMEVALUE(\"1:00\")*60)","v":3.9999999999999858},{"$f":"IF(H844=\"\",\"\",G844-H844)","v":6.0000000000000142},"23:00:00","23:04:00"]
[{"$f":"IF(AND(B845=$B$1,K845=\"\"),\"２\",IF(AND(B845=$B$1,K845<>\"\"),\"１\",IF(B845>$B$1,\"３\",\"4\")))","v":"4"},"2017-06-14","d",6,"done!","朝食、SNSチェック",60,{"$f":"IF(OR(J845=\"\",K845=\"\"),\"\",(K845-J845)/TIMEVALUE(\"1:00\")*60)","v":34.999999999999957},{"$f":"IF(H845=\"\",\"\",G845-H845)","v":25.000000000000043},"06:10:00","06:45:00"]
[{"$f":"IF(AND(B846=$B$1,K846=\"\"),\"２\",IF(AND(B846=$B$1,K846<>\"\"),\"１\",IF(B846>$B$1,\"３\",\"4\")))","v":"4"},"2017-06-14","d",19,"done!","読書",30,{"$f":"IF(OR(J846=\"\",K846=\"\"),\"\",(K846-J846)/TIMEVALUE(\"1:00\")*60)","v":30.000000000000053},{"$f":"IF(H846=\"\",\"\",G846-H846)","v":-5.3290705182007514E-14},"07:10:00","07:40:00"]
[{"$f":"IF(AND(B847=$B$1,K847=\"\"),\"２\",IF(AND(B847=$B$1,K847<>\"\"),\"１\",IF(B847>$B$1,\"３\",\"4\")))","v":"4"},"2017-06-14",null,6,"done!","STCへ移動",90,{"$f":"IF(OR(J847=\"\",K847=\"\"),\"\",(K847-J847)/TIMEVALUE(\"1:00\")*60)","v":95.000000000000057},{"$f":"IF(H847=\"\",\"\",G847-H847)","v":-5.0000000000000568},"06:45:00","08:20:00"]
[{"$f":"IF(AND(B848=$B$1,K848=\"\"),\"２\",IF(AND(B848=$B$1,K848<>\"\"),\"１\",IF(B848>$B$1,\"３\",\"4\")))","v":"4"},"2017-06-14","d",7,"done!","タスク作成",15,{"$f":"IF(OR(J848=\"\",K848=\"\"),\"\",(K848-J848)/TIMEVALUE(\"1:00\")*60)","v":8.9999999999998881},{"$f":"IF(H848=\"\",\"\",G848-H848)","v":6.0000000000001119},"08:20:00","08:29:00"]
[{"$f":"IF(AND(B849=$B$1,K849=\"\"),\"２\",IF(AND(B849=$B$1,K849<>\"\"),\"１\",IF(B849>$B$1,\"３\",\"4\")))","v":"4"},"2017-06-14",null,9,"done!","産業資材佐藤さん打ち合わせ",20,{"$f":"IF(OR(J849=\"\",K849=\"\"),\"\",(K849-J849)/TIMEVALUE(\"1:00\")*60)","v":22},{"$f":"IF(H849=\"\",\"\",G849-H849)","v":-2},"08:29:00","08:51:00"]
[{"$f":"IF(AND(B850=$B$1,K850=\"\"),\"２\",IF(AND(B850=$B$1,K850<>\"\"),\"１\",IF(B850>$B$1,\"３\",\"4\")))","v":"4"},"2017-06-14","d",6,"done!","経理処理、交通費記録",15,{"$f":"IF(OR(J850=\"\",K850=\"\"),\"\",(K850-J850)/TIMEVALUE(\"1:00\")*60)","v":3.0000000000000693},{"$f":"IF(H850=\"\",\"\",G850-H850)","v":11.999999999999931},"08:51:00","08:54:00"]
[{"$f":"IF(AND(B851=$B$1,K851=\"\"),\"２\",IF(AND(B851=$B$1,K851<>\"\"),\"１\",IF(B851>$B$1,\"３\",\"4\")))","v":"4"},"2017-06-14",null,8,"done!","小貫山さんメール",5,{"$f":"IF(OR(J851=\"\",K851=\"\"),\"\",(K851-J851)/TIMEVALUE(\"1:00\")*60)","v":2.9999999999999094},{"$f":"IF(H851=\"\",\"\",G851-H851)","v":2.0000000000000906},"08:54:00","08:57:00"]
[{"$f":"IF(AND(B852=$B$1,K852=\"\"),\"２\",IF(AND(B852=$B$1,K852<>\"\"),\"１\",IF(B852>$B$1,\"３\",\"4\")))","v":"4"},"2017-06-14","h",9,"done!","gmail、yahooメールチェック（朝）",20,{"$f":"IF(OR(J852=\"\",K852=\"\"),\"\",(K852-J852)/TIMEVALUE(\"1:00\")*60)","v":16.000000000000103},{"$f":"IF(H852=\"\",\"\",G852-H852)","v":3.999999999999897},"08:57:00","09:13:00"]
[{"$f":"IF(AND(B853=$B$1,K853=\"\"),\"２\",IF(AND(B853=$B$1,K853<>\"\"),\"１\",IF(B853>$B$1,\"３\",\"4\")))","v":"4"},"2017-06-14",null,9,"done!","ルフト原状回復費用の処理状況確認",15,{"$f":"IF(OR(J853=\"\",K853=\"\"),\"\",(K853-J853)/TIMEVALUE(\"1:00\")*60)","v":10.999999999999961},{"$f":"IF(H853=\"\",\"\",G853-H853)","v":4.0000000000000391},"09:13:00","09:24:00"]
[{"$f":"IF(AND(B854=$B$1,K854=\"\"),\"２\",IF(AND(B854=$B$1,K854<>\"\"),\"１\",IF(B854>$B$1,\"３\",\"4\")))","v":"4"},"2017-06-14","m",9,"done!","子会社請求書作成、送付",40,{"$f":"IF(OR(J854=\"\",K854=\"\"),\"\",(K854-J854)/TIMEVALUE(\"1:00\")*60)","v":114.99999999999999},{"$f":"IF(H854=\"\",\"\",G854-H854)","v":-74.999999999999986},"09:24:00","11:19:00"]
[{"$f":"IF(AND(B855=$B$1,K855=\"\"),\"２\",IF(AND(B855=$B$1,K855<>\"\"),\"１\",IF(B855>$B$1,\"３\",\"4\")))","v":"4"},"2017-06-14","h",11,"done!","gmail、yahooメールチェック（午前）",10,{"$f":"IF(OR(J855=\"\",K855=\"\"),\"\",(K855-J855)/TIMEVALUE(\"1:00\")*60)","v":5.9999999999999787},{"$f":"IF(H855=\"\",\"\",G855-H855)","v":4.0000000000000213},"11:19:00","11:25:00"]
[{"$f":"IF(AND(B856=$B$1,K856=\"\"),\"２\",IF(AND(B856=$B$1,K856<>\"\"),\"１\",IF(B856>$B$1,\"３\",\"4\")))","v":"4"},"2017-06-14","d",12,"done!","ランチ、SNSチェック",60,{"$f":"IF(OR(J856=\"\",K856=\"\"),\"\",(K856-J856)/TIMEVALUE(\"1:00\")*60)","v":28.999999999999897},{"$f":"IF(H856=\"\",\"\",G856-H856)","v":31.000000000000103},"12:00:00","12:29:00"]
[{"$f":"IF(AND(B857=$B$1,K857=\"\"),\"２\",IF(AND(B857=$B$1,K857<>\"\"),\"１\",IF(B857>$B$1,\"３\",\"4\")))","v":"4"},"2017-06-14","h",14,"done!","gmail、yahooメールチェック（午後）",10,{"$f":"IF(OR(J857=\"\",K857=\"\"),\"\",(K857-J857)/TIMEVALUE(\"1:00\")*60)","v":4.9999999999999822},{"$f":"IF(H857=\"\",\"\",G857-H857)","v":5.0000000000000178},"14:00:00","14:05:00"]
[{"$f":"IF(AND(B858=$B$1,K858=\"\"),\"２\",IF(AND(B858=$B$1,K858<>\"\"),\"１\",IF(B858>$B$1,\"３\",\"4\")))","v":"4"},"2017-06-14","h",14,"done!","STCメールチェック対応午後",20,{"$f":"IF(OR(J858=\"\",K858=\"\"),\"\",(K858-J858)/TIMEVALUE(\"1:00\")*60)","v":4.9999999999999822},{"$f":"IF(H858=\"\",\"\",G858-H858)","v":15.000000000000018},"14:05:00","14:10:00"]
[{"$f":"IF(AND(B859=$B$1,K859=\"\"),\"２\",IF(AND(B859=$B$1,K859<>\"\"),\"１\",IF(B859>$B$1,\"３\",\"4\")))","v":"4"},"2017-06-14",null,13,"done!","弥生PAPカンファレンス",240,{"$f":"IF(OR(J859=\"\",K859=\"\"),\"\",(K859-J859)/TIMEVALUE(\"1:00\")*60)","v":234.99999999999997},{"$f":"IF(H859=\"\",\"\",G859-H859)","v":5.0000000000000284},"13:20:00","17:15:00"]
[{"$f":"IF(AND(B860=$B$1,K860=\"\"),\"２\",IF(AND(B860=$B$1,K860<>\"\"),\"１\",IF(B860>$B$1,\"３\",\"4\")))","v":"4"},"2017-06-14","h",17,"done!","gmail、yahooメールチェック（夕方）",10,{"$f":"IF(OR(J860=\"\",K860=\"\"),\"\",(K860-J860)/TIMEVALUE(\"1:00\")*60)","v":10.000000000000124},{"$f":"IF(H860=\"\",\"\",G860-H860)","v":-1.2434497875801753E-13},"17:30:00","17:40:00"]
[{"$f":"IF(AND(B861=$B$1,K861=\"\"),\"２\",IF(AND(B861=$B$1,K861<>\"\"),\"１\",IF(B861>$B$1,\"３\",\"4\")))","v":"4"},"2017-06-14","h",17,"done!","STCメールチェック対応ラスト",20,{"$f":"IF(OR(J861=\"\",K861=\"\"),\"\",(K861-J861)/TIMEVALUE(\"1:00\")*60)","v":4.9999999999999822},{"$f":"IF(H861=\"\",\"\",G861-H861)","v":15.000000000000018},"17:40:00","17:45:00"]
[{"$f":"IF(AND(B862=$B$1,K862=\"\"),\"２\",IF(AND(B862=$B$1,K862<>\"\"),\"１\",IF(B862>$B$1,\"３\",\"4\")))","v":"4"},"2017-06-14",null,17,"done!","弥生カンファレンスから帰宅",60,{"$f":"IF(OR(J862=\"\",K862=\"\"),\"\",(K862-J862)/TIMEVALUE(\"1:00\")*60)","v":60.999999999999943},{"$f":"IF(H862=\"\",\"\",G862-H862)","v":-0.99999999999994316},"17:15:00","18:16:00"]
[{"$f":"IF(AND(B863=$B$1,K863=\"\"),\"２\",IF(AND(B863=$B$1,K863<>\"\"),\"１\",IF(B863>$B$1,\"３\",\"4\")))","v":"4"},"2017-06-14","h",20,"done!","gmail、yahooメールチェック（夜）",10,{"$f":"IF(OR(J863=\"\",K863=\"\"),\"\",(K863-J863)/TIMEVALUE(\"1:00\")*60)","v":4.9999999999998224},{"$f":"IF(H863=\"\",\"\",G863-H863)","v":5.0000000000001776},"20:00:00","20:05:00"]
[{"$f":"IF(AND(B864=$B$1,K864=\"\"),\"２\",IF(AND(B864=$B$1,K864<>\"\"),\"１\",IF(B864>$B$1,\"３\",\"4\")))","v":"4"},"2017-06-14","d",19,"done!","夕食、SNSチェック",60,{"$f":"IF(OR(J864=\"\",K864=\"\"),\"\",(K864-J864)/TIMEVALUE(\"1:00\")*60)","v":46.999999999999829},{"$f":"IF(H864=\"\",\"\",G864-H864)","v":13.000000000000171},"20:25:00","21:12:00"]
[{"$f":"IF(AND(B865=$B$1,K865=\"\"),\"２\",IF(AND(B865=$B$1,K865<>\"\"),\"１\",IF(B865>$B$1,\"３\",\"4\")))","v":"4"},"2017-06-14","h",21,"done!","ブログ更新",120,{"$f":"IF(OR(J865=\"\",K865=\"\"),\"\",(K865-J865)/TIMEVALUE(\"1:00\")*60)","v":108.0000000000001},{"$f":"IF(H865=\"\",\"\",G865-H865)","v":11.999999999999901},"21:12:00","23:00:00"]
[{"$f":"IF(AND(B866=$B$1,K866=\"\"),\"２\",IF(AND(B866=$B$1,K866<>\"\"),\"１\",IF(B866>$B$1,\"３\",\"4\")))","v":"4"},"2017-06-14","d",21,null,"ホームページ作成",10,{"$f":"IF(OR(J866=\"\",K866=\"\"),\"\",(K866-J866)/TIMEVALUE(\"1:00\")*60)","v":""},{"$f":"IF(H866=\"\",\"\",G866-H866)","v":""}]
[{"$f":"IF(AND(B867=$B$1,K867=\"\"),\"２\",IF(AND(B867=$B$1,K867<>\"\"),\"１\",IF(B867>$B$1,\"３\",\"4\")))","v":"4"},"2017-06-15",null,6,"done!","紗彩送り",30,{"$f":"IF(OR(J867=\"\",K867=\"\"),\"\",(K867-J867)/TIMEVALUE(\"1:00\")*60)","v":30.000000000000053},{"$f":"IF(H867=\"\",\"\",G867-H867)","v":-5.3290705182007514E-14},"07:10:00","07:40:00"]
[{"$f":"IF(AND(B868=$B$1,K868=\"\"),\"２\",IF(AND(B868=$B$1,K868<>\"\"),\"１\",IF(B868>$B$1,\"３\",\"4\")))","v":"4"},"2017-06-15","d",6,"done!","朝食、SNSチェック",60,{"$f":"IF(OR(J868=\"\",K868=\"\"),\"\",(K868-J868)/TIMEVALUE(\"1:00\")*60)","v":84.999999999999943},{"$f":"IF(H868=\"\",\"\",G868-H868)","v":-24.999999999999943},"06:45:00","08:10:00"]
[{"$f":"IF(AND(B869=$B$1,K869=\"\"),\"２\",IF(AND(B869=$B$1,K869<>\"\"),\"１\",IF(B869>$B$1,\"３\",\"4\")))","v":"4"},"2017-06-15","d",6,"done!","経理処理、交通費記録",15,{"$f":"IF(OR(J869=\"\",K869=\"\"),\"\",(K869-J869)/TIMEVALUE(\"1:00\")*60)","v":0.99999999999991651},{"$f":"IF(H869=\"\",\"\",G869-H869)","v":14.000000000000083},"08:13:00","08:14:00"]
[{"$f":"IF(AND(B870=$B$1,K870=\"\"),\"２\",IF(AND(B870=$B$1,K870<>\"\"),\"１\",IF(B870>$B$1,\"３\",\"4\")))","v":"4"},"2017-06-15","d",7,"done!","タスク作成",15,{"$f":"IF(OR(J870=\"\",K870=\"\"),\"\",(K870-J870)/TIMEVALUE(\"1:00\")*60)","v":3.9999999999999858},{"$f":"IF(H870=\"\",\"\",G870-H870)","v":11.000000000000014},"08:10:00","08:14:00"]
[{"$f":"IF(AND(B871=$B$1,K871=\"\"),\"２\",IF(AND(B871=$B$1,K871<>\"\"),\"１\",IF(B871>$B$1,\"３\",\"4\")))","v":"4"},"2017-06-15",null,8,"done!","ルフトへ移動",80,{"$f":"IF(OR(J871=\"\",K871=\"\"),\"\",(K871-J871)/TIMEVALUE(\"1:00\")*60)","v":69.999999999999915},{"$f":"IF(H871=\"\",\"\",G871-H871)","v":10.000000000000085},"08:20:00","09:30:00"]
[{"$f":"IF(AND(B872=$B$1,K872=\"\"),\"２\",IF(AND(B872=$B$1,K872<>\"\"),\"１\",IF(B872>$B$1,\"３\",\"4\")))","v":"4"},"2017-06-15","h",9,"done!","gmail、yahooメールチェック（朝）",20,{"$f":"IF(OR(J872=\"\",K872=\"\"),\"\",(K872-J872)/TIMEVALUE(\"1:00\")*60)","v":4.9999999999999822},{"$f":"IF(H872=\"\",\"\",G872-H872)","v":15.000000000000018},"10:00:00","10:05:00"]
[{"$f":"IF(AND(B873=$B$1,K873=\"\"),\"２\",IF(AND(B873=$B$1,K873<>\"\"),\"１\",IF(B873>$B$1,\"３\",\"4\")))","v":"4"},"2017-06-15","h",10,"done!","STCメールチェック対応午前",20,{"$f":"IF(OR(J873=\"\",K873=\"\"),\"\",(K873-J873)/TIMEVALUE(\"1:00\")*60)","v":9.9999999999999645},{"$f":"IF(H873=\"\",\"\",G873-H873)","v":10.000000000000036},"10:05:00","10:15:00"]
[{"$f":"IF(AND(B874=$B$1,K874=\"\"),\"２\",IF(AND(B874=$B$1,K874<>\"\"),\"１\",IF(B874>$B$1,\"３\",\"4\")))","v":"4"},"2017-06-15","h",11,"done!","gmail、yahooメールチェック（午前）",10,{"$f":"IF(OR(J874=\"\",K874=\"\"),\"\",(K874-J874)/TIMEVALUE(\"1:00\")*60)","v":9.9999999999999645},{"$f":"IF(H874=\"\",\"\",G874-H874)","v":3.5527136788005009E-14},"11:00:00","11:10:00"]
[{"$f":"IF(AND(B875=$B$1,K875=\"\"),\"２\",IF(AND(B875=$B$1,K875<>\"\"),\"１\",IF(B875>$B$1,\"３\",\"4\")))","v":"4"},"2017-06-15",null,9,"done!","ルフト監査法人インタビューなど",150,{"$f":"IF(OR(J875=\"\",K875=\"\"),\"\",(K875-J875)/TIMEVALUE(\"1:00\")*60)","v":180.00000000000009},{"$f":"IF(H875=\"\",\"\",G875-H875)","v":-30.000000000000085},"09:30:00","12:30:00"]
[{"$f":"IF(AND(B876=$B$1,K876=\"\"),\"２\",IF(AND(B876=$B$1,K876<>\"\"),\"１\",IF(B876>$B$1,\"３\",\"4\")))","v":"4"},"2017-06-15","h",14,"done!","gmail、yahooメールチェック（午後）",10,{"$f":"IF(OR(J876=\"\",K876=\"\"),\"\",(K876-J876)/TIMEVALUE(\"1:00\")*60)","v":9.9999999999999645},{"$f":"IF(H876=\"\",\"\",G876-H876)","v":3.5527136788005009E-14},"14:00:00","14:10:00"]
[{"$f":"IF(AND(B877=$B$1,K877=\"\"),\"２\",IF(AND(B877=$B$1,K877<>\"\"),\"１\",IF(B877>$B$1,\"３\",\"4\")))","v":"4"},"2017-06-15","h",14,"done!","STCメールチェック対応午後",20,{"$f":"IF(OR(J877=\"\",K877=\"\"),\"\",(K877-J877)/TIMEVALUE(\"1:00\")*60)","v":4.9999999999999822},{"$f":"IF(H877=\"\",\"\",G877-H877)","v":15.000000000000018},"14:10:00","14:15:00"]
[{"$f":"IF(AND(B878=$B$1,K878=\"\"),\"２\",IF(AND(B878=$B$1,K878<>\"\"),\"１\",IF(B878>$B$1,\"３\",\"4\")))","v":"4"},"2017-06-15",null,12,"done!","ルフトから帰宅",80,{"$f":"IF(OR(J878=\"\",K878=\"\"),\"\",(K878-J878)/TIMEVALUE(\"1:00\")*60)","v":59.999999999999943},{"$f":"IF(H878=\"\",\"\",G878-H878)","v":20.000000000000057},"15:00:00","16:00:00"]
[{"$f":"IF(AND(B879=$B$1,K879=\"\"),\"２\",IF(AND(B879=$B$1,K879<>\"\"),\"１\",IF(B879>$B$1,\"３\",\"4\")))","v":"4"},"2017-06-15",null,12,"done!","靴購入",30,{"$f":"IF(OR(J879=\"\",K879=\"\"),\"\",(K879-J879)/TIMEVALUE(\"1:00\")*60)","v":45},{"$f":"IF(H879=\"\",\"\",G879-H879)","v":-15},"16:00:00","16:45:00"]
[{"$f":"IF(AND(B880=$B$1,K880=\"\"),\"２\",IF(AND(B880=$B$1,K880<>\"\"),\"１\",IF(B880>$B$1,\"３\",\"4\")))","v":"4"},"2017-06-15","h",17,"done!","STCメールチェック対応ラスト",20,{"$f":"IF(OR(J880=\"\",K880=\"\"),\"\",(K880-J880)/TIMEVALUE(\"1:00\")*60)","v":56.999999999999957},{"$f":"IF(H880=\"\",\"\",G880-H880)","v":-36.999999999999957},"16:45:00","17:42:00"]
[{"$f":"IF(AND(B881=$B$1,K881=\"\"),\"２\",IF(AND(B881=$B$1,K881<>\"\"),\"１\",IF(B881>$B$1,\"３\",\"4\")))","v":"4"},"2017-06-15","h",17,"done!","gmail、yahooメールチェック（夕方）",10,{"$f":"IF(OR(J881=\"\",K881=\"\"),\"\",(K881-J881)/TIMEVALUE(\"1:00\")*60)","v":4.9999999999998224},{"$f":"IF(H881=\"\",\"\",G881-H881)","v":5.0000000000001776},"17:45:00","17:50:00"]
[{"$f":"IF(AND(B882=$B$1,K882=\"\"),\"２\",IF(AND(B882=$B$1,K882<>\"\"),\"１\",IF(B882>$B$1,\"３\",\"4\")))","v":"4"},"2017-06-15","d",19,"done!","読書",30,{"$f":"IF(OR(J882=\"\",K882=\"\"),\"\",(K882-J882)/TIMEVALUE(\"1:00\")*60)","v":10.000000000000124},{"$f":"IF(H882=\"\",\"\",G882-H882)","v":19.999999999999876},"17:50:00","18:00:00"]
[{"$f":"IF(AND(B883=$B$1,K883=\"\"),\"２\",IF(AND(B883=$B$1,K883<>\"\"),\"１\",IF(B883>$B$1,\"３\",\"4\")))","v":"4"},"2017-06-15","d",19,"done!","夕食、SNSチェック",60,{"$f":"IF(OR(J883=\"\",K883=\"\"),\"\",(K883-J883)/TIMEVALUE(\"1:00\")*60)","v":45},{"$f":"IF(H883=\"\",\"\",G883-H883)","v":15},"20:15:00","21:00:00"]
[{"$f":"IF(AND(B884=$B$1,K884=\"\"),\"２\",IF(AND(B884=$B$1,K884<>\"\"),\"１\",IF(B884>$B$1,\"３\",\"4\")))","v":"4"},"2017-06-15","h",20,"done!","gmail、yahooメールチェック（夜）",10,{"$f":"IF(OR(J884=\"\",K884=\"\"),\"\",(K884-J884)/TIMEVALUE(\"1:00\")*60)","v":4.9999999999999822},{"$f":"IF(H884=\"\",\"\",G884-H884)","v":5.0000000000000178},"21:00:00","21:05:00"]
[{"$f":"IF(AND(B885=$B$1,K885=\"\"),\"２\",IF(AND(B885=$B$1,K885<>\"\"),\"１\",IF(B885>$B$1,\"３\",\"4\")))","v":"4"},"2017-06-15","h",21,"done!","ブログ更新",120,{"$f":"IF(OR(J885=\"\",K885=\"\"),\"\",(K885-J885)/TIMEVALUE(\"1:00\")*60)","v":194.99999999999994},{"$f":"IF(H885=\"\",\"\",G885-H885)","v":-74.999999999999943},"21:05:00",1.0138888888888888]
[{"$f":"IF(AND(B886=$B$1,K886=\"\"),\"２\",IF(AND(B886=$B$1,K886<>\"\"),\"１\",IF(B886>$B$1,\"３\",\"4\")))","v":"4"},"2017-06-16","d",7,"done!","タスク作成",15,{"$f":"IF(OR(J886=\"\",K886=\"\"),\"\",(K886-J886)/TIMEVALUE(\"1:00\")*60)","v":12.999999999999954},{"$f":"IF(H886=\"\",\"\",G886-H886)","v":2.0000000000000462},"07:00:00","07:13:00"]
[{"$f":"IF(AND(B887=$B$1,K887=\"\"),\"２\",IF(AND(B887=$B$1,K887<>\"\"),\"１\",IF(B887>$B$1,\"３\",\"4\")))","v":"4"},"2017-06-16","d",6,"done!","経理処理、交通費記録",15,{"$f":"IF(OR(J887=\"\",K887=\"\"),\"\",(K887-J887)/TIMEVALUE(\"1:00\")*60)","v":0.99999999999999645},{"$f":"IF(H887=\"\",\"\",G887-H887)","v":14.000000000000004},"07:13:00","07:14:00"]
[{"$f":"IF(AND(B888=$B$1,K888=\"\"),\"２\",IF(AND(B888=$B$1,K888<>\"\"),\"１\",IF(B888>$B$1,\"３\",\"4\")))","v":"4"},"2017-06-16","d",6,"done!","朝食、SNSチェック",60,{"$f":"IF(OR(J888=\"\",K888=\"\"),\"\",(K888-J888)/TIMEVALUE(\"1:00\")*60)","v":10.999999999999961},{"$f":"IF(H888=\"\",\"\",G888-H888)","v":49.000000000000043},"07:45:00","07:56:00"]
[{"$f":"IF(AND(B889=$B$1,K889=\"\"),\"２\",IF(AND(B889=$B$1,K889<>\"\"),\"１\",IF(B889>$B$1,\"３\",\"4\")))","v":"4"},"2017-06-16",null,7,"done!","TKCつどい",840,{"$f":"IF(OR(J889=\"\",K889=\"\"),\"\",(K889-J889)/TIMEVALUE(\"1:00\")*60)","v":890},{"$f":"IF(H889=\"\",\"\",G889-H889)","v":-50},"08:40:00","23:30:00"]
[{"$f":"IF(AND(B890=$B$1,K890=\"\"),\"２\",IF(AND(B890=$B$1,K890<>\"\"),\"１\",IF(B890>$B$1,\"３\",\"4\")))","v":"4"},"2017-06-16","h",21,"done!","ブログ更新",120,{"$f":"IF(OR(J890=\"\",K890=\"\"),\"\",(K890-J890)/TIMEVALUE(\"1:00\")*60)","v":90.000000000000156},{"$f":"IF(H890=\"\",\"\",G890-H890)","v":29.999999999999844},"23:30:00",1.0416666666666667]
[{"$f":"IF(AND(B891=$B$1,K891=\"\"),\"２\",IF(AND(B891=$B$1,K891<>\"\"),\"１\",IF(B891>$B$1,\"３\",\"4\")))","v":"4"},"2017-06-19","d",6,"done!","朝食、SNSチェック",60,{"$f":"IF(OR(J891=\"\",K891=\"\"),\"\",(K891-J891)/TIMEVALUE(\"1:00\")*60)","v":44},{"$f":"IF(H891=\"\",\"\",G891-H891)","v":16},"06:45:00","07:29:00"]
[{"$f":"IF(AND(B892=$B$1,K892=\"\"),\"２\",IF(AND(B892=$B$1,K892<>\"\"),\"１\",IF(B892>$B$1,\"３\",\"4\")))","v":"4"},"2017-06-19","d",7,"done!","タスク作成",15,{"$f":"IF(OR(J892=\"\",K892=\"\"),\"\",(K892-J892)/TIMEVALUE(\"1:00\")*60)","v":8.0000000000000515},{"$f":"IF(H892=\"\",\"\",G892-H892)","v":6.9999999999999485},"07:29:00","07:37:00"]
[{"$f":"IF(AND(B893=$B$1,K893=\"\"),\"２\",IF(AND(B893=$B$1,K893<>\"\"),\"１\",IF(B893>$B$1,\"３\",\"4\")))","v":"4"},"2017-06-19","d",6,"done!","経理処理、交通費記録",15,{"$f":"IF(OR(J893=\"\",K893=\"\"),\"\",(K893-J893)/TIMEVALUE(\"1:00\")*60)","v":5.9999999999999787},{"$f":"IF(H893=\"\",\"\",G893-H893)","v":9.0000000000000213},"07:37:00","07:43:00"]
[{"$f":"IF(AND(B894=$B$1,K894=\"\"),\"２\",IF(AND(B894=$B$1,K894<>\"\"),\"１\",IF(B894>$B$1,\"３\",\"4\")))","v":"4"},"2017-06-19",null,7,"done!","ルフト税金計算と連絡",30,{"$f":"IF(OR(J894=\"\",K894=\"\"),\"\",(K894-J894)/TIMEVALUE(\"1:00\")*60)","v":26.999999999999904},{"$f":"IF(H894=\"\",\"\",G894-H894)","v":3.0000000000000959},"07:43:00","08:10:00"]
[{"$f":"IF(AND(B895=$B$1,K895=\"\"),\"２\",IF(AND(B895=$B$1,K895<>\"\"),\"１\",IF(B895>$B$1,\"３\",\"4\")))","v":"4"},"2017-06-19","h",9,"done!","gmail、yahooメールチェック（朝）",20,{"$f":"IF(OR(J895=\"\",K895=\"\"),\"\",(K895-J895)/TIMEVALUE(\"1:00\")*60)","v":15.000000000000027},{"$f":"IF(H895=\"\",\"\",G895-H895)","v":4.9999999999999734},"08:10:00","08:25:00"]
[{"$f":"IF(AND(B896=$B$1,K896=\"\"),\"２\",IF(AND(B896=$B$1,K896<>\"\"),\"１\",IF(B896>$B$1,\"３\",\"4\")))","v":"4"},"2017-06-19",null,9,"done!","TKC打ち合わせ",90,{"$f":"IF(OR(J896=\"\",K896=\"\"),\"\",(K896-J896)/TIMEVALUE(\"1:00\")*60)","v":150.00000000000003},{"$f":"IF(H896=\"\",\"\",G896-H896)","v":-60.000000000000028},"09:40:00","12:10:00"]
[{"$f":"IF(AND(B897=$B$1,K897=\"\"),\"２\",IF(AND(B897=$B$1,K897<>\"\"),\"１\",IF(B897>$B$1,\"３\",\"4\")))","v":"4"},"2017-06-19","h",10,"done!","STCメールチェック対応午前",20,{"$f":"IF(OR(J897=\"\",K897=\"\"),\"\",(K897-J897)/TIMEVALUE(\"1:00\")*60)","v":4.9999999999999822},{"$f":"IF(H897=\"\",\"\",G897-H897)","v":15.000000000000018},"12:10:00","12:15:00"]
[{"$f":"IF(AND(B898=$B$1,K898=\"\"),\"２\",IF(AND(B898=$B$1,K898<>\"\"),\"１\",IF(B898>$B$1,\"３\",\"4\")))","v":"4"},"2017-06-19","h",11,"done!","gmail、yahooメールチェック（午前）",10,{"$f":"IF(OR(J898=\"\",K898=\"\"),\"\",(K898-J898)/TIMEVALUE(\"1:00\")*60)","v":5.0000000000001421},{"$f":"IF(H898=\"\",\"\",G898-H898)","v":4.9999999999998579},"12:15:00","12:20:00"]
[{"$f":"IF(AND(B899=$B$1,K899=\"\"),\"２\",IF(AND(B899=$B$1,K899<>\"\"),\"１\",IF(B899>$B$1,\"３\",\"4\")))","v":"4"},"2017-06-19",null,11,"done!","志師塾へ移動",60,{"$f":"IF(OR(J899=\"\",K899=\"\"),\"\",(K899-J899)/TIMEVALUE(\"1:00\")*60)","v":49.999999999999986},{"$f":"IF(H899=\"\",\"\",G899-H899)","v":10.000000000000014},"12:10:00","13:00:00"]
[{"$f":"IF(AND(B900=$B$1,K900=\"\"),\"２\",IF(AND(B900=$B$1,K900<>\"\"),\"１\",IF(B900>$B$1,\"３\",\"4\")))","v":"4"},"2017-06-19","d",12,"done!","ランチ、SNSチェック",60,{"$f":"IF(OR(J900=\"\",K900=\"\"),\"\",(K900-J900)/TIMEVALUE(\"1:00\")*60)","v":25.000000000000071},{"$f":"IF(H900=\"\",\"\",G900-H900)","v":34.999999999999929},"13:00:00","13:25:00"]
[{"$f":"IF(AND(B901=$B$1,K901=\"\"),\"２\",IF(AND(B901=$B$1,K901<>\"\"),\"１\",IF(B901>$B$1,\"３\",\"4\")))","v":"4"},"2017-06-19","h",14,"done!","gmail、yahooメールチェック（午後）",10,{"$f":"IF(OR(J901=\"\",K901=\"\"),\"\",(K901-J901)/TIMEVALUE(\"1:00\")*60)","v":4.9999999999999822},{"$f":"IF(H901=\"\",\"\",G901-H901)","v":5.0000000000000178},"14:00:00","14:05:00"]
[{"$f":"IF(AND(B902=$B$1,K902=\"\"),\"２\",IF(AND(B902=$B$1,K902<>\"\"),\"１\",IF(B902>$B$1,\"３\",\"4\")))","v":"4"},"2017-06-19","h",14,"done!","STCメールチェック対応午後",20,{"$f":"IF(OR(J902=\"\",K902=\"\"),\"\",(K902-J902)/TIMEVALUE(\"1:00\")*60)","v":0.99999999999999645},{"$f":"IF(H902=\"\",\"\",G902-H902)","v":19.000000000000004},"14:05:00","14:06:00"]
[{"$f":"IF(AND(B903=$B$1,K903=\"\"),\"２\",IF(AND(B903=$B$1,K903<>\"\"),\"１\",IF(B903>$B$1,\"３\",\"4\")))","v":"4"},"2017-06-19",null,14,"done!","志師塾説明会",180,{"$f":"IF(OR(J903=\"\",K903=\"\"),\"\",(K903-J903)/TIMEVALUE(\"1:00\")*60)","v":180},{"$f":"IF(H903=\"\",\"\",G903-H903)","v":0},"13:30:00","16:30:00"]
[{"$f":"IF(AND(B904=$B$1,K904=\"\"),\"２\",IF(AND(B904=$B$1,K904<>\"\"),\"１\",IF(B904>$B$1,\"３\",\"4\")))","v":"4"},"2017-06-19","h",17,"done!","gmail、yahooメールチェック（夕方）",10,{"$f":"IF(OR(J904=\"\",K904=\"\"),\"\",(K904-J904)/TIMEVALUE(\"1:00\")*60)","v":4.9999999999998224},{"$f":"IF(H904=\"\",\"\",G904-H904)","v":5.0000000000001776},"17:00:00","17:05:00"]
[{"$f":"IF(AND(B905=$B$1,K905=\"\"),\"２\",IF(AND(B905=$B$1,K905<>\"\"),\"１\",IF(B905>$B$1,\"３\",\"4\")))","v":"4"},"2017-06-19",null,16,"done!","志師塾から帰宅",60,{"$f":"IF(OR(J905=\"\",K905=\"\"),\"\",(K905-J905)/TIMEVALUE(\"1:00\")*60)","v":90},{"$f":"IF(H905=\"\",\"\",G905-H905)","v":-30},"16:30:00","18:00:00"]
[{"$f":"IF(AND(B906=$B$1,K906=\"\"),\"２\",IF(AND(B906=$B$1,K906<>\"\"),\"１\",IF(B906>$B$1,\"３\",\"4\")))","v":"4"},"2017-06-19","h",17,"done!","STCメールチェック対応ラスト",20,{"$f":"IF(OR(J906=\"\",K906=\"\"),\"\",(K906-J906)/TIMEVALUE(\"1:00\")*60)","v":2.9999999999999893},{"$f":"IF(H906=\"\",\"\",G906-H906)","v":17.000000000000011},"18:00:00","18:03:00"]
[{"$f":"IF(AND(B907=$B$1,K907=\"\"),\"２\",IF(AND(B907=$B$1,K907<>\"\"),\"１\",IF(B907>$B$1,\"３\",\"4\")))","v":"4"},"2017-06-19","d",19,"done!","夕食、SNSチェック",60,{"$f":"IF(OR(J907=\"\",K907=\"\"),\"\",(K907-J907)/TIMEVALUE(\"1:00\")*60)","v":85.000000000000171},{"$f":"IF(H907=\"\",\"\",G907-H907)","v":-25.000000000000171},"20:05:00","21:30:00"]
[{"$f":"IF(AND(B908=$B$1,K908=\"\"),\"２\",IF(AND(B908=$B$1,K908<>\"\"),\"１\",IF(B908>$B$1,\"３\",\"4\")))","v":"4"},"2017-06-19","h",21,"done!","ブログ更新",120,{"$f":"IF(OR(J908=\"\",K908=\"\"),\"\",(K908-J908)/TIMEVALUE(\"1:00\")*60)","v":119.99999999999989},{"$f":"IF(H908=\"\",\"\",G908-H908)","v":1.1368683772161603E-13},"21:30:00","23:30:00"]
[{"$f":"IF(AND(B909=$B$1,K909=\"\"),\"２\",IF(AND(B909=$B$1,K909<>\"\"),\"１\",IF(B909>$B$1,\"３\",\"4\")))","v":"4"},"2017-06-19","h",20,"done!","gmail、yahooメールチェック（夜）",10,{"$f":"IF(OR(J909=\"\",K909=\"\"),\"\",(K909-J909)/TIMEVALUE(\"1:00\")*60)","v":10.000000000000124},{"$f":"IF(H909=\"\",\"\",G909-H909)","v":-1.2434497875801753E-13},"23:30:00","23:40:00"]
[{"$f":"IF(AND(B910=$B$1,K910=\"\"),\"２\",IF(AND(B910=$B$1,K910<>\"\"),\"１\",IF(B910>$B$1,\"３\",\"4\")))","v":"4"},"2017-06-20",null,6,"done!","紗彩送り",30,{"$f":"IF(OR(J910=\"\",K910=\"\"),\"\",(K910-J910)/TIMEVALUE(\"1:00\")*60)","v":30.000000000000053},{"$f":"IF(H910=\"\",\"\",G910-H910)","v":-5.3290705182007514E-14},"07:10:00","07:40:00"]
[{"$f":"IF(AND(B911=$B$1,K911=\"\"),\"２\",IF(AND(B911=$B$1,K911<>\"\"),\"１\",IF(B911>$B$1,\"３\",\"4\")))","v":"4"},"2017-06-20","d",6,"done!","朝食、SNSチェック",60,{"$f":"IF(OR(J911=\"\",K911=\"\"),\"\",(K911-J911)/TIMEVALUE(\"1:00\")*60)","v":74.999999999999972},{"$f":"IF(H911=\"\",\"\",G911-H911)","v":-14.999999999999972},"06:45:00","08:00:00"]
[{"$f":"IF(AND(B912=$B$1,K912=\"\"),\"２\",IF(AND(B912=$B$1,K912<>\"\"),\"１\",IF(B912>$B$1,\"３\",\"4\")))","v":"4"},"2017-06-20","d",7,"done!","タスク作成",15,{"$f":"IF(OR(J912=\"\",K912=\"\"),\"\",(K912-J912)/TIMEVALUE(\"1:00\")*60)","v":8.9999999999998881},{"$f":"IF(H912=\"\",\"\",G912-H912)","v":6.0000000000001119},"08:05:00","08:14:00"]
[{"$f":"IF(AND(B913=$B$1,K913=\"\"),\"２\",IF(AND(B913=$B$1,K913<>\"\"),\"１\",IF(B913>$B$1,\"３\",\"4\")))","v":"4"},"2017-06-20","d",6,"done!","経理処理、交通費記録",15,{"$f":"IF(OR(J913=\"\",K913=\"\"),\"\",(K913-J913)/TIMEVALUE(\"1:00\")*60)","v":1.0000000000000764},{"$f":"IF(H913=\"\",\"\",G913-H913)","v":13.999999999999924},"08:14:00","08:15:00"]
[{"$f":"IF(AND(B914=$B$1,K914=\"\"),\"２\",IF(AND(B914=$B$1,K914<>\"\"),\"１\",IF(B914>$B$1,\"３\",\"4\")))","v":"4"},"2017-06-20","h",9,"done!","gmail、yahooメールチェック（朝）",20,{"$f":"IF(OR(J914=\"\",K914=\"\"),\"\",(K914-J914)/TIMEVALUE(\"1:00\")*60)","v":9.000000000000048},{"$f":"IF(H914=\"\",\"\",G914-H914)","v":10.999999999999952},"08:15:00","08:24:00"]
[{"$f":"IF(AND(B915=$B$1,K915=\"\"),\"２\",IF(AND(B915=$B$1,K915<>\"\"),\"１\",IF(B915>$B$1,\"３\",\"4\")))","v":"4"},"2017-06-20",null,9,"done!","神田税務署連絡（ソートの消費税）",30,{"$f":"IF(OR(J915=\"\",K915=\"\"),\"\",(K915-J915)/TIMEVALUE(\"1:00\")*60)","v":24.999999999999993},{"$f":"IF(H915=\"\",\"\",G915-H915)","v":5.0000000000000071},"08:45:00","09:10:00"]
[{"$f":"IF(AND(B916=$B$1,K916=\"\"),\"２\",IF(AND(B916=$B$1,K916<>\"\"),\"１\",IF(B916>$B$1,\"３\",\"4\")))","v":"4"},"2017-06-20","h",10,"done!","STCメールチェック対応午前",20,{"$f":"IF(OR(J916=\"\",K916=\"\"),\"\",(K916-J916)/TIMEVALUE(\"1:00\")*60)","v":4.9999999999999023},{"$f":"IF(H916=\"\",\"\",G916-H916)","v":15.000000000000098},"11:20:00","11:25:00"]
[{"$f":"IF(AND(B917=$B$1,K917=\"\"),\"２\",IF(AND(B917=$B$1,K917<>\"\"),\"１\",IF(B917>$B$1,\"３\",\"4\")))","v":"4"},"2017-06-20",null,9,"done!","テクノス登記打合せ",120,{"$f":"IF(OR(J917=\"\",K917=\"\"),\"\",(K917-J917)/TIMEVALUE(\"1:00\")*60)","v":132},{"$f":"IF(H917=\"\",\"\",G917-H917)","v":-12},"09:30:00","11:42:00"]
[{"$f":"IF(AND(B918=$B$1,K918=\"\"),\"２\",IF(AND(B918=$B$1,K918<>\"\"),\"１\",IF(B918>$B$1,\"３\",\"4\")))","v":"4"},"2017-06-20","h",11,"done!","gmail、yahooメールチェック（午前）",10,{"$f":"IF(OR(J918=\"\",K918=\"\"),\"\",(K918-J918)/TIMEVALUE(\"1:00\")*60)","v":8.999999999999968},{"$f":"IF(H918=\"\",\"\",G918-H918)","v":1.000000000000032},"11:42:00","11:51:00"]
[{"$f":"IF(AND(B919=$B$1,K919=\"\"),\"２\",IF(AND(B919=$B$1,K919<>\"\"),\"１\",IF(B919>$B$1,\"３\",\"4\")))","v":"4"},"2017-06-20",null,13,"done!","ソート消費税申告書の修正、連絡",30,{"$f":"IF(OR(J919=\"\",K919=\"\"),\"\",(K919-J919)/TIMEVALUE(\"1:00\")*60)","v":39.000000000000099},{"$f":"IF(H919=\"\",\"\",G919-H919)","v":-9.0000000000000995},"11:51:00","12:30:00"]
[{"$f":"IF(AND(B920=$B$1,K920=\"\"),\"２\",IF(AND(B920=$B$1,K920<>\"\"),\"１\",IF(B920>$B$1,\"３\",\"4\")))","v":"4"},"2017-06-20","d",12,"done!","ランチ、SNSチェック",60,{"$f":"IF(OR(J920=\"\",K920=\"\"),\"\",(K920-J920)/TIMEVALUE(\"1:00\")*60)","v":76.999999999999886},{"$f":"IF(H920=\"\",\"\",G920-H920)","v":-16.999999999999886},"12:30:00","13:47:00"]
[{"$f":"IF(AND(B921=$B$1,K921=\"\"),\"２\",IF(AND(B921=$B$1,K921<>\"\"),\"１\",IF(B921>$B$1,\"３\",\"4\")))","v":"4"},"2017-06-20","h",14,"done!","STCメールチェック対応午後",20,{"$f":"IF(OR(J921=\"\",K921=\"\"),\"\",(K921-J921)/TIMEVALUE(\"1:00\")*60)","v":11.999999999999957},{"$f":"IF(H921=\"\",\"\",G921-H921)","v":8.0000000000000426},"13:47:00","13:59:00"]
[{"$f":"IF(AND(B922=$B$1,K922=\"\"),\"２\",IF(AND(B922=$B$1,K922<>\"\"),\"１\",IF(B922>$B$1,\"３\",\"4\")))","v":"4"},"2017-06-20","h",14,"done!","gmail、yahooメールチェック（午後）",10,{"$f":"IF(OR(J922=\"\",K922=\"\"),\"\",(K922-J922)/TIMEVALUE(\"1:00\")*60)","v":1.0000000000001563},{"$f":"IF(H922=\"\",\"\",G922-H922)","v":8.9999999999998437},"13:59:00","14:00:00"]
[{"$f":"IF(AND(B923=$B$1,K923=\"\"),\"２\",IF(AND(B923=$B$1,K923<>\"\"),\"１\",IF(B923>$B$1,\"３\",\"4\")))","v":"4"},"2017-06-20",null,13,"done!","神田税務署に連絡、fax",20,{"$f":"IF(OR(J923=\"\",K923=\"\"),\"\",(K923-J923)/TIMEVALUE(\"1:00\")*60)","v":112.99999999999991},{"$f":"IF(H923=\"\",\"\",G923-H923)","v":-92.999999999999915},"14:00:00","15:53:00"]
[{"$f":"IF(AND(B924=$B$1,K924=\"\"),\"２\",IF(AND(B924=$B$1,K924<>\"\"),\"１\",IF(B924>$B$1,\"３\",\"4\")))","v":"4"},"2017-06-20",null,14,"done!","トレーニング",80,{"$f":"IF(OR(J924=\"\",K924=\"\"),\"\",(K924-J924)/TIMEVALUE(\"1:00\")*60)","v":75.999999999999886},{"$f":"IF(H924=\"\",\"\",G924-H924)","v":4.0000000000001137},"16:40:00","17:56:00"]
[{"$f":"IF(AND(B925=$B$1,K925=\"\"),\"２\",IF(AND(B925=$B$1,K925<>\"\"),\"１\",IF(B925>$B$1,\"３\",\"4\")))","v":"4"},"2017-06-20","h",17,"done!","gmail、yahooメールチェック（夕方）",10,{"$f":"IF(OR(J925=\"\",K925=\"\"),\"\",(K925-J925)/TIMEVALUE(\"1:00\")*60)","v":3.9999999999999858},{"$f":"IF(H925=\"\",\"\",G925-H925)","v":6.0000000000000142},"17:56:00","18:00:00"]
[{"$f":"IF(AND(B926=$B$1,K926=\"\"),\"２\",IF(AND(B926=$B$1,K926<>\"\"),\"１\",IF(B926>$B$1,\"３\",\"4\")))","v":"4"},"2017-06-20","h",17,"done!","STCメールチェック対応ラスト",20,{"$f":"IF(OR(J926=\"\",K926=\"\"),\"\",(K926-J926)/TIMEVALUE(\"1:00\")*60)","v":2.0000000000001528},{"$f":"IF(H926=\"\",\"\",G926-H926)","v":17.999999999999847},"18:00:00","18:02:00"]
[{"$f":"IF(AND(B927=$B$1,K927=\"\"),\"２\",IF(AND(B927=$B$1,K927<>\"\"),\"１\",IF(B927>$B$1,\"３\",\"4\")))","v":"4"},"2017-06-20","d",19,"done!","夕食、SNSチェック",60,{"$f":"IF(OR(J927=\"\",K927=\"\"),\"\",(K927-J927)/TIMEVALUE(\"1:00\")*60)","v":30.000000000000053},{"$f":"IF(H927=\"\",\"\",G927-H927)","v":29.999999999999947},"20:55:00","21:25:00"]
[{"$f":"IF(AND(B928=$B$1,K928=\"\"),\"２\",IF(AND(B928=$B$1,K928<>\"\"),\"１\",IF(B928>$B$1,\"３\",\"4\")))","v":"4"},"2017-06-20",null,22,"done!","紗彩迎え",25,{"$f":"IF(OR(J928=\"\",K928=\"\"),\"\",(K928-J928)/TIMEVALUE(\"1:00\")*60)","v":19.999999999999929},{"$f":"IF(H928=\"\",\"\",G928-H928)","v":5.0000000000000711},"22:15:00","22:35:00"]
[{"$f":"IF(AND(B929=$B$1,K929=\"\"),\"２\",IF(AND(B929=$B$1,K929<>\"\"),\"１\",IF(B929>$B$1,\"３\",\"4\")))","v":"4"},"2017-06-20","h",20,"done!","gmail、yahooメールチェック（夜）",10,{"$f":"IF(OR(J929=\"\",K929=\"\"),\"\",(K929-J929)/TIMEVALUE(\"1:00\")*60)","v":5.0000000000001421},{"$f":"IF(H929=\"\",\"\",G929-H929)","v":4.9999999999998579},"23:05:00","23:10:00"]
[{"$f":"IF(AND(B930=$B$1,K930=\"\"),\"２\",IF(AND(B930=$B$1,K930<>\"\"),\"１\",IF(B930>$B$1,\"３\",\"4\")))","v":"4"},"2017-06-20","h",21,"done!","ブログ更新",120,{"$f":"IF(OR(J930=\"\",K930=\"\"),\"\",(K930-J930)/TIMEVALUE(\"1:00\")*60)","v":310},{"$f":"IF(H930=\"\",\"\",G930-H930)","v":-190},"18:00:00","23:10:00"]
[{"$f":"IF(AND(B931=$B$1,K931=\"\"),\"２\",IF(AND(B931=$B$1,K931<>\"\"),\"１\",IF(B931>$B$1,\"３\",\"4\")))","v":"4"},"2017-06-21","d",6,"done!","朝食、SNSチェック",60,{"$f":"IF(OR(J931=\"\",K931=\"\"),\"\",(K931-J931)/TIMEVALUE(\"1:00\")*60)","v":34.999999999999957},{"$f":"IF(H931=\"\",\"\",G931-H931)","v":25.000000000000043},"06:10:00","06:45:00"]
[{"$f":"IF(AND(B932=$B$1,K932=\"\"),\"２\",IF(AND(B932=$B$1,K932<>\"\"),\"１\",IF(B932>$B$1,\"３\",\"4\")))","v":"4"},"2017-06-21",null,6,"done!","STCへ移動",90,{"$f":"IF(OR(J932=\"\",K932=\"\"),\"\",(K932-J932)/TIMEVALUE(\"1:00\")*60)","v":91.000000000000071},{"$f":"IF(H932=\"\",\"\",G932-H932)","v":-1.0000000000000711},"06:45:00","08:16:00"]
[{"$f":"IF(AND(B933=$B$1,K933=\"\"),\"２\",IF(AND(B933=$B$1,K933<>\"\"),\"１\",IF(B933>$B$1,\"３\",\"4\")))","v":"4"},"2017-06-21","d",7,"done!","タスク作成",15,{"$f":"IF(OR(J933=\"\",K933=\"\"),\"\",(K933-J933)/TIMEVALUE(\"1:00\")*60)","v":3.9999999999999858},{"$f":"IF(H933=\"\",\"\",G933-H933)","v":11.000000000000014},"08:16:00","08:20:00"]
[{"$f":"IF(AND(B934=$B$1,K934=\"\"),\"２\",IF(AND(B934=$B$1,K934<>\"\"),\"１\",IF(B934>$B$1,\"３\",\"4\")))","v":"4"},"2017-06-21","h",9,"done!","gmail、yahooメールチェック（朝）",20,{"$f":"IF(OR(J934=\"\",K934=\"\"),\"\",(K934-J934)/TIMEVALUE(\"1:00\")*60)","v":16.99999999999994},{"$f":"IF(H934=\"\",\"\",G934-H934)","v":3.0000000000000604},"08:20:00","08:37:00"]
[{"$f":"IF(AND(B935=$B$1,K935=\"\"),\"２\",IF(AND(B935=$B$1,K935<>\"\"),\"１\",IF(B935>$B$1,\"３\",\"4\")))","v":"4"},"2017-06-21",null,9,"done!","ルフトに関係会社間取引の資料送付",20,{"$f":"IF(OR(J935=\"\",K935=\"\"),\"\",(K935-J935)/TIMEVALUE(\"1:00\")*60)","v":32.999999999999964},{"$f":"IF(H935=\"\",\"\",G935-H935)","v":-12.999999999999964},"08:37:00","09:10:00"]
[{"$f":"IF(AND(B936=$B$1,K936=\"\"),\"２\",IF(AND(B936=$B$1,K936<>\"\"),\"１\",IF(B936>$B$1,\"３\",\"4\")))","v":"4"},"2017-06-21",null,10,"done!","監査法人決算事前打ち合わせ",60,{"$f":"IF(OR(J936=\"\",K936=\"\"),\"\",(K936-J936)/TIMEVALUE(\"1:00\")*60)","v":35.000000000000036},{"$f":"IF(H936=\"\",\"\",G936-H936)","v":24.999999999999964},"10:00:00","10:35:00"]
[{"$f":"IF(AND(B937=$B$1,K937=\"\"),\"２\",IF(AND(B937=$B$1,K937<>\"\"),\"１\",IF(B937>$B$1,\"３\",\"4\")))","v":"4"},"2017-06-21",null,9,"done!","ルフト財務諸表チェック",60,{"$f":"IF(OR(J937=\"\",K937=\"\"),\"\",(K937-J937)/TIMEVALUE(\"1:00\")*60)","v":39.999999999999936},{"$f":"IF(H937=\"\",\"\",G937-H937)","v":20.000000000000064},"10:35:00","11:15:00"]
[{"$f":"IF(AND(B938=$B$1,K938=\"\"),\"２\",IF(AND(B938=$B$1,K938<>\"\"),\"１\",IF(B938>$B$1,\"３\",\"4\")))","v":"4"},"2017-06-21",null,11,"done!","森田さん打ち合わせ（経営戦略の件）",20,{"$f":"IF(OR(J938=\"\",K938=\"\"),\"\",(K938-J938)/TIMEVALUE(\"1:00\")*60)","v":29.999999999999972},{"$f":"IF(H938=\"\",\"\",G938-H938)","v":-9.9999999999999716},"11:15:00","11:45:00"]
[{"$f":"IF(AND(B939=$B$1,K939=\"\"),\"２\",IF(AND(B939=$B$1,K939<>\"\"),\"１\",IF(B939>$B$1,\"３\",\"4\")))","v":"4"},"2017-06-21","h",11,"done!","gmail、yahooメールチェック（午前）",10,{"$f":"IF(OR(J939=\"\",K939=\"\"),\"\",(K939-J939)/TIMEVALUE(\"1:00\")*60)","v":5.0000000000000622},{"$f":"IF(H939=\"\",\"\",G939-H939)","v":4.9999999999999378},"11:45:00","11:50:00"]
[{"$f":"IF(AND(B940=$B$1,K940=\"\"),\"２\",IF(AND(B940=$B$1,K940<>\"\"),\"１\",IF(B940>$B$1,\"３\",\"4\")))","v":"4"},"2017-06-21","d",12,"done!","ランチ、SNSチェック",60,{"$f":"IF(OR(J940=\"\",K940=\"\"),\"\",(K940-J940)/TIMEVALUE(\"1:00\")*60)","v":40.000000000000014},{"$f":"IF(H940=\"\",\"\",G940-H940)","v":19.999999999999986},"12:00:00","12:40:00"]
[{"$f":"IF(AND(B941=$B$1,K941=\"\"),\"２\",IF(AND(B941=$B$1,K941<>\"\"),\"１\",IF(B941>$B$1,\"３\",\"4\")))","v":"4"},"2017-06-21","h",14,"done!","gmail、yahooメールチェック（午後）",10,{"$f":"IF(OR(J941=\"\",K941=\"\"),\"\",(K941-J941)/TIMEVALUE(\"1:00\")*60)","v":4.9999999999999822},{"$f":"IF(H941=\"\",\"\",G941-H941)","v":5.0000000000000178},"14:00:00","14:05:00"]
[{"$f":"IF(AND(B942=$B$1,K942=\"\"),\"２\",IF(AND(B942=$B$1,K942<>\"\"),\"１\",IF(B942>$B$1,\"３\",\"4\")))","v":"4"},"2017-06-21",null,14,"done!","STCメールチェック",10,{"$f":"IF(OR(J942=\"\",K942=\"\"),\"\",(K942-J942)/TIMEVALUE(\"1:00\")*60)","v":0.99999999999999645},{"$f":"IF(H942=\"\",\"\",G942-H942)","v":9.0000000000000036},"14:05:00","14:06:00"]
[{"$f":"IF(AND(B943=$B$1,K943=\"\"),\"２\",IF(AND(B943=$B$1,K943<>\"\"),\"１\",IF(B943>$B$1,\"３\",\"4\")))","v":"4"},"2017-06-21","h",17,"done!","gmail、yahooメールチェック（夕方）",10,{"$f":"IF(OR(J943=\"\",K943=\"\"),\"\",(K943-J943)/TIMEVALUE(\"1:00\")*60)","v":2.9999999999998295},{"$f":"IF(H943=\"\",\"\",G943-H943)","v":7.0000000000001705},"17:10:00","17:13:00"]
[{"$f":"IF(AND(B944=$B$1,K944=\"\"),\"２\",IF(AND(B944=$B$1,K944<>\"\"),\"１\",IF(B944>$B$1,\"３\",\"4\")))","v":"4"},"2017-06-21",null,17,"done!","STCメールチェック",10,{"$f":"IF(OR(J944=\"\",K944=\"\"),\"\",(K944-J944)/TIMEVALUE(\"1:00\")*60)","v":2.0000000000001528},{"$f":"IF(H944=\"\",\"\",G944-H944)","v":7.9999999999998472},"17:13:00","17:15:00"]
[{"$f":"IF(AND(B945=$B$1,K945=\"\"),\"２\",IF(AND(B945=$B$1,K945<>\"\"),\"１\",IF(B945>$B$1,\"３\",\"4\")))","v":"4"},"2017-06-21",null,13,"done!","名南ｾﾐﾅｰ",270,{"$f":"IF(OR(J945=\"\",K945=\"\"),\"\",(K945-J945)/TIMEVALUE(\"1:00\")*60)","v":410},{"$f":"IF(H945=\"\",\"\",G945-H945)","v":-140},"12:40:00","19:30:00"]
[{"$f":"IF(AND(B946=$B$1,K946=\"\"),\"２\",IF(AND(B946=$B$1,K946<>\"\"),\"１\",IF(B946>$B$1,\"３\",\"4\")))","v":"4"},"2017-06-21",null,17,"done!","ｾﾐﾅｰから帰宅",90,{"$f":"IF(OR(J946=\"\",K946=\"\"),\"\",(K946-J946)/TIMEVALUE(\"1:00\")*60)","v":72.999999999999901},{"$f":"IF(H946=\"\",\"\",G946-H946)","v":17.000000000000099},"19:30:00","20:43:00"]
[{"$f":"IF(AND(B947=$B$1,K947=\"\"),\"２\",IF(AND(B947=$B$1,K947<>\"\"),\"１\",IF(B947>$B$1,\"３\",\"4\")))","v":"4"},"2017-06-21","h",20,"done!","gmail、yahooメールチェック（夜）",10,{"$f":"IF(OR(J947=\"\",K947=\"\"),\"\",(K947-J947)/TIMEVALUE(\"1:00\")*60)","v":1.0000000000001563},{"$f":"IF(H947=\"\",\"\",G947-H947)","v":8.9999999999998437},"20:43:00","20:44:00"]
[{"$f":"IF(AND(B948=$B$1,K948=\"\"),\"２\",IF(AND(B948=$B$1,K948<>\"\"),\"１\",IF(B948>$B$1,\"３\",\"4\")))","v":"4"},"2017-06-21","d",19,"done!","夕食、SNSチェック",60,{"$f":"IF(OR(J948=\"\",K948=\"\"),\"\",(K948-J948)/TIMEVALUE(\"1:00\")*60)","v":23.999999999999915},{"$f":"IF(H948=\"\",\"\",G948-H948)","v":36.000000000000085},"21:10:00","21:34:00"]
[{"$f":"IF(AND(B949=$B$1,K949=\"\"),\"２\",IF(AND(B949=$B$1,K949<>\"\"),\"１\",IF(B949>$B$1,\"３\",\"4\")))","v":"4"},"2017-06-21","h",21,"done!","ブログ更新",120,{"$f":"IF(OR(J949=\"\",K949=\"\"),\"\",(K949-J949)/TIMEVALUE(\"1:00\")*60)","v":145.99999999999997},{"$f":"IF(H949=\"\",\"\",G949-H949)","v":-25.999999999999972},"21:34:00",1]
[{"$f":"IF(AND(B950=$B$1,K950=\"\"),\"２\",IF(AND(B950=$B$1,K950<>\"\"),\"１\",IF(B950>$B$1,\"３\",\"4\")))","v":"4"},"2017-06-22","d",6,"done!","朝食、SNSチェック",60,{"$f":"IF(OR(J950=\"\",K950=\"\"),\"\",(K950-J950)/TIMEVALUE(\"1:00\")*60)","v":53.00000000000005},{"$f":"IF(H950=\"\",\"\",G950-H950)","v":6.9999999999999503},"07:25:00","08:18:00"]
[{"$f":"IF(AND(B951=$B$1,K951=\"\"),\"２\",IF(AND(B951=$B$1,K951<>\"\"),\"１\",IF(B951>$B$1,\"３\",\"4\")))","v":"4"},"2017-06-22","d",7,"done!","タスク作成",15,{"$f":"IF(OR(J951=\"\",K951=\"\"),\"\",(K951-J951)/TIMEVALUE(\"1:00\")*60)","v":5.9999999999999787},{"$f":"IF(H951=\"\",\"\",G951-H951)","v":9.0000000000000213},"08:18:00","08:24:00"]
[{"$f":"IF(AND(B952=$B$1,K952=\"\"),\"２\",IF(AND(B952=$B$1,K952<>\"\"),\"１\",IF(B952>$B$1,\"３\",\"4\")))","v":"4"},"2017-06-22","d",6,"done!","経理処理、交通費記録",15,{"$f":"IF(OR(J952=\"\",K952=\"\"),\"\",(K952-J952)/TIMEVALUE(\"1:00\")*60)","v":11.999999999999957},{"$f":"IF(H952=\"\",\"\",G952-H952)","v":3.0000000000000426},"08:24:00","08:36:00"]
[{"$f":"IF(AND(B953=$B$1,K953=\"\"),\"２\",IF(AND(B953=$B$1,K953<>\"\"),\"１\",IF(B953>$B$1,\"３\",\"4\")))","v":"4"},"2017-06-22",null,8,"done!","西村さんメール",5,{"$f":"IF(OR(J953=\"\",K953=\"\"),\"\",(K953-J953)/TIMEVALUE(\"1:00\")*60)","v":18.000000000000014},{"$f":"IF(H953=\"\",\"\",G953-H953)","v":-13.000000000000014},"08:36:00","08:54:00"]
[{"$f":"IF(AND(B954=$B$1,K954=\"\"),\"２\",IF(AND(B954=$B$1,K954<>\"\"),\"１\",IF(B954>$B$1,\"３\",\"4\")))","v":"4"},"2017-06-22","h",9,"done!","gmail、yahooメールチェック（朝）",20,{"$f":"IF(OR(J954=\"\",K954=\"\"),\"\",(K954-J954)/TIMEVALUE(\"1:00\")*60)","v":21.000000000000007},{"$f":"IF(H954=\"\",\"\",G954-H954)","v":-1.0000000000000071},"08:54:00","09:15:00"]
[{"$f":"IF(AND(B955=$B$1,K955=\"\"),\"２\",IF(AND(B955=$B$1,K955<>\"\"),\"１\",IF(B955>$B$1,\"３\",\"4\")))","v":"4"},"2017-06-22",null,8,"done!","ソート固定資産台帳の更新",30,{"$f":"IF(OR(J955=\"\",K955=\"\"),\"\",(K955-J955)/TIMEVALUE(\"1:00\")*60)","v":37.999999999999943},{"$f":"IF(H955=\"\",\"\",G955-H955)","v":-7.9999999999999432},"09:15:00","09:53:00"]
[{"$f":"IF(AND(B956=$B$1,K956=\"\"),\"２\",IF(AND(B956=$B$1,K956<>\"\"),\"１\",IF(B956>$B$1,\"３\",\"4\")))","v":"4"},"2017-06-22","h",10,"done!","STCメールチェック対応午前",20,{"$f":"IF(OR(J956=\"\",K956=\"\"),\"\",(K956-J956)/TIMEVALUE(\"1:00\")*60)","v":1.9999999999999929},{"$f":"IF(H956=\"\",\"\",G956-H956)","v":18.000000000000007},"09:53:00","09:55:00"]
[{"$f":"IF(AND(B957=$B$1,K957=\"\"),\"２\",IF(AND(B957=$B$1,K957<>\"\"),\"１\",IF(B957>$B$1,\"３\",\"4\")))","v":"4"},"2017-06-22","h",11,"done!","gmail、yahooメールチェック（午前）",10,{"$f":"IF(OR(J957=\"\",K957=\"\"),\"\",(K957-J957)/TIMEVALUE(\"1:00\")*60)","v":5.0000000000000622},{"$f":"IF(H957=\"\",\"\",G957-H957)","v":4.9999999999999378},"11:00:00","11:05:00"]
[{"$f":"IF(AND(B958=$B$1,K958=\"\"),\"２\",IF(AND(B958=$B$1,K958<>\"\"),\"１\",IF(B958>$B$1,\"３\",\"4\")))","v":"4"},"2017-06-22",null,10,"done!","行田へ移動",80,{"$f":"IF(OR(J958=\"\",K958=\"\"),\"\",(K958-J958)/TIMEVALUE(\"1:00\")*60)","v":89.999999999999915},{"$f":"IF(H958=\"\",\"\",G958-H958)","v":-9.9999999999999147},"10:45:00","12:15:00"]
[{"$f":"IF(AND(B959=$B$1,K959=\"\"),\"２\",IF(AND(B959=$B$1,K959<>\"\"),\"１\",IF(B959>$B$1,\"３\",\"4\")))","v":"4"},"2017-06-22","d",12,"done!","ランチ、SNSチェック",60,{"$f":"IF(OR(J959=\"\",K959=\"\"),\"\",(K959-J959)/TIMEVALUE(\"1:00\")*60)","v":90},{"$f":"IF(H959=\"\",\"\",G959-H959)","v":-30},"12:15:00","13:45:00"]
[{"$f":"IF(AND(B960=$B$1,K960=\"\"),\"２\",IF(AND(B960=$B$1,K960<>\"\"),\"１\",IF(B960>$B$1,\"３\",\"4\")))","v":"4"},"2017-06-22",null,13,"done!","行田から帰宅",80,{"$f":"IF(OR(J960=\"\",K960=\"\"),\"\",(K960-J960)/TIMEVALUE(\"1:00\")*60)","v":105.00000000000011},{"$f":"IF(H960=\"\",\"\",G960-H960)","v":-25.000000000000114},"13:45:00","15:30:00"]
[{"$f":"IF(AND(B961=$B$1,K961=\"\"),\"２\",IF(AND(B961=$B$1,K961<>\"\"),\"１\",IF(B961>$B$1,\"３\",\"4\")))","v":"4"},"2017-06-22","h",14,"done!","gmail、yahooメールチェック（午後）",10,{"$f":"IF(OR(J961=\"\",K961=\"\"),\"\",(K961-J961)/TIMEVALUE(\"1:00\")*60)","v":4.9999999999999822},{"$f":"IF(H961=\"\",\"\",G961-H961)","v":5.0000000000000178},"15:30:00","15:35:00"]
[{"$f":"IF(AND(B962=$B$1,K962=\"\"),\"２\",IF(AND(B962=$B$1,K962<>\"\"),\"１\",IF(B962>$B$1,\"３\",\"4\")))","v":"4"},"2017-06-22","h",14,"done!","STCメールチェック対応午後",20,{"$f":"IF(OR(J962=\"\",K962=\"\"),\"\",(K962-J962)/TIMEVALUE(\"1:00\")*60)","v":33.999999999999879},{"$f":"IF(H962=\"\",\"\",G962-H962)","v":-13.999999999999879},"15:35:00","16:09:00"]
[{"$f":"IF(AND(B963=$B$1,K963=\"\"),\"２\",IF(AND(B963=$B$1,K963<>\"\"),\"１\",IF(B963>$B$1,\"３\",\"4\")))","v":"4"},"2017-06-22","h",17,"done!","gmail、yahooメールチェック（夕方）",10,{"$f":"IF(OR(J963=\"\",K963=\"\"),\"\",(K963-J963)/TIMEVALUE(\"1:00\")*60)","v":10.999999999999961},{"$f":"IF(H963=\"\",\"\",G963-H963)","v":-0.99999999999996092},"16:30:00","16:41:00"]
[{"$f":"IF(AND(B964=$B$1,K964=\"\"),\"２\",IF(AND(B964=$B$1,K964<>\"\"),\"１\",IF(B964>$B$1,\"３\",\"4\")))","v":"4"},"2017-06-22","h",17,"done!","STCメールチェック対応ラスト",20,{"$f":"IF(OR(J964=\"\",K964=\"\"),\"\",(K964-J964)/TIMEVALUE(\"1:00\")*60)","v":4.9999999999999822},{"$f":"IF(H964=\"\",\"\",G964-H964)","v":15.000000000000018},"18:00:00","18:05:00"]
[{"$f":"IF(AND(B965=$B$1,K965=\"\"),\"２\",IF(AND(B965=$B$1,K965<>\"\"),\"１\",IF(B965>$B$1,\"３\",\"4\")))","v":"4"},"2017-06-22",null,18,"done!","drop",90,{"$f":"IF(OR(J965=\"\",K965=\"\"),\"\",(K965-J965)/TIMEVALUE(\"1:00\")*60)","v":90},{"$f":"IF(H965=\"\",\"\",G965-H965)","v":0},"18:15:00","19:45:00"]
[{"$f":"IF(AND(B966=$B$1,K966=\"\"),\"２\",IF(AND(B966=$B$1,K966<>\"\"),\"１\",IF(B966>$B$1,\"３\",\"4\")))","v":"4"},"2017-06-22","h",20,"done!","gmail、yahooメールチェック（夜）",10,{"$f":"IF(OR(J966=\"\",K966=\"\"),\"\",(K966-J966)/TIMEVALUE(\"1:00\")*60)","v":4.9999999999998224},{"$f":"IF(H966=\"\",\"\",G966-H966)","v":5.0000000000001776},"20:00:00","20:05:00"]
[{"$f":"IF(AND(B967=$B$1,K967=\"\"),\"２\",IF(AND(B967=$B$1,K967<>\"\"),\"１\",IF(B967>$B$1,\"３\",\"4\")))","v":"4"},"2017-06-22","d",19,"done!","夕食、SNSチェック",60,{"$f":"IF(OR(J967=\"\",K967=\"\"),\"\",(K967-J967)/TIMEVALUE(\"1:00\")*60)","v":59.999999999999943},{"$f":"IF(H967=\"\",\"\",G967-H967)","v":5.6843418860808015E-14},"20:15:00","21:15:00"]
[{"$f":"IF(AND(B968=$B$1,K968=\"\"),\"２\",IF(AND(B968=$B$1,K968<>\"\"),\"１\",IF(B968>$B$1,\"３\",\"4\")))","v":"4"},"2017-06-22","h",21,"done!","ブログ更新",120,{"$f":"IF(OR(J968=\"\",K968=\"\"),\"\",(K968-J968)/TIMEVALUE(\"1:00\")*60)","v":111.00000000000009},{"$f":"IF(H968=\"\",\"\",G968-H968)","v":8.9999999999999147},"21:15:00","23:06:00"]
[{"$f":"IF(AND(B969=$B$1,K969=\"\"),\"２\",IF(AND(B969=$B$1,K969<>\"\"),\"１\",IF(B969>$B$1,\"３\",\"4\")))","v":"4"},"2017-06-23","d",6,"done!","朝食、SNSチェック",60,{"$f":"IF(OR(J969=\"\",K969=\"\"),\"\",(K969-J969)/TIMEVALUE(\"1:00\")*60)","v":34.999999999999957},{"$f":"IF(H969=\"\",\"\",G969-H969)","v":25.000000000000043},"06:10:00","06:45:00"]
[{"$f":"IF(AND(B970=$B$1,K970=\"\"),\"２\",IF(AND(B970=$B$1,K970<>\"\"),\"１\",IF(B970>$B$1,\"３\",\"4\")))","v":"4"},"2017-06-23",null,6,"done!","STCへ移動",90,{"$f":"IF(OR(J970=\"\",K970=\"\"),\"\",(K970-J970)/TIMEVALUE(\"1:00\")*60)","v":88.999999999999929},{"$f":"IF(H970=\"\",\"\",G970-H970)","v":1.0000000000000711},"06:45:00","08:14:00"]
[{"$f":"IF(AND(B971=$B$1,K971=\"\"),\"２\",IF(AND(B971=$B$1,K971<>\"\"),\"１\",IF(B971>$B$1,\"３\",\"4\")))","v":"4"},"2017-06-23","d",7,"done!","タスク作成",15,{"$f":"IF(OR(J971=\"\",K971=\"\"),\"\",(K971-J971)/TIMEVALUE(\"1:00\")*60)","v":9.000000000000048},{"$f":"IF(H971=\"\",\"\",G971-H971)","v":5.999999999999952},"08:14:00","08:23:00"]
[{"$f":"IF(AND(B972=$B$1,K972=\"\"),\"２\",IF(AND(B972=$B$1,K972<>\"\"),\"１\",IF(B972>$B$1,\"３\",\"4\")))","v":"4"},"2017-06-23","h",9,"done!","gmail、yahooメールチェック（朝）",20,{"$f":"IF(OR(J972=\"\",K972=\"\"),\"\",(K972-J972)/TIMEVALUE(\"1:00\")*60)","v":12.000000000000037},{"$f":"IF(H972=\"\",\"\",G972-H972)","v":7.9999999999999627},"08:23:00","08:35:00"]
[{"$f":"IF(AND(B973=$B$1,K973=\"\"),\"２\",IF(AND(B973=$B$1,K973<>\"\"),\"１\",IF(B973>$B$1,\"３\",\"4\")))","v":"4"},"2017-06-23",null,8,"done!","STS打合せ準備",15,{"$f":"IF(OR(J973=\"\",K973=\"\"),\"\",(K973-J973)/TIMEVALUE(\"1:00\")*60)","v":15.000000000000027},{"$f":"IF(H973=\"\",\"\",G973-H973)","v":-2.6645352591003757E-14},"08:35:00","08:50:00"]
[{"$f":"IF(AND(B974=$B$1,K974=\"\"),\"２\",IF(AND(B974=$B$1,K974<>\"\"),\"１\",IF(B974>$B$1,\"３\",\"4\")))","v":"4"},"2017-06-23",null,9,"done!","STS会議",150,{"$f":"IF(OR(J974=\"\",K974=\"\"),\"\",(K974-J974)/TIMEVALUE(\"1:00\")*60)","v":123.00000000000004},{"$f":"IF(H974=\"\",\"\",G974-H974)","v":26.999999999999957},"09:30:00","11:33:00"]
[{"$f":"IF(AND(B975=$B$1,K975=\"\"),\"２\",IF(AND(B975=$B$1,K975<>\"\"),\"１\",IF(B975>$B$1,\"３\",\"4\")))","v":"4"},"2017-06-23","h",11,"done!","gmail、yahooメールチェック（午前）",10,{"$f":"IF(OR(J975=\"\",K975=\"\"),\"\",(K975-J975)/TIMEVALUE(\"1:00\")*60)","v":6.9999999999999751},{"$f":"IF(H975=\"\",\"\",G975-H975)","v":3.0000000000000249},"11:33:00","11:40:00"]
[{"$f":"IF(AND(B976=$B$1,K976=\"\"),\"２\",IF(AND(B976=$B$1,K976<>\"\"),\"１\",IF(B976>$B$1,\"３\",\"4\")))","v":"4"},"2017-06-23","d",12,"done!","ランチ、SNSチェック",60,{"$f":"IF(OR(J976=\"\",K976=\"\"),\"\",(K976-J976)/TIMEVALUE(\"1:00\")*60)","v":50.000000000000064},{"$f":"IF(H976=\"\",\"\",G976-H976)","v":9.9999999999999361},"11:40:00","12:30:00"]
[{"$f":"IF(AND(B977=$B$1,K977=\"\"),\"２\",IF(AND(B977=$B$1,K977<>\"\"),\"１\",IF(B977>$B$1,\"３\",\"4\")))","v":"4"},"2017-06-23",null,12,"done!","グリッジのネタ選定",20,{"$f":"IF(OR(J977=\"\",K977=\"\"),\"\",(K977-J977)/TIMEVALUE(\"1:00\")*60)","v":19.000000000000092},{"$f":"IF(H977=\"\",\"\",G977-H977)","v":0.99999999999990763},"13:00:00","13:19:00"]
[{"$f":"IF(AND(B978=$B$1,K978=\"\"),\"２\",IF(AND(B978=$B$1,K978<>\"\"),\"１\",IF(B978>$B$1,\"３\",\"4\")))","v":"4"},"2017-06-23",null,14,"done!","経営戦略　大谷さん、新谷さん打ち合わせ",60,{"$f":"IF(OR(J978=\"\",K978=\"\"),\"\",(K978-J978)/TIMEVALUE(\"1:00\")*60)","v":49.999999999999986},{"$f":"IF(H978=\"\",\"\",G978-H978)","v":10.000000000000014},"14:00:00","14:50:00"]
[{"$f":"IF(AND(B979=$B$1,K979=\"\"),\"２\",IF(AND(B979=$B$1,K979<>\"\"),\"１\",IF(B979>$B$1,\"３\",\"4\")))","v":"4"},"2017-06-23",null,13,"done!","森田さん打ち合わせ　フリーマン",30,{"$f":"IF(OR(J979=\"\",K979=\"\"),\"\",(K979-J979)/TIMEVALUE(\"1:00\")*60)","v":25.000000000000071},{"$f":"IF(H979=\"\",\"\",G979-H979)","v":4.9999999999999289},"15:15:00","15:40:00"]
[{"$f":"IF(AND(B980=$B$1,K980=\"\"),\"２\",IF(AND(B980=$B$1,K980<>\"\"),\"１\",IF(B980>$B$1,\"３\",\"4\")))","v":"4"},"2017-06-23","h",14,"done!","gmail、yahooメールチェック（午後）",10,{"$f":"IF(OR(J980=\"\",K980=\"\"),\"\",(K980-J980)/TIMEVALUE(\"1:00\")*60)","v":4.9999999999999822},{"$f":"IF(H980=\"\",\"\",G980-H980)","v":5.0000000000000178},"15:50:00","15:55:00"]
[{"$f":"IF(AND(B981=$B$1,K981=\"\"),\"２\",IF(AND(B981=$B$1,K981<>\"\"),\"１\",IF(B981>$B$1,\"３\",\"4\")))","v":"4"},"2017-06-23",null,16,"done!","フリーマン打合せ",60,{"$f":"IF(OR(J981=\"\",K981=\"\"),\"\",(K981-J981)/TIMEVALUE(\"1:00\")*60)","v":60.000000000000107},{"$f":"IF(H981=\"\",\"\",G981-H981)","v":-1.0658141036401503E-13},"16:00:00","17:00:00"]
[{"$f":"IF(AND(B982=$B$1,K982=\"\"),\"２\",IF(AND(B982=$B$1,K982<>\"\"),\"１\",IF(B982>$B$1,\"３\",\"4\")))","v":"4"},"2017-06-23","h",17,"done!","gmail、yahooメールチェック（夕方）",10,{"$f":"IF(OR(J982=\"\",K982=\"\"),\"\",(K982-J982)/TIMEVALUE(\"1:00\")*60)","v":14.999999999999947},{"$f":"IF(H982=\"\",\"\",G982-H982)","v":-4.9999999999999467},"17:00:00","17:15:00"]
[{"$f":"IF(AND(B983=$B$1,K983=\"\"),\"２\",IF(AND(B983=$B$1,K983<>\"\"),\"１\",IF(B983>$B$1,\"３\",\"4\")))","v":"4"},"2017-06-23",null,18,"done!","STS懇親会",240,{"$f":"IF(OR(J983=\"\",K983=\"\"),\"\",(K983-J983)/TIMEVALUE(\"1:00\")*60)","v":300.00000000000006},{"$f":"IF(H983=\"\",\"\",G983-H983)","v":-60.000000000000057},"17:15:00","22:15:00"]
[{"$f":"IF(AND(B984=$B$1,K984=\"\"),\"２\",IF(AND(B984=$B$1,K984<>\"\"),\"１\",IF(B984>$B$1,\"３\",\"4\")))","v":"4"},"2017-06-23",null,18,"done!","STS懇親会から帰宅",90,{"$f":"IF(OR(J984=\"\",K984=\"\"),\"\",(K984-J984)/TIMEVALUE(\"1:00\")*60)","v":74.999999999999886},{"$f":"IF(H984=\"\",\"\",G984-H984)","v":15.000000000000114},"22:15:00","23:30:00"]
[{"$f":"IF(AND(B985=$B$1,K985=\"\"),\"２\",IF(AND(B985=$B$1,K985<>\"\"),\"１\",IF(B985>$B$1,\"３\",\"4\")))","v":"4"},"2017-06-23","h",21,"done!","ブログ更新",120,{"$f":"IF(OR(J985=\"\",K985=\"\"),\"\",(K985-J985)/TIMEVALUE(\"1:00\")*60)","v":149.99999999999994},{"$f":"IF(H985=\"\",\"\",G985-H985)","v":-29.999999999999943},"23:30:00",1.0833333333333333]